Workbook

Sheet Mi Pedido lista
B2: Nivel | C2: Elegir Sala/Grado/Año | D2: Nombre y Apellido | E2: Álbum | F2: Individual | G2: Grupal | H2: Llavero | I2: Digital | J2: Sub-Total s/álbum
J3: =IF(Tabla221618[[#This Row],[Álbum]]<1,Tabla221618[[#This Row],[Individual]]*Tabla1[Individual]+Tabla221618[[#This Row],[Grupal]]*Tabla1[Grupal]+Tabla221618[[#This Row],[Llavero]]*Tabla1[Llavero]+Tabla221618[[#This Row],[Digital]]*Tabla1[Digital],Tabla221618[[#This Row],[Individual]]*Tabla1[Ad. Ind.]+Tabla221618[[#This Row],[Grupal]]*Tabla1[Ad. Grupal]+Tabla221618[[#This Row],[Llavero]]*Tabla1[Ad. Llavero]+Tabla221618[[#This Row],[Digital]]*Tabla1[Ad. Digital]) -> 0
J4: =IF(Tabla221618[[#This Row],[Álbum]]<1,Tabla221618[[#This Row],[Individual]]*Tabla1[Individual]+Tabla221618[[#This Row],[Grupal]]*Tabla1[Grupal]+Tabla221618[[#This Row],[Llavero]]*Tabla1[Llavero]+Tabla221618[[#This Row],[Digital]]*Tabla1[Digital],Tabla221618[[#This Row],[Individual]]*Tabla1[Ad. Ind.]+Tabla221618[[#This Row],[Grupal]]*Tabla1[Ad. Grupal]+Tabla221618[[#This Row],[Llavero]]*Tabla1[Ad. Llavero]+Tabla221618[[#This Row],[Digital]]*Tabla1[Ad. Digital]) -> 0
J5: =IF(Tabla221618[[#This Row],[Álbum]]<1,Tabla221618[[#This Row],[Individual]]*Tabla1[Individual]+Tabla221618[[#This Row],[Grupal]]*Tabla1[Grupal]+Tabla221618[[#This Row],[Llavero]]*Tabla1[Llavero]+Tabla221618[[#This Row],[Digital]]*Tabla1[Digital],Tabla221618[[#This Row],[Individual]]*Tabla1[Ad. Ind.]+Tabla221618[[#This Row],[Grupal]]*Tabla1[Ad. Grupal]+Tabla221618[[#This Row],[Llavero]]*Tabla1[Ad. Llavero]+Tabla221618[[#This Row],[Digital]]*Tabla1[Ad. Digital]) -> 0
J6: =IF(Tabla221618[[#This Row],[Álbum]]<1,Tabla221618[[#This Row],[Individual]]*Tabla1[Individual]+Tabla221618[[#This Row],[Grupal]]*Tabla1[Grupal]+Tabla221618[[#This Row],[Llavero]]*Tabla1[Llavero]+Tabla221618[[#This Row],[Digital]]*Tabla1[Digital],Tabla221618[[#This Row],[Individual]]*Tabla1[Ad. Ind.]+Tabla221618[[#This Row],[Grupal]]*Tabla1[Ad. Grupal]+Tabla221618[[#This Row],[Llavero]]*Tabla1[Ad. Llavero]+Tabla221618[[#This Row],[Digital]]*Tabla1[Ad. Digital]) -> 0
J7: =IF(Tabla221618[[#This Row],[Álbum]]<1,Tabla221618[[#This Row],[Individual]]*Tabla1[Individual]+Tabla221618[[#This Row],[Grupal]]*Tabla1[Grupal]+Tabla221618[[#This Row],[Llavero]]*Tabla1[Llavero]+Tabla221618[[#This Row],[Digital]]*Tabla1[Digital],Tabla221618[[#This Row],[Individual]]*Tabla1[Ad. Ind.]+Tabla221618[[#This Row],[Grupal]]*Tabla1[Ad. Grupal]+Tabla221618[[#This Row],[Llavero]]*Tabla1[Ad. Llavero]+Tabla221618[[#This Row],[Digital]]*Tabla1[Ad. Digital]) -> 0
J8: =IF(Tabla221618[[#This Row],[Álbum]]<1,Tabla221618[[#This Row],[Individual]]*Tabla1[Individual]+Tabla221618[[#This Row],[Grupal]]*Tabla1[Grupal]+Tabla221618[[#This Row],[Llavero]]*Tabla1[Llavero]+Tabla221618[[#This Row],[Digital]]*Tabla1[Digital],Tabla221618[[#This Row],[Individual]]*Tabla1[Ad. Ind.]+Tabla221618[[#This Row],[Grupal]]*Tabla1[Ad. Grupal]+Tabla221618[[#This Row],[Llavero]]*Tabla1[Ad. Llavero]+Tabla221618[[#This Row],[Digital]]*Tabla1[Ad. Digital]) -> 0
B10: Importe | C10: =IF(SUM(Tabla221618[Álbum])<2,SUM(Tabla221618[Álbum])*Tabla1[Álbum],SUM(Tabla221618[Álbum],-1)*Tabla1[Promoción Hnos.]+Tabla1[Álbum])+SUM(Tabla221618[Sub-Total s/álbum]) -> 0 | F10: Contacto | G10: fotosfarmingdale@sonarproducciones.com.ar
B11: Link mPago | C11: =IFERROR(VLOOKUP(C10,Tabla2[[$]:[Link]],2,FALSE),"No disponible. Envío de dinero o CVU") -> No disponible. Envío de dinero o CVU
B13: DATOS MERCADO PAGO
B14: Correo | C14: titosonar@yahoo.com.ar
B15: CVU | C15: =CONCATENATE("0000003100030433077821") -> 0000003100030433077821
B16: Alias | C16: soga.cejas.codos.mp

Sheet BD
A1: Álbum | B1: Ad. Ind. | C1: Ad. Grupal | D1: Individual | E1: Grupal | F1: Promoción Hnos. | G1: Ad. Llavero | H1: Ad. Digital | I1: Llavero | J1: Digital | L1: Inicial
A2: 4700 | B2: 1500 | C2: 1500 | D2: 1900 | E2: 2100 | F2: 4000 | G2: 5400 | H2: 2000 | I2: 5400 | J2: 2000 | L2: Primario
L3: Secundario
A7: Tipo | B7: $ | C7: Link
A8: Álbum | B8: 4700 | C8: https://mpago.la/1VVCWVk
A9: Promoción Hermanos | B9: 8700 | C9: https://mpago.la/1QagD2T
A10: Individual | B10: 1900 | C10: https://mpago.la/1VqHNhm
A11: Grupal | B11: 2100 | C11: https://mpago.la/2mLXavN
A12: Individual y Grupal | B12: 4000 | C12: https://mpago.la/2MRi4oU
A13: Digital | B13: 2000 | C13: https://mpago.la/2shgUVD

Sheet Jardín
A1: ID | B1: Sala | C1: - | D1: Alumno | E1: ID2
A2: =IF(Tabla19[[#This Row],[Alumno]]="","",ROW()-1) -> 1 | B2: K2A | D2: Amigo Mateo Luca | E2: =Tabla19[[#This Row],[ID]] -> 1
A3: =IF(Tabla19[[#This Row],[Alumno]]="","",ROW()-1) -> 2 | B3: K2A | D3: Bangerter Lorenzo DT | E3: =Tabla19[[#This Row],[ID]] -> 2
A4: =IF(Tabla19[[#This Row],[Alumno]]="","",ROW()-1) -> 3 | B4: K2A | D4: Berasategui Simón DT | E4: =Tabla19[[#This Row],[ID]] -> 3
A5: =IF(Tabla19[[#This Row],[Alumno]]="","",ROW()-1) -> 4 | B5: K2A | D5: Creado Ignacio DT | E5: =Tabla19[[#This Row],[ID]] -> 4
A6: =IF(Tabla19[[#This Row],[Alumno]]="","",ROW()-1) -> 5 | B6: K2A | D6: De Marco Maite DT | E6: =Tabla19[[#This Row],[ID]] -> 5
A7: =IF(Tabla19[[#This Row],[Alumno]]="","",ROW()-1) -> 6 | B7: K2A | D7: Diez Nahitan DT | E7: =Tabla19[[#This Row],[ID]] -> 6
A8: =IF(Tabla19[[#This Row],[Alumno]]="","",ROW()-1) -> 7 | B8: K2A | D8: Elizalde Neira Justina | E8: =Tabla19[[#This Row],[ID]] -> 7
A9: =IF(Tabla19[[#This Row],[Alumno]]="","",ROW()-1) -> 8 | B9: K2A | D9: Gallo Saporiti Delfina DT | E9: =Tabla19[[#This Row],[ID]] -> 8
A10: =IF(Tabla19[[#This Row],[Alumno]]="","",ROW()-1) -> 9 | B10: K2A | D10: Iglesias Jerónimo DT | E10: =Tabla19[[#This Row],[ID]] -> 9
A11: =IF(Tabla19[[#This Row],[Alumno]]="","",ROW()-1) -> 10 | B11: K2A | D11: Kenar Delfina Milena | E11: =Tabla19[[#This Row],[ID]] -> 10
A12: =IF(Tabla19[[#This Row],[Alumno]]="","",ROW()-1) -> 11 | B12: K2A | D12: Marotta Filippa | E12: =Tabla19[[#This Row],[ID]] -> 11
A13: =IF(Tabla19[[#This Row],[Alumno]]="","",ROW()-1) -> 12 | B13: K2A | D13: Milani Pierina DT | E13: =Tabla19[[#This Row],[ID]] -> 12
... A171: =IF(Tabla19[[#This Row],[Alumno]]="","",ROW()-1) -> 170 | B171: K5B | D171: Vásquez Segundo | E171: =Tabla19[[#This Row],[ID]] -> 170
A172: =IF(Tabla19[[#This Row],[Alumno]]="","",ROW()-1) | E172: =Tabla19[[#This Row],[ID]]
A173: =IF(Tabla19[[#This Row],[Alumno]]="","",ROW()-1) | E173: =Tabla19[[#This Row],[ID]]
A174: =IF(Tabla19[[#This Row],[Alumno]]="","",ROW()-1) | E174: =Tabla19[[#This Row],[ID]]
A175: =IF(Tabla19[[#This Row],[Alumno]]="","",ROW()-1) | E175: =Tabla19[[#This Row],[ID]]
A176: =IF(Tabla19[[#This Row],[Alumno]]="","",ROW()-1) | E176: =Tabla19[[#This Row],[ID]]
A177: =IF(Tabla19[[#This Row],[Alumno]]="","",ROW()-1) | E177: =Tabla19[[#This Row],[ID]]
A178: =IF(Tabla19[[#This Row],[Alumno]]="","",ROW()-1) | E178: =Tabla19[[#This Row],[ID]]
A179: =IF(Tabla19[[#This Row],[Alumno]]="","",ROW()-1) | E179: =Tabla19[[#This Row],[ID]]
A180: =IF(Tabla19[[#This Row],[Alumno]]="","",ROW()-1) | E180: =Tabla19[[#This Row],[ID]]
A181: =IF(Tabla19[[#This Row],[Alumno]]="","",ROW()-1) | E181: =Tabla19[[#This Row],[ID]]
A182: =IF(Tabla19[[#This Row],[Alumno]]="","",ROW()-1) | E182: =Tabla19[[#This Row],[ID]]
A183: =IF(Tabla19[[#This Row],[Alumno]]="","",ROW()-1) | E183: =Tabla19[[#This Row],[ID]]
... A190: =IF(Tabla19[[#This Row],[Alumno]]="","",ROW()-1) | E190: =Tabla19[[#This Row],[ID]]

Sheet Primaria
A1: ID | B1: Sala | C1: - | D1: Alumno | E1: ID2
A2: =IF(Tabla199[[#This Row],[Alumno]]="","",ROW()-1) | B2: 1A | E2: =Tabla199[[#This Row],[ID]]
A3: =IF(Tabla199[[#This Row],[Alumno]]="","",ROW()-1) | B3: 1A | E3: =Tabla199[[#This Row],[ID]]
A4: =IF(Tabla199[[#This Row],[Alumno]]="","",ROW()-1) | B4: 1A | E4: =Tabla199[[#This Row],[ID]]
A5: =IF(Tabla199[[#This Row],[Alumno]]="","",ROW()-1) | B5: 1A | E5: =Tabla199[[#This Row],[ID]]
A6: =IF(Tabla199[[#This Row],[Alumno]]="","",ROW()-1) | B6: 1A | E6: =Tabla199[[#This Row],[ID]]
A7: =IF(Tabla199[[#This Row],[Alumno]]="","",ROW()-1) | B7: 1A | E7: =Tabla199[[#This Row],[ID]]
A8: =IF(Tabla199[[#This Row],[Alumno]]="","",ROW()-1) | B8: 1A | E8: =Tabla199[[#This Row],[ID]]
A9: =IF(Tabla199[[#This Row],[Alumno]]="","",ROW()-1) | B9: 1A | E9: =Tabla199[[#This Row],[ID]]
A10: =IF(Tabla199[[#This Row],[Alumno]]="","",ROW()-1) | B10: 1A | E10: =Tabla199[[#This Row],[ID]]
A11: =IF(Tabla199[[#This Row],[Alumno]]="","",ROW()-1) | B11: 1A | E11: =Tabla199[[#This Row],[ID]]
A12: =IF(Tabla199[[#This Row],[Alumno]]="","",ROW()-1) | B12: 1A | E12: =Tabla199[[#This Row],[ID]]
A13: =IF(Tabla199[[#This Row],[Alumno]]="","",ROW()-1) | B13: 1A | E13: =Tabla199[[#This Row],[ID]]
... A300: =IF(Tabla199[[#This Row],[Alumno]]="","",ROW()-1) | B300: 5B | E300: =Tabla199[[#This Row],[ID]]
A301: =IF(Tabla199[[#This Row],[Alumno]]="","",ROW()-1) | B301: 6 | E301: =Tabla199[[#This Row],[ID]]
A302: =IF(Tabla199[[#This Row],[Alumno]]="","",ROW()-1) | B302: 6 | E302: =Tabla199[[#This Row],[ID]]
A303: =IF(Tabla199[[#This Row],[Alumno]]="","",ROW()-1) | B303: 6 | E303: =Tabla199[[#This Row],[ID]]
A304: =IF(Tabla199[[#This Row],[Alumno]]="","",ROW()-1) | B304: 6 | E304: =Tabla199[[#This Row],[ID]]
A305: =IF(Tabla199[[#This Row],[Alumno]]="","",ROW()-1) | B305: 6 | E305: =Tabla199[[#This Row],[ID]]
A306: =IF(Tabla199[[#This Row],[Alumno]]="","",ROW()-1) | B306: 6 | E306: =Tabla199[[#This Row],[ID]]
A307: =IF(Tabla199[[#This Row],[Alumno]]="","",ROW()-1) | B307: 6 | E307: =Tabla199[[#This Row],[ID]]
A308: =IF(Tabla199[[#This Row],[Alumno]]="","",ROW()-1) | B308: 6 | E308: =Tabla199[[#This Row],[ID]]
A309: =IF(Tabla199[[#This Row],[Alumno]]="","",ROW()-1) | B309: 6 | E309: =Tabla199[[#This Row],[ID]]
A310: =IF(Tabla199[[#This Row],[Alumno]]="","",ROW()-1) | B310: 6 | E310: =Tabla199[[#This Row],[ID]]
A311: =IF(Tabla199[[#This Row],[Alumno]]="","",ROW()-1) | B311: 6 | E311: =Tabla199[[#This Row],[ID]]
A312: =IF(Tabla199[[#This Row],[Alumno]]="","",ROW()-1) | B312: 6 | E312: =Tabla199[[#This Row],[ID]]
... A331: =IF(Tabla199[[#This Row],[Alumno]]="","",ROW()-1) | B331: 6 | E331: =Tabla199[[#This Row],[ID]]
A332: =IF(Tabla199[[#This Row],[Alumno]]="","",ROW()-1) | E332: =Tabla199[[#This Row],[ID]]
A333: =IF(Tabla199[[#This Row],[Alumno]]="","",ROW()-1) | E333: =Tabla199[[#This Row],[ID]]
A334: =IF(Tabla199[[#This Row],[Alumno]]="","",ROW()-1) | E334: =Tabla199[[#This Row],[ID]]
A335: =IF(Tabla199[[#This Row],[Alumno]]="","",ROW()-1) | E335: =Tabla199[[#This Row],[ID]]
A336: =IF(Tabla199[[#This Row],[Alumno]]="","",ROW()-1) | E336: =Tabla199[[#This Row],[ID]]
A337: =IF(Tabla199[[#This Row],[Alumno]]="","",ROW()-1) | E337: =Tabla199[[#This Row],[ID]]
A338: =IF(Tabla199[[#This Row],[Alumno]]="","",ROW()-1) | E338: =Tabla199[[#This Row],[ID]]
A339: =IF(Tabla199[[#This Row],[Alumno]]="","",ROW()-1) | E339: =Tabla199[[#This Row],[ID]]
A340: =IF(Tabla199[[#This Row],[Alumno]]="","",ROW()-1) | E340: =Tabla199[[#This Row],[ID]]
A341: =IF(Tabla199[[#This Row],[Alumno]]="","",ROW()-1) | E341: =Tabla199[[#This Row],[ID]]
A342: =IF(Tabla199[[#This Row],[Alumno]]="","",ROW()-1) | E342: =Tabla199[[#This Row],[ID]]
A343: =IF(Tabla199[[#This Row],[Alumno]]="","",ROW()-1) | E343: =Tabla199[[#This Row],[ID]]
... A400: =IF(Tabla199[[#This Row],[Alumno]]="","",ROW()-1) | E400: =Tabla199[[#This Row],[ID]]

Sheet Secundaria
A1: ID | B1: Sala | C1: - | D1: Columna1 | E1: ID2
A2: =IF(Tabla19912[[#This Row],[Columna1]]="","",ROW()-1) | B2: 1SA | E2: =Tabla19912[[#This Row],[ID]]
A3: =IF(Tabla19912[[#This Row],[Columna1]]="","",ROW()-1) | B3: 1SA | E3: =Tabla19912[[#This Row],[ID]]
A4: =IF(Tabla19912[[#This Row],[Columna1]]="","",ROW()-1) | B4: 1SA | E4: =Tabla19912[[#This Row],[ID]]
A5: =IF(Tabla19912[[#This Row],[Columna1]]="","",ROW()-1) | B5: 1SA | E5: =Tabla19912[[#This Row],[ID]]
A6: =IF(Tabla19912[[#This Row],[Columna1]]="","",ROW()-1) | B6: 1SA | E6: =Tabla19912[[#This Row],[ID]]
A7: =IF(Tabla19912[[#This Row],[Columna1]]="","",ROW()-1) | B7: 1SA | E7: =Tabla19912[[#This Row],[ID]]
A8: =IF(Tabla19912[[#This Row],[Columna1]]="","",ROW()-1) | B8: 1SA | E8: =Tabla19912[[#This Row],[ID]]
A9: =IF(Tabla19912[[#This Row],[Columna1]]="","",ROW()-1) | B9: 1SA | E9: =Tabla19912[[#This Row],[ID]]
A10: =IF(Tabla19912[[#This Row],[Columna1]]="","",ROW()-1) | B10: 1SA | E10: =Tabla19912[[#This Row],[ID]]
A11: =IF(Tabla19912[[#This Row],[Columna1]]="","",ROW()-1) | B11: 1SA | E11: =Tabla19912[[#This Row],[ID]]
A12: =IF(Tabla19912[[#This Row],[Columna1]]="","",ROW()-1) | B12: 1SA | E12: =Tabla19912[[#This Row],[ID]]
A13: =IF(Tabla19912[[#This Row],[Columna1]]="","",ROW()-1) | B13: 1SA | E13: =Tabla19912[[#This Row],[ID]]
... A254: =IF(Tabla19912[[#This Row],[Columna1]]="","",ROW()-1) | B254: 6SE | E254: =Tabla19912[[#This Row],[ID]]
A255: =IF(Tabla19912[[#This Row],[Columna1]]="","",ROW()-1) | E255: =Tabla19912[[#This Row],[ID]]
A256: =IF(Tabla19912[[#This Row],[Columna1]]="","",ROW()-1) | E256: =Tabla19912[[#This Row],[ID]]
A257: =IF(Tabla19912[[#This Row],[Columna1]]="","",ROW()-1) | E257: =Tabla19912[[#This Row],[ID]]
A258: =IF(Tabla19912[[#This Row],[Columna1]]="","",ROW()-1) | E258: =Tabla19912[[#This Row],[ID]]
A259: =IF(Tabla19912[[#This Row],[Columna1]]="","",ROW()-1) | E259: =Tabla19912[[#This Row],[ID]]
A260: =IF(Tabla19912[[#This Row],[Columna1]]="","",ROW()-1) | E260: =Tabla19912[[#This Row],[ID]]
A261: =IF(Tabla19912[[#This Row],[Columna1]]="","",ROW()-1) | E261: =Tabla19912[[#This Row],[ID]]
A262: =IF(Tabla19912[[#This Row],[Columna1]]="","",ROW()-1) | E262: =Tabla19912[[#This Row],[ID]]
A263: =IF(Tabla19912[[#This Row],[Columna1]]="","",ROW()-1) | E263: =Tabla19912[[#This Row],[ID]]
A264: =IF(Tabla19912[[#This Row],[Columna1]]="","",ROW()-1) | E264: =Tabla19912[[#This Row],[ID]]
A265: =IF(Tabla19912[[#This Row],[Columna1]]="","",ROW()-1) | E265: =Tabla19912[[#This Row],[ID]]
A266: =IF(Tabla19912[[#This Row],[Columna1]]="","",ROW()-1) | E266: =Tabla19912[[#This Row],[ID]]
... A302: =IF(Tabla19912[[#This Row],[Columna1]]="","",ROW()-1) | E302: =Tabla19912[[#This Row],[ID]]

Sheet Carga 1er alumno
A1: Cant. Salas | B1: Nivel | C1: Sala | D1: Cant. Alumnos
A2: =IF(Tabla13[[#This Row],[Nivel]]=BD!$L$1,'Filtrar Salas Grado Año'!$B$2,IF(Tabla13[[#This Row],[Nivel]]=BD!$L$2,'Filtrar Salas Grado Año'!$D$2,IF(Tabla13[[#This Row],[Nivel]]=BD!$L$3,'Filtrar Salas Grado Año'!$F$2,""))) | B2: ='Mi Pedido lista'!B3 -> 0 | C2: ='Mi Pedido lista'!C3 -> 0 | D2: =IF(Tabla13[[#This Row],[Nivel]]=BD!$L$1,COUNTIFS(Tabla19[Alumno],"<>",Tabla19[Sala],Tabla13[[#This Row],[Sala]]),IF(Tabla13[[#This Row],[Nivel]]=BD!$L$2,COUNTIFS(Tabla199[Alumno],"<>",Tabla199[Sala],Tabla13[[#This Row],[Sala]]),IF(Tabla13[[#This Row],[Nivel]]=BD!$L$3,COUNTIFS(Tabla19912[Columna1],"<>",Tabla19912[Sala],Tabla13[[#This Row],[Sala]]),""))) | F2: Contador | G2: ID | H2: Alumno
F3: =IF(Tabla13[Cant. Alumnos]>1,IF(F2="","",IF(ISNUMBER(F2)=FALSE,1,IF(F2=Tabla13[Cant. Alumnos],"",F2+1))),"") -> 1 | G3: {=IF(Tabla21[[#This Row],[Contador]]="","",IF(Tabla13[Nivel]=BD!$L$1,IFERROR(SMALL(IF(Tabla19[Sala]=$C$2,Tabla19[ID2]),ROW()-2),""),IF(Tabla13[Nivel]=BD!$L$2,IFERROR(SMALL(IF(Tabla199[Sala]=$C$2,Tabla199[ID2]),ROW()-2),""),IFERROR(SMALL(IF(Tabla19912[Sala]=$C$2,Tabla19912[ID2]),ROW()-2),""))))} | H3: =IF(Tabla21[[#This Row],[ID]]="","",IF(Tabla13[Nivel]=BD!$L$1,VLOOKUP(Tabla21[[#This Row],[ID]],Tabla19[],4,0),IF(Tabla13[Nivel]=BD!$L$2,VLOOKUP(Tabla21[[#This Row],[ID]],Tabla199[],4,0),VLOOKUP(Tabla21[[#This Row],[ID]],Tabla19912[],4,0))))
F4: =IF(Tabla13[Cant. Alumnos]>1,IF(F3="","",IF(ISNUMBER(F3)=FALSE,1,IF(F3=Tabla13[Cant. Alumnos],"",F3+1))),"") -> 2 | G4: {=IF(Tabla21[[#This Row],[Contador]]="","",IF(Tabla13[Nivel]=BD!$L$1,IFERROR(SMALL(IF(Tabla19[Sala]=$C$2,Tabla19[ID2]),ROW()-2),""),IF(Tabla13[Nivel]=BD!$L$2,IFERROR(SMALL(IF(Tabla199[Sala]=$C$2,Tabla199[ID2]),ROW()-2),""),IFERROR(SMALL(IF(Tabla19912[Sala]=$C$2,Tabla19912[ID2]),ROW()-2),""))))} | H4: =IF(Tabla21[[#This Row],[ID]]="","",IF(Tabla13[Nivel]=BD!$L$1,VLOOKUP(Tabla21[[#This Row],[ID]],Tabla19[],4,0),IF(Tabla13[Nivel]=BD!$L$2,VLOOKUP(Tabla21[[#This Row],[ID]],Tabla199[],4,0),VLOOKUP(Tabla21[[#This Row],[ID]],Tabla19912[],4,0))))
F5: =IF(Tabla13[Cant. Alumnos]>1,IF(F4="","",IF(ISNUMBER(F4)=FALSE,1,IF(F4=Tabla13[Cant. Alumnos],"",F4+1))),"") -> 3 | G5: {=IF(Tabla21[[#This Row],[Contador]]="","",IF(Tabla13[Nivel]=BD!$L$1,IFERROR(SMALL(IF(Tabla19[Sala]=$C$2,Tabla19[ID2]),ROW()-2),""),IF(Tabla13[Nivel]=BD!$L$2,IFERROR(SMALL(IF(Tabla199[Sala]=$C$2,Tabla199[ID2]),ROW()-2),""),IFERROR(SMALL(IF(Tabla19912[Sala]=$C$2,Tabla19912[ID2]),ROW()-2),""))))} | H5: =IF(Tabla21[[#This Row],[ID]]="","",IF(Tabla13[Nivel]=BD!$L$1,VLOOKUP(Tabla21[[#This Row],[ID]],Tabla19[],4,0),IF(Tabla13[Nivel]=BD!$L$2,VLOOKUP(Tabla21[[#This Row],[ID]],Tabla199[],4,0),VLOOKUP(Tabla21[[#This Row],[ID]],Tabla19912[],4,0))))
B6: Orden | C6: Sala | F6: =IF(Tabla13[Cant. Alumnos]>1,IF(F5="","",IF(ISNUMBER(F5)=FALSE,1,IF(F5=Tabla13[Cant. Alumnos],"",F5+1))),"") -> 4 | G6: {=IF(Tabla21[[#This Row],[Contador]]="","",IF(Tabla13[Nivel]=BD!$L$1,IFERROR(SMALL(IF(Tabla19[Sala]=$C$2,Tabla19[ID2]),ROW()-2),""),IF(Tabla13[Nivel]=BD!$L$2,IFERROR(SMALL(IF(Tabla199[Sala]=$C$2,Tabla199[ID2]),ROW()-2),""),IFERROR(SMALL(IF(Tabla19912[Sala]=$C$2,Tabla19912[ID2]),ROW()-2),""))))} | H6: =IF(Tabla21[[#This Row],[ID]]="","",IF(Tabla13[Nivel]=BD!$L$1,VLOOKUP(Tabla21[[#This Row],[ID]],Tabla19[],4,0),IF(Tabla13[Nivel]=BD!$L$2,VLOOKUP(Tabla21[[#This Row],[ID]],Tabla199[],4,0),VLOOKUP(Tabla21[[#This Row],[ID]],Tabla19912[],4,0))))
B7: =IF(Tabla13[Cant. Salas]="","",IF(B6="","",IF(ISNUMBER(B6)=FALSE,1,IF(B6=Tabla13[Cant. Salas],"",B6+1)))) | C7: =IF(IF(Tabla12[[#This Row],[Orden]]="","",IF(Tabla13[Nivel]=BD!$L$1,'Filtrar Salas Grado Año'!A3,IF(Tabla13[Nivel]=BD!$L$2,'Filtrar Salas Grado Año'!C3,'Filtrar Salas Grado Año'!E3)))="(en blanco)","",IF(Tabla12[[#This Row],[Orden]]="","",IF(Tabla13[Nivel]=BD!$L$1,'Filtrar Salas Grado Año'!A3,IF(Tabla13[Nivel]=BD!$L$2,'Filtrar Salas Grado Año'!C3,'Filtrar Salas Grado Año'!E3)))) | F7: =IF(Tabla13[Cant. Alumnos]>1,IF(F6="","",IF(ISNUMBER(F6)=FALSE,1,IF(F6=Tabla13[Cant. Alumnos],"",F6+1))),"") -> 5 | G7: {=IF(Tabla21[[#This Row],[Contador]]="","",IF(Tabla13[Nivel]=BD!$L$1,IFERROR(SMALL(IF(Tabla19[Sala]=$C$2,Tabla19[ID2]),ROW()-2),""),IF(Tabla13[Nivel]=BD!$L$2,IFERROR(SMALL(IF(Tabla199[Sala]=$C$2,Tabla199[ID2]),ROW()-2),""),IFERROR(SMALL(IF(Tabla19912[Sala]=$C$2,Tabla19912[ID2]),ROW()-2),""))))} | H7: =IF(Tabla21[[#This Row],[ID]]="","",IF(Tabla13[Nivel]=BD!$L$1,VLOOKUP(Tabla21[[#This Row],[ID]],Tabla19[],4,0),IF(Tabla13[Nivel]=BD!$L$2,VLOOKUP(Tabla21[[#This Row],[ID]],Tabla199[],4,0),VLOOKUP(Tabla21[[#This Row],[ID]],Tabla19912[],4,0))))
B8: =IF(Tabla13[Cant. Salas]="","",IF(B7="","",IF(ISNUMBER(B7)=FALSE,1,IF(B7=Tabla13[Cant. Salas],"",B7+1)))) | C8: =IF(IF(Tabla12[[#This Row],[Orden]]="","",IF(Tabla13[Nivel]=BD!$L$1,'Filtrar Salas Grado Año'!A4,IF(Tabla13[Nivel]=BD!$L$2,'Filtrar Salas Grado Año'!C4,'Filtrar Salas Grado Año'!E4)))="(en blanco)","",IF(Tabla12[[#This Row],[Orden]]="","",IF(Tabla13[Nivel]=BD!$L$1,'Filtrar Salas Grado Año'!A4,IF(Tabla13[Nivel]=BD!$L$2,'Filtrar Salas Grado Año'!C4,'Filtrar Salas Grado Año'!E4)))) | F8: =IF(Tabla13[Cant. Alumnos]>1,IF(F7="","",IF(ISNUMBER(F7)=FALSE,1,IF(F7=Tabla13[Cant. Alumnos],"",F7+1))),"") -> 6 | G8: {=IF(Tabla21[[#This Row],[Contador]]="","",IF(Tabla13[Nivel]=BD!$L$1,IFERROR(SMALL(IF(Tabla19[Sala]=$C$2,Tabla19[ID2]),ROW()-2),""),IF(Tabla13[Nivel]=BD!$L$2,IFERROR(SMALL(IF(Tabla199[Sala]=$C$2,Tabla199[ID2]),ROW()-2),""),IFERROR(SMALL(IF(Tabla19912[Sala]=$C$2,Tabla19912[ID2]),ROW()-2),""))))} | H8: =IF(Tabla21[[#This Row],[ID]]="","",IF(Tabla13[Nivel]=BD!$L$1,VLOOKUP(Tabla21[[#This Row],[ID]],Tabla19[],4,0),IF(Tabla13[Nivel]=BD!$L$2,VLOOKUP(Tabla21[[#This Row],[ID]],Tabla199[],4,0),VLOOKUP(Tabla21[[#This Row],[ID]],Tabla19912[],4,0))))
B9: =IF(Tabla13[Cant. Salas]="","",IF(B8="","",IF(ISNUMBER(B8)=FALSE,1,IF(B8=Tabla13[Cant. Salas],"",B8+1)))) | C9: =IF(IF(Tabla12[[#This Row],[Orden]]="","",IF(Tabla13[Nivel]=BD!$L$1,'Filtrar Salas Grado Año'!A5,IF(Tabla13[Nivel]=BD!$L$2,'Filtrar Salas Grado Año'!C5,'Filtrar Salas Grado Año'!E5)))="(en blanco)","",IF(Tabla12[[#This Row],[Orden]]="","",IF(Tabla13[Nivel]=BD!$L$1,'Filtrar Salas Grado Año'!A5,IF(Tabla13[Nivel]=BD!$L$2,'Filtrar Salas Grado Año'!C5,'Filtrar Salas Grado Año'!E5)))) | F9: =IF(Tabla13[Cant. Alumnos]>1,IF(F8="","",IF(ISNUMBER(F8)=FALSE,1,IF(F8=Tabla13[Cant. Alumnos],"",F8+1))),"") -> 7 | G9: {=IF(Tabla21[[#This Row],[Contador]]="","",IF(Tabla13[Nivel]=BD!$L$1,IFERROR(SMALL(IF(Tabla19[Sala]=$C$2,Tabla19[ID2]),ROW()-2),""),IF(Tabla13[Nivel]=BD!$L$2,IFERROR(SMALL(IF(Tabla199[Sala]=$C$2,Tabla199[ID2]),ROW()-2),""),IFERROR(SMALL(IF(Tabla19912[Sala]=$C$2,Tabla19912[ID2]),ROW()-2),""))))} | H9: =IF(Tabla21[[#This Row],[ID]]="","",IF(Tabla13[Nivel]=BD!$L$1,VLOOKUP(Tabla21[[#This Row],[ID]],Tabla19[],4,0),IF(Tabla13[Nivel]=BD!$L$2,VLOOKUP(Tabla21[[#This Row],[ID]],Tabla199[],4,0),VLOOKUP(Tabla21[[#This Row],[ID]],Tabla19912[],4,0))))
B10: =IF(Tabla13[Cant. Salas]="","",IF(B9="","",IF(ISNUMBER(B9)=FALSE,1,IF(B9=Tabla13[Cant. Salas],"",B9+1)))) | C10: =IF(IF(Tabla12[[#This Row],[Orden]]="","",IF(Tabla13[Nivel]=BD!$L$1,'Filtrar Salas Grado Año'!A6,IF(Tabla13[Nivel]=BD!$L$2,'Filtrar Salas Grado Año'!C6,'Filtrar Salas Grado Año'!E6)))="(en blanco)","",IF(Tabla12[[#This Row],[Orden]]="","",IF(Tabla13[Nivel]=BD!$L$1,'Filtrar Salas Grado Año'!A6,IF(Tabla13[Nivel]=BD!$L$2,'Filtrar Salas Grado Año'!C6,'Filtrar Salas Grado Año'!E6)))) | F10: =IF(Tabla13[Cant. Alumnos]>1,IF(F9="","",IF(ISNUMBER(F9)=FALSE,1,IF(F9=Tabla13[Cant. Alumnos],"",F9+1))),"") -> 8 | G10: {=IF(Tabla21[[#This Row],[Contador]]="","",IF(Tabla13[Nivel]=BD!$L$1,IFERROR(SMALL(IF(Tabla19[Sala]=$C$2,Tabla19[ID2]),ROW()-2),""),IF(Tabla13[Nivel]=BD!$L$2,IFERROR(SMALL(IF(Tabla199[Sala]=$C$2,Tabla199[ID2]),ROW()-2),""),IFERROR(SMALL(IF(Tabla19912[Sala]=$C$2,Tabla19912[ID2]),ROW()-2),""))))} | H10: =IF(Tabla21[[#This Row],[ID]]="","",IF(Tabla13[Nivel]=BD!$L$1,VLOOKUP(Tabla21[[#This Row],[ID]],Tabla19[],4,0),IF(Tabla13[Nivel]=BD!$L$2,VLOOKUP(Tabla21[[#This Row],[ID]],Tabla199[],4,0),VLOOKUP(Tabla21[[#This Row],[ID]],Tabla19912[],4,0))))
B11: =IF(Tabla13[Cant. Salas]="","",IF(B10="","",IF(ISNUMBER(B10)=FALSE,1,IF(B10=Tabla13[Cant. Salas],"",B10+1)))) | C11: =IF(IF(Tabla12[[#This Row],[Orden]]="","",IF(Tabla13[Nivel]=BD!$L$1,'Filtrar Salas Grado Año'!A7,IF(Tabla13[Nivel]=BD!$L$2,'Filtrar Salas Grado Año'!C7,'Filtrar Salas Grado Año'!E7)))="(en blanco)","",IF(Tabla12[[#This Row],[Orden]]="","",IF(Tabla13[Nivel]=BD!$L$1,'Filtrar Salas Grado Año'!A7,IF(Tabla13[Nivel]=BD!$L$2,'Filtrar Salas Grado Año'!C7,'Filtrar Salas Grado Año'!E7)))) | F11: =IF(Tabla13[Cant. Alumnos]>1,IF(F10="","",IF(ISNUMBER(F10)=FALSE,1,IF(F10=Tabla13[Cant. Alumnos],"",F10+1))),"") -> 9 | G11: {=IF(Tabla21[[#This Row],[Contador]]="","",IF(Tabla13[Nivel]=BD!$L$1,IFERROR(SMALL(IF(Tabla19[Sala]=$C$2,Tabla19[ID2]),ROW()-2),""),IF(Tabla13[Nivel]=BD!$L$2,IFERROR(SMALL(IF(Tabla199[Sala]=$C$2,Tabla199[ID2]),ROW()-2),""),IFERROR(SMALL(IF(Tabla19912[Sala]=$C$2,Tabla19912[ID2]),ROW()-2),""))))} | H11: =IF(Tabla21[[#This Row],[ID]]="","",IF(Tabla13[Nivel]=BD!$L$1,VLOOKUP(Tabla21[[#This Row],[ID]],Tabla19[],4,0),IF(Tabla13[Nivel]=BD!$L$2,VLOOKUP(Tabla21[[#This Row],[ID]],Tabla199[],4,0),VLOOKUP(Tabla21[[#This Row],[ID]],Tabla19912[],4,0))))
B12: =IF(Tabla13[Cant. Salas]="","",IF(B11="","",IF(ISNUMBER(B11)=FALSE,1,IF(B11=Tabla13[Cant. Salas],"",B11+1)))) | C12: =IF(IF(Tabla12[[#This Row],[Orden]]="","",IF(Tabla13[Nivel]=BD!$L$1,'Filtrar Salas Grado Año'!A8,IF(Tabla13[Nivel]=BD!$L$2,'Filtrar Salas Grado Año'!C8,'Filtrar Salas Grado Año'!E8)))="(en blanco)","",IF(Tabla12[[#This Row],[Orden]]="","",IF(Tabla13[Nivel]=BD!$L$1,'Filtrar Salas Grado Año'!A8,IF(Tabla13[Nivel]=BD!$L$2,'Filtrar Salas Grado Año'!C8,'Filtrar Salas Grado Año'!E8)))) | F12: =IF(Tabla13[Cant. Alumnos]>1,IF(F11="","",IF(ISNUMBER(F11)=FALSE,1,IF(F11=Tabla13[Cant. Alumnos],"",F11+1))),"") -> 10 | G12: {=IF(Tabla21[[#This Row],[Contador]]="","",IF(Tabla13[Nivel]=BD!$L$1,IFERROR(SMALL(IF(Tabla19[Sala]=$C$2,Tabla19[ID2]),ROW()-2),""),IF(Tabla13[Nivel]=BD!$L$2,IFERROR(SMALL(IF(Tabla199[Sala]=$C$2,Tabla199[ID2]),ROW()-2),""),IFERROR(SMALL(IF(Tabla19912[Sala]=$C$2,Tabla19912[ID2]),ROW()-2),""))))} | H12: =IF(Tabla21[[#This Row],[ID]]="","",IF(Tabla13[Nivel]=BD!$L$1,VLOOKUP(Tabla21[[#This Row],[ID]],Tabla19[],4,0),IF(Tabla13[Nivel]=BD!$L$2,VLOOKUP(Tabla21[[#This Row],[ID]],Tabla199[],4,0),VLOOKUP(Tabla21[[#This Row],[ID]],Tabla19912[],4,0))))
B13: =IF(Tabla13[Cant. Salas]="","",IF(B12="","",IF(ISNUMBER(B12)=FALSE,1,IF(B12=Tabla13[Cant. Salas],"",B12+1)))) | C13: =IF(IF(Tabla12[[#This Row],[Orden]]="","",IF(Tabla13[Nivel]=BD!$L$1,'Filtrar Salas Grado Año'!A9,IF(Tabla13[Nivel]=BD!$L$2,'Filtrar Salas Grado Año'!C9,'Filtrar Salas Grado Año'!E9)))="(en blanco)","",IF(Tabla12[[#This Row],[Orden]]="","",IF(Tabla13[Nivel]=BD!$L$1,'Filtrar Salas Grado Año'!A9,IF(Tabla13[Nivel]=BD!$L$2,'Filtrar Salas Grado Año'!C9,'Filtrar Salas Grado Año'!E9)))) | F13: =IF(Tabla13[Cant. Alumnos]>1,IF(F12="","",IF(ISNUMBER(F12)=FALSE,1,IF(F12=Tabla13[Cant. Alumnos],"",F12+1))),"") -> 11 | G13: {=IF(Tabla21[[#This Row],[Contador]]="","",IF(Tabla13[Nivel]=BD!$L$1,IFERROR(SMALL(IF(Tabla19[Sala]=$C$2,Tabla19[ID2]),ROW()-2),""),IF(Tabla13[Nivel]=BD!$L$2,IFERROR(SMALL(IF(Tabla199[Sala]=$C$2,Tabla199[ID2]),ROW()-2),""),IFERROR(SMALL(IF(Tabla19912[Sala]=$C$2,Tabla19912[ID2]),ROW()-2),""))))} | H13: =IF(Tabla21[[#This Row],[ID]]="","",IF(Tabla13[Nivel]=BD!$L$1,VLOOKUP(Tabla21[[#This Row],[ID]],Tabla19[],4,0),IF(Tabla13[Nivel]=BD!$L$2,VLOOKUP(Tabla21[[#This Row],[ID]],Tabla199[],4,0),VLOOKUP(Tabla21[[#This Row],[ID]],Tabla19912[],4,0))))
B14: =IF(Tabla13[Cant. Salas]="","",IF(B13="","",IF(ISNUMBER(B13)=FALSE,1,IF(B13=Tabla13[Cant. Salas],"",B13+1)))) | C14: =IF(IF(Tabla12[[#This Row],[Orden]]="","",IF(Tabla13[Nivel]=BD!$L$1,'Filtrar Salas Grado Año'!A10,IF(Tabla13[Nivel]=BD!$L$2,'Filtrar Salas Grado Año'!C10,'Filtrar Salas Grado Año'!E10)))="(en blanco)","",IF(Tabla12[[#This Row],[Orden]]="","",IF(Tabla13[Nivel]=BD!$L$1,'Filtrar Salas Grado Año'!A10,IF(Tabla13[Nivel]=BD!$L$2,'Filtrar Salas Grado Año'!C10,'Filtrar Salas Grado Año'!E10)))) | F14: =IF(Tabla13[Cant. Alumnos]>1,IF(F13="","",IF(ISNUMBER(F13)=FALSE,1,IF(F13=Tabla13[Cant. Alumnos],"",F13+1))),"") -> 12 | G14: {=IF(Tabla21[[#This Row],[Contador]]="","",IF(Tabla13[Nivel]=BD!$L$1,IFERROR(SMALL(IF(Tabla19[Sala]=$C$2,Tabla19[ID2]),ROW()-2),""),IF(Tabla13[Nivel]=BD!$L$2,IFERROR(SMALL(IF(Tabla199[Sala]=$C$2,Tabla199[ID2]),ROW()-2),""),IFERROR(SMALL(IF(Tabla19912[Sala]=$C$2,Tabla19912[ID2]),ROW()-2),""))))} | H14: =IF(Tabla21[[#This Row],[ID]]="","",IF(Tabla13[Nivel]=BD!$L$1,VLOOKUP(Tabla21[[#This Row],[ID]],Tabla19[],4,0),IF(Tabla13[Nivel]=BD!$L$2,VLOOKUP(Tabla21[[#This Row],[ID]],Tabla199[],4,0),VLOOKUP(Tabla21[[#This Row],[ID]],Tabla19912[],4,0))))
B15: =IF(Tabla13[Cant. Salas]="","",IF(B14="","",IF(ISNUMBER(B14)=FALSE,1,IF(B14=Tabla13[Cant. Salas],"",B14+1)))) | C15: =IF(IF(Tabla12[[#This Row],[Orden]]="","",IF(Tabla13[Nivel]=BD!$L$1,'Filtrar Salas Grado Año'!A11,IF(Tabla13[Nivel]=BD!$L$2,'Filtrar Salas Grado Año'!C11,'Filtrar Salas Grado Año'!E11)))="(en blanco)","",IF(Tabla12[[#This Row],[Orden]]="","",IF(Tabla13[Nivel]=BD!$L$1,'Filtrar Salas Grado Año'!A11,IF(Tabla13[Nivel]=BD!$L$2,'Filtrar Salas Grado Año'!C11,'Filtrar Salas Grado Año'!E11)))) | F15: =IF(Tabla13[Cant. Alumnos]>1,IF(F14="","",IF(ISNUMBER(F14)=FALSE,1,IF(F14=Tabla13[Cant. Alumnos],"",F14+1))),"") -> 13 | G15: {=IF(Tabla21[[#This Row],[Contador]]="","",IF(Tabla13[Nivel]=BD!$L$1,IFERROR(SMALL(IF(Tabla19[Sala]=$C$2,Tabla19[ID2]),ROW()-2),""),IF(Tabla13[Nivel]=BD!$L$2,IFERROR(SMALL(IF(Tabla199[Sala]=$C$2,Tabla199[ID2]),ROW()-2),""),IFERROR(SMALL(IF(Tabla19912[Sala]=$C$2,Tabla19912[ID2]),ROW()-2),""))))} | H15: =IF(Tabla21[[#This Row],[ID]]="","",IF(Tabla13[Nivel]=BD!$L$1,VLOOKUP(Tabla21[[#This Row],[ID]],Tabla19[],4,0),IF(Tabla13[Nivel]=BD!$L$2,VLOOKUP(Tabla21[[#This Row],[ID]],Tabla199[],4,0),VLOOKUP(Tabla21[[#This Row],[ID]],Tabla19912[],4,0))))
B16: =IF(Tabla13[Cant. Salas]="","",IF(B15="","",IF(ISNUMBER(B15)=FALSE,1,IF(B15=Tabla13[Cant. Salas],"",B15+1)))) | C16: =IF(IF(Tabla12[[#This Row],[Orden]]="","",IF(Tabla13[Nivel]=BD!$L$1,'Filtrar Salas Grado Año'!A12,IF(Tabla13[Nivel]=BD!$L$2,'Filtrar Salas Grado Año'!C12,'Filtrar Salas Grado Año'!E12)))="(en blanco)","",IF(Tabla12[[#This Row],[Orden]]="","",IF(Tabla13[Nivel]=BD!$L$1,'Filtrar Salas Grado Año'!A12,IF(Tabla13[Nivel]=BD!$L$2,'Filtrar Salas Grado Año'!C12,'Filtrar Salas Grado Año'!E12)))) | F16: =IF(Tabla13[Cant. Alumnos]>1,IF(F15="","",IF(ISNUMBER(F15)=FALSE,1,IF(F15=Tabla13[Cant. Alumnos],"",F15+1))),"") -> 14 | G16: {=IF(Tabla21[[#This Row],[Contador]]="","",IF(Tabla13[Nivel]=BD!$L$1,IFERROR(SMALL(IF(Tabla19[Sala]=$C$2,Tabla19[ID2]),ROW()-2),""),IF(Tabla13[Nivel]=BD!$L$2,IFERROR(SMALL(IF(Tabla199[Sala]=$C$2,Tabla199[ID2]),ROW()-2),""),IFERROR(SMALL(IF(Tabla19912[Sala]=$C$2,Tabla19912[ID2]),ROW()-2),""))))} | H16: =IF(Tabla21[[#This Row],[ID]]="","",IF(Tabla13[Nivel]=BD!$L$1,VLOOKUP(Tabla21[[#This Row],[ID]],Tabla19[],4,0),IF(Tabla13[Nivel]=BD!$L$2,VLOOKUP(Tabla21[[#This Row],[ID]],Tabla199[],4,0),VLOOKUP(Tabla21[[#This Row],[ID]],Tabla19912[],4,0))))
B17: =IF(Tabla13[Cant. Salas]="","",IF(B16="","",IF(ISNUMBER(B16)=FALSE,1,IF(B16=Tabla13[Cant. Salas],"",B16+1)))) | C17: =IF(IF(Tabla12[[#This Row],[Orden]]="","",IF(Tabla13[Nivel]=BD!$L$1,'Filtrar Salas Grado Año'!A13,IF(Tabla13[Nivel]=BD!$L$2,'Filtrar Salas Grado Año'!C13,'Filtrar Salas Grado Año'!E13)))="(en blanco)","",IF(Tabla12[[#This Row],[Orden]]="","",IF(Tabla13[Nivel]=BD!$L$1,'Filtrar Salas Grado Año'!A13,IF(Tabla13[Nivel]=BD!$L$2,'Filtrar Salas Grado Año'!C13,'Filtrar Salas Grado Año'!E13)))) | F17: =IF(Tabla13[Cant. Alumnos]>1,IF(F16="","",IF(ISNUMBER(F16)=FALSE,1,IF(F16=Tabla13[Cant. Alumnos],"",F16+1))),"") -> 15 | G17: {=IF(Tabla21[[#This Row],[Contador]]="","",IF(Tabla13[Nivel]=BD!$L$1,IFERROR(SMALL(IF(Tabla19[Sala]=$C$2,Tabla19[ID2]),ROW()-2),""),IF(Tabla13[Nivel]=BD!$L$2,IFERROR(SMALL(IF(Tabla199[Sala]=$C$2,Tabla199[ID2]),ROW()-2),""),IFERROR(SMALL(IF(Tabla19912[Sala]=$C$2,Tabla19912[ID2]),ROW()-2),""))))} | H17: =IF(Tabla21[[#This Row],[ID]]="","",IF(Tabla13[Nivel]=BD!$L$1,VLOOKUP(Tabla21[[#This Row],[ID]],Tabla19[],4,0),IF(Tabla13[Nivel]=BD!$L$2,VLOOKUP(Tabla21[[#This Row],[ID]],Tabla199[],4,0),VLOOKUP(Tabla21[[#This Row],[ID]],Tabla19912[],4,0))))
B18: =IF(Tabla13[Cant. Salas]="","",IF(B17="","",IF(ISNUMBER(B17)=FALSE,1,IF(B17=Tabla13[Cant. Salas],"",B17+1)))) | C18: =IF(IF(Tabla12[[#This Row],[Orden]]="","",IF(Tabla13[Nivel]=BD!$L$1,'Filtrar Salas Grado Año'!A14,IF(Tabla13[Nivel]=BD!$L$2,'Filtrar Salas Grado Año'!C14,'Filtrar Salas Grado Año'!E14)))="(en blanco)","",IF(Tabla12[[#This Row],[Orden]]="","",IF(Tabla13[Nivel]=BD!$L$1,'Filtrar Salas Grado Año'!A14,IF(Tabla13[Nivel]=BD!$L$2,'Filtrar Salas Grado Año'!C14,'Filtrar Salas Grado Año'!E14)))) | F18: =IF(Tabla13[Cant. Alumnos]>1,IF(F17="","",IF(ISNUMBER(F17)=FALSE,1,IF(F17=Tabla13[Cant. Alumnos],"",F17+1))),"") -> 16 | G18: {=IF(Tabla21[[#This Row],[Contador]]="","",IF(Tabla13[Nivel]=BD!$L$1,IFERROR(SMALL(IF(Tabla19[Sala]=$C$2,Tabla19[ID2]),ROW()-2),""),IF(Tabla13[Nivel]=BD!$L$2,IFERROR(SMALL(IF(Tabla199[Sala]=$C$2,Tabla199[ID2]),ROW()-2),""),IFERROR(SMALL(IF(Tabla19912[Sala]=$C$2,Tabla19912[ID2]),ROW()-2),""))))} | H18: =IF(Tabla21[[#This Row],[ID]]="","",IF(Tabla13[Nivel]=BD!$L$1,VLOOKUP(Tabla21[[#This Row],[ID]],Tabla19[],4,0),IF(Tabla13[Nivel]=BD!$L$2,VLOOKUP(Tabla21[[#This Row],[ID]],Tabla199[],4,0),VLOOKUP(Tabla21[[#This Row],[ID]],Tabla19912[],4,0))))
... B29: =IF(Tabla13[Cant. Salas]="","",IF(B28="","",IF(ISNUMBER(B28)=FALSE,1,IF(B28=Tabla13[Cant. Salas],"",B28+1)))) | C29: =IF(IF(Tabla12[[#This Row],[Orden]]="","",IF(Tabla13[Nivel]=BD!$L$1,'Filtrar Salas Grado Año'!A25,IF(Tabla13[Nivel]=BD!$L$2,'Filtrar Salas Grado Año'!C25,'Filtrar Salas Grado Año'!E25)))="(en blanco)","",IF(Tabla12[[#This Row],[Orden]]="","",IF(Tabla13[Nivel]=BD!$L$1,'Filtrar Salas Grado Año'!A25,IF(Tabla13[Nivel]=BD!$L$2,'Filtrar Salas Grado Año'!C25,'Filtrar Salas Grado Año'!E25)))) | F29: =IF(Tabla13[Cant. Alumnos]>1,IF(F28="","",IF(ISNUMBER(F28)=FALSE,1,IF(F28=Tabla13[Cant. Alumnos],"",F28+1))),"") -> 27 | G29: {=IF(Tabla21[[#This Row],[Contador]]="","",IF(Tabla13[Nivel]=BD!$L$1,IFERROR(SMALL(IF(Tabla19[Sala]=$C$2,Tabla19[ID2]),ROW()-2),""),IF(Tabla13[Nivel]=BD!$L$2,IFERROR(SMALL(IF(Tabla199[Sala]=$C$2,Tabla199[ID2]),ROW()-2),""),IFERROR(SMALL(IF(Tabla19912[Sala]=$C$2,Tabla19912[ID2]),ROW()-2),""))))} | H29: =IF(Tabla21[[#This Row],[ID]]="","",IF(Tabla13[Nivel]=BD!$L$1,VLOOKUP(Tabla21[[#This Row],[ID]],Tabla19[],4,0),IF(Tabla13[Nivel]=BD!$L$2,VLOOKUP(Tabla21[[#This Row],[ID]],Tabla199[],4,0),VLOOKUP(Tabla21[[#This Row],[ID]],Tabla19912[],4,0))))
F30: =IF(Tabla13[Cant. Alumnos]>1,IF(F29="","",IF(ISNUMBER(F29)=FALSE,1,IF(F29=Tabla13[Cant. Alumnos],"",F29+1))),"") -> 28 | G30: {=IF(Tabla21[[#This Row],[Contador]]="","",IF(Tabla13[Nivel]=BD!$L$1,IFERROR(SMALL(IF(Tabla19[Sala]=$C$2,Tabla19[ID2]),ROW()-2),""),IF(Tabla13[Nivel]=BD!$L$2,IFERROR(SMALL(IF(Tabla199[Sala]=$C$2,Tabla199[ID2]),ROW()-2),""),IFERROR(SMALL(IF(Tabla19912[Sala]=$C$2,Tabla19912[ID2]),ROW()-2),""))))} | H30: =IF(Tabla21[[#This Row],[ID]]="","",IF(Tabla13[Nivel]=BD!$L$1,VLOOKUP(Tabla21[[#This Row],[ID]],Tabla19[],4,0),IF(Tabla13[Nivel]=BD!$L$2,VLOOKUP(Tabla21[[#This Row],[ID]],Tabla199[],4,0),VLOOKUP(Tabla21[[#This Row],[ID]],Tabla19912[],4,0))))
F31: =IF(Tabla13[Cant. Alumnos]>1,IF(F30="","",IF(ISNUMBER(F30)=FALSE,1,IF(F30=Tabla13[Cant. Alumnos],"",F30+1))),"") -> 29 | G31: {=IF(Tabla21[[#This Row],[Contador]]="","",IF(Tabla13[Nivel]=BD!$L$1,IFERROR(SMALL(IF(Tabla19[Sala]=$C$2,Tabla19[ID2]),ROW()-2),""),IF(Tabla13[Nivel]=BD!$L$2,IFERROR(SMALL(IF(Tabla199[Sala]=$C$2,Tabla199[ID2]),ROW()-2),""),IFERROR(SMALL(IF(Tabla19912[Sala]=$C$2,Tabla19912[ID2]),ROW()-2),""))))} | H31: =IF(Tabla21[[#This Row],[ID]]="","",IF(Tabla13[Nivel]=BD!$L$1,VLOOKUP(Tabla21[[#This Row],[ID]],Tabla19[],4,0),IF(Tabla13[Nivel]=BD!$L$2,VLOOKUP(Tabla21[[#This Row],[ID]],Tabla199[],4,0),VLOOKUP(Tabla21[[#This Row],[ID]],Tabla19912[],4,0))))
F32: =IF(Tabla13[Cant. Alumnos]>1,IF(F31="","",IF(ISNUMBER(F31)=FALSE,1,IF(F31=Tabla13[Cant. Alumnos],"",F31+1))),"") -> 30 | G32: {=IF(Tabla21[[#This Row],[Contador]]="","",IF(Tabla13[Nivel]=BD!$L$1,IFERROR(SMALL(IF(Tabla19[Sala]=$C$2,Tabla19[ID2]),ROW()-2),""),IF(Tabla13[Nivel]=BD!$L$2,IFERROR(SMALL(IF(Tabla199[Sala]=$C$2,Tabla199[ID2]),ROW()-2),""),IFERROR(SMALL(IF(Tabla19912[Sala]=$C$2,Tabla19912[ID2]),ROW()-2),""))))} | H32: =IF(Tabla21[[#This Row],[ID]]="","",IF(Tabla13[Nivel]=BD!$L$1,VLOOKUP(Tabla21[[#This Row],[ID]],Tabla19[],4,0),IF(Tabla13[Nivel]=BD!$L$2,VLOOKUP(Tabla21[[#This Row],[ID]],Tabla199[],4,0),VLOOKUP(Tabla21[[#This Row],[ID]],Tabla19912[],4,0))))
F33: =IF(Tabla13[Cant. Alumnos]>1,IF(F32="","",IF(ISNUMBER(F32)=FALSE,1,IF(F32=Tabla13[Cant. Alumnos],"",F32+1))),"") -> 31 | G33: {=IF(Tabla21[[#This Row],[Contador]]="","",IF(Tabla13[Nivel]=BD!$L$1,IFERROR(SMALL(IF(Tabla19[Sala]=$C$2,Tabla19[ID2]),ROW()-2),""),IF(Tabla13[Nivel]=BD!$L$2,IFERROR(SMALL(IF(Tabla199[Sala]=$C$2,Tabla199[ID2]),ROW()-2),""),IFERROR(SMALL(IF(Tabla19912[Sala]=$C$2,Tabla19912[ID2]),ROW()-2),""))))} | H33: =IF(Tabla21[[#This Row],[ID]]="","",IF(Tabla13[Nivel]=BD!$L$1,VLOOKUP(Tabla21[[#This Row],[ID]],Tabla19[],4,0),IF(Tabla13[Nivel]=BD!$L$2,VLOOKUP(Tabla21[[#This Row],[ID]],Tabla199[],4,0),VLOOKUP(Tabla21[[#This Row],[ID]],Tabla19912[],4,0))))
F34: =IF(Tabla13[Cant. Alumnos]>1,IF(F33="","",IF(ISNUMBER(F33)=FALSE,1,IF(F33=Tabla13[Cant. Alumnos],"",F33+1))),"") -> 32 | G34: {=IF(Tabla21[[#This Row],[Contador]]="","",IF(Tabla13[Nivel]=BD!$L$1,IFERROR(SMALL(IF(Tabla19[Sala]=$C$2,Tabla19[ID2]),ROW()-2),""),IF(Tabla13[Nivel]=BD!$L$2,IFERROR(SMALL(IF(Tabla199[Sala]=$C$2,Tabla199[ID2]),ROW()-2),""),IFERROR(SMALL(IF(Tabla19912[Sala]=$C$2,Tabla19912[ID2]),ROW()-2),""))))} | H34: =IF(Tabla21[[#This Row],[ID]]="","",IF(Tabla13[Nivel]=BD!$L$1,VLOOKUP(Tabla21[[#This Row],[ID]],Tabla19[],4,0),IF(Tabla13[Nivel]=BD!$L$2,VLOOKUP(Tabla21[[#This Row],[ID]],Tabla199[],4,0),VLOOKUP(Tabla21[[#This Row],[ID]],Tabla19912[],4,0))))
F35: =IF(Tabla13[Cant. Alumnos]>1,IF(F34="","",IF(ISNUMBER(F34)=FALSE,1,IF(F34=Tabla13[Cant. Alumnos],"",F34+1))),"") -> 33 | G35: {=IF(Tabla21[[#This Row],[Contador]]="","",IF(Tabla13[Nivel]=BD!$L$1,IFERROR(SMALL(IF(Tabla19[Sala]=$C$2,Tabla19[ID2]),ROW()-2),""),IF(Tabla13[Nivel]=BD!$L$2,IFERROR(SMALL(IF(Tabla199[Sala]=$C$2,Tabla199[ID2]),ROW()-2),""),IFERROR(SMALL(IF(Tabla19912[Sala]=$C$2,Tabla19912[ID2]),ROW()-2),""))))} | H35: =IF(Tabla21[[#This Row],[ID]]="","",IF(Tabla13[Nivel]=BD!$L$1,VLOOKUP(Tabla21[[#This Row],[ID]],Tabla19[],4,0),IF(Tabla13[Nivel]=BD!$L$2,VLOOKUP(Tabla21[[#This Row],[ID]],Tabla199[],4,0),VLOOKUP(Tabla21[[#This Row],[ID]],Tabla19912[],4,0))))
F36: =IF(Tabla13[Cant. Alumnos]>1,IF(F35="","",IF(ISNUMBER(F35)=FALSE,1,IF(F35=Tabla13[Cant. Alumnos],"",F35+1))),"") -> 34 | G36: {=IF(Tabla21[[#This Row],[Contador]]="","",IF(Tabla13[Nivel]=BD!$L$1,IFERROR(SMALL(IF(Tabla19[Sala]=$C$2,Tabla19[ID2]),ROW()-2),""),IF(Tabla13[Nivel]=BD!$L$2,IFERROR(SMALL(IF(Tabla199[Sala]=$C$2,Tabla199[ID2]),ROW()-2),""),IFERROR(SMALL(IF(Tabla19912[Sala]=$C$2,Tabla19912[ID2]),ROW()-2),""))))} | H36: =IF(Tabla21[[#This Row],[ID]]="","",IF(Tabla13[Nivel]=BD!$L$1,VLOOKUP(Tabla21[[#This Row],[ID]],Tabla19[],4,0),IF(Tabla13[Nivel]=BD!$L$2,VLOOKUP(Tabla21[[#This Row],[ID]],Tabla199[],4,0),VLOOKUP(Tabla21[[#This Row],[ID]],Tabla19912[],4,0))))
F37: =IF(Tabla13[Cant. Alumnos]>1,IF(F36="","",IF(ISNUMBER(F36)=FALSE,1,IF(F36=Tabla13[Cant. Alumnos],"",F36+1))),"") -> 35 | G37: {=IF(Tabla21[[#This Row],[Contador]]="","",IF(Tabla13[Nivel]=BD!$L$1,IFERROR(SMALL(IF(Tabla19[Sala]=$C$2,Tabla19[ID2]),ROW()-2),""),IF(Tabla13[Nivel]=BD!$L$2,IFERROR(SMALL(IF(Tabla199[Sala]=$C$2,Tabla199[ID2]),ROW()-2),""),IFERROR(SMALL(IF(Tabla19912[Sala]=$C$2,Tabla19912[ID2]),ROW()-2),""))))} | H37: =IF(Tabla21[[#This Row],[ID]]="","",IF(Tabla13[Nivel]=BD!$L$1,VLOOKUP(Tabla21[[#This Row],[ID]],Tabla19[],4,0),IF(Tabla13[Nivel]=BD!$L$2,VLOOKUP(Tabla21[[#This Row],[ID]],Tabla199[],4,0),VLOOKUP(Tabla21[[#This Row],[ID]],Tabla19912[],4,0))))
F38: =IF(Tabla13[Cant. Alumnos]>1,IF(F37="","",IF(ISNUMBER(F37)=FALSE,1,IF(F37=Tabla13[Cant. Alumnos],"",F37+1))),"") -> 36 | G38: {=IF(Tabla21[[#This Row],[Contador]]="","",IF(Tabla13[Nivel]=BD!$L$1,IFERROR(SMALL(IF(Tabla19[Sala]=$C$2,Tabla19[ID2]),ROW()-2),""),IF(Tabla13[Nivel]=BD!$L$2,IFERROR(SMALL(IF(Tabla199[Sala]=$C$2,Tabla199[ID2]),ROW()-2),""),IFERROR(SMALL(IF(Tabla19912[Sala]=$C$2,Tabla19912[ID2]),ROW()-2),""))))} | H38: =IF(Tabla21[[#This Row],[ID]]="","",IF(Tabla13[Nivel]=BD!$L$1,VLOOKUP(Tabla21[[#This Row],[ID]],Tabla19[],4,0),IF(Tabla13[Nivel]=BD!$L$2,VLOOKUP(Tabla21[[#This Row],[ID]],Tabla199[],4,0),VLOOKUP(Tabla21[[#This Row],[ID]],Tabla19912[],4,0))))
F39: =IF(Tabla13[Cant. Alumnos]>1,IF(F38="","",IF(ISNUMBER(F38)=FALSE,1,IF(F38=Tabla13[Cant. Alumnos],"",F38+1))),"") -> 37 | G39: {=IF(Tabla21[[#This Row],[Contador]]="","",IF(Tabla13[Nivel]=BD!$L$1,IFERROR(SMALL(IF(Tabla19[Sala]=$C$2,Tabla19[ID2]),ROW()-2),""),IF(Tabla13[Nivel]=BD!$L$2,IFERROR(SMALL(IF(Tabla199[Sala]=$C$2,Tabla199[ID2]),ROW()-2),""),IFERROR(SMALL(IF(Tabla19912[Sala]=$C$2,Tabla19912[ID2]),ROW()-2),""))))} | H39: =IF(Tabla21[[#This Row],[ID]]="","",IF(Tabla13[Nivel]=BD!$L$1,VLOOKUP(Tabla21[[#This Row],[ID]],Tabla19[],4,0),IF(Tabla13[Nivel]=BD!$L$2,VLOOKUP(Tabla21[[#This Row],[ID]],Tabla199[],4,0),VLOOKUP(Tabla21[[#This Row],[ID]],Tabla19912[],4,0))))
F40: =IF(Tabla13[Cant. Alumnos]>1,IF(F39="","",IF(ISNUMBER(F39)=FALSE,1,IF(F39=Tabla13[Cant. Alumnos],"",F39+1))),"") -> 38 | G40: {=IF(Tabla21[[#This Row],[Contador]]="","",IF(Tabla13[Nivel]=BD!$L$1,IFERROR(SMALL(IF(Tabla19[Sala]=$C$2,Tabla19[ID2]),ROW()-2),""),IF(Tabla13[Nivel]=BD!$L$2,IFERROR(SMALL(IF(Tabla199[Sala]=$C$2,Tabla199[ID2]),ROW()-2),""),IFERROR(SMALL(IF(Tabla19912[Sala]=$C$2,Tabla19912[ID2]),ROW()-2),""))))} | H40: =IF(Tabla21[[#This Row],[ID]]="","",IF(Tabla13[Nivel]=BD!$L$1,VLOOKUP(Tabla21[[#This Row],[ID]],Tabla19[],4,0),IF(Tabla13[Nivel]=BD!$L$2,VLOOKUP(Tabla21[[#This Row],[ID]],Tabla199[],4,0),VLOOKUP(Tabla21[[#This Row],[ID]],Tabla19912[],4,0))))
F41: =IF(Tabla13[Cant. Alumnos]>1,IF(F40="","",IF(ISNUMBER(F40)=FALSE,1,IF(F40=Tabla13[Cant. Alumnos],"",F40+1))),"") -> 39 | G41: {=IF(Tabla21[[#This Row],[Contador]]="","",IF(Tabla13[Nivel]=BD!$L$1,IFERROR(SMALL(IF(Tabla19[Sala]=$C$2,Tabla19[ID2]),ROW()-2),""),IF(Tabla13[Nivel]=BD!$L$2,IFERROR(SMALL(IF(Tabla199[Sala]=$C$2,Tabla199[ID2]),ROW()-2),""),IFERROR(SMALL(IF(Tabla19912[Sala]=$C$2,Tabla19912[ID2]),ROW()-2),""))))} | H41: =IF(Tabla21[[#This Row],[ID]]="","",IF(Tabla13[Nivel]=BD!$L$1,VLOOKUP(Tabla21[[#This Row],[ID]],Tabla19[],4,0),IF(Tabla13[Nivel]=BD!$L$2,VLOOKUP(Tabla21[[#This Row],[ID]],Tabla199[],4,0),VLOOKUP(Tabla21[[#This Row],[ID]],Tabla19912[],4,0))))
... F61: =IF(Tabla13[Cant. Alumnos]>1,IF(F60="","",IF(ISNUMBER(F60)=FALSE,1,IF(F60=Tabla13[Cant. Alumnos],"",F60+1))),"") -> 59 | G61: {=IF(Tabla21[[#This Row],[Contador]]="","",IF(Tabla13[Nivel]=BD!$L$1,IFERROR(SMALL(IF(Tabla19[Sala]=$C$2,Tabla19[ID2]),ROW()-2),""),IF(Tabla13[Nivel]=BD!$L$2,IFERROR(SMALL(IF(Tabla199[Sala]=$C$2,Tabla199[ID2]),ROW()-2),""),IFERROR(SMALL(IF(Tabla19912[Sala]=$C$2,Tabla19912[ID2]),ROW()-2),""))))} | H61: =IF(Tabla21[[#This Row],[ID]]="","",IF(Tabla13[Nivel]=BD!$L$1,VLOOKUP(Tabla21[[#This Row],[ID]],Tabla19[],4,0),IF(Tabla13[Nivel]=BD!$L$2,VLOOKUP(Tabla21[[#This Row],[ID]],Tabla199[],4,0),VLOOKUP(Tabla21[[#This Row],[ID]],Tabla19912[],4,0))))

Sheet Carga 2do alumno
A1: Cant. Salas | B1: Nivel | C1: Sala | D1: Cant. Alumnos
A2: =IF(Tabla1325[[#This Row],[Nivel]]=BD!$L$1,'Filtrar Salas Grado Año'!$B$2,IF(Tabla1325[[#This Row],[Nivel]]=BD!$L$2,'Filtrar Salas Grado Año'!$D$2,IF(Tabla1325[[#This Row],[Nivel]]=BD!$L$3,'Filtrar Salas Grado Año'!$F$2,""))) | B2: ='Mi Pedido lista'!B4 -> 0 | C2: ='Mi Pedido lista'!C4 -> 0 | D2: =IF(Tabla1325[[#This Row],[Nivel]]=BD!$L$1,COUNTIFS(Tabla19[Alumno],"<>",Tabla19[Sala],Tabla1325[[#This Row],[Sala]]),IF(Tabla1325[[#This Row],[Nivel]]=BD!$L$2,COUNTIFS(Tabla199[Alumno],"<>",Tabla199[Sala],Tabla1325[[#This Row],[Sala]]),IF(Tabla1325[[#This Row],[Nivel]]=BD!$L$3,COUNTIFS(Tabla19912[Columna1],"<>",Tabla19912[Sala],Tabla1325[[#This Row],[Sala]]),""))) | F2: Contador | G2: ID | H2: Alumno
F3: =IF(Tabla1325[Cant. Alumnos]>1,IF(F2="","",IF(ISNUMBER(F2)=FALSE,1,IF(F2=Tabla1325[Cant. Alumnos],"",F2+1))),"") -> 1 | G3: {=IF(Tabla2126[[#This Row],[Contador]]="","",IF(Tabla1325[Nivel]=BD!$L$1,IFERROR(SMALL(IF(Tabla19[Sala]=$C$2,Tabla19[ID2]),ROW()-2),""),IF(Tabla1325[Nivel]=BD!$L$2,IFERROR(SMALL(IF(Tabla199[Sala]=$C$2,Tabla199[ID2]),ROW()-2),""),IFERROR(SMALL(IF(Tabla19912[Sala]=$C$2,Tabla19912[ID2]),ROW()-2),""))))} | H3: =IF(Tabla2126[[#This Row],[ID]]="","",IF(Tabla1325[Nivel]=BD!$L$1,VLOOKUP(Tabla2126[[#This Row],[ID]],Tabla19[],4,0),IF(Tabla1325[Nivel]=BD!$L$2,VLOOKUP(Tabla2126[[#This Row],[ID]],Tabla199[],4,0),VLOOKUP(Tabla2126[[#This Row],[ID]],Tabla19912[],4,0))))
F4: =IF(Tabla1325[Cant. Alumnos]>1,IF(F3="","",IF(ISNUMBER(F3)=FALSE,1,IF(F3=Tabla1325[Cant. Alumnos],"",F3+1))),"") -> 2 | G4: {=IF(Tabla2126[[#This Row],[Contador]]="","",IF(Tabla1325[Nivel]=BD!$L$1,IFERROR(SMALL(IF(Tabla19[Sala]=$C$2,Tabla19[ID2]),ROW()-2),""),IF(Tabla1325[Nivel]=BD!$L$2,IFERROR(SMALL(IF(Tabla199[Sala]=$C$2,Tabla199[ID2]),ROW()-2),""),IFERROR(SMALL(IF(Tabla19912[Sala]=$C$2,Tabla19912[ID2]),ROW()-2),""))))} | H4: =IF(Tabla2126[[#This Row],[ID]]="","",IF(Tabla1325[Nivel]=BD!$L$1,VLOOKUP(Tabla2126[[#This Row],[ID]],Tabla19[],4,0),IF(Tabla1325[Nivel]=BD!$L$2,VLOOKUP(Tabla2126[[#This Row],[ID]],Tabla199[],4,0),VLOOKUP(Tabla2126[[#This Row],[ID]],Tabla19912[],4,0))))
F5: =IF(Tabla1325[Cant. Alumnos]>1,IF(F4="","",IF(ISNUMBER(F4)=FALSE,1,IF(F4=Tabla1325[Cant. Alumnos],"",F4+1))),"") -> 3 | G5: {=IF(Tabla2126[[#This Row],[Contador]]="","",IF(Tabla1325[Nivel]=BD!$L$1,IFERROR(SMALL(IF(Tabla19[Sala]=$C$2,Tabla19[ID2]),ROW()-2),""),IF(Tabla1325[Nivel]=BD!$L$2,IFERROR(SMALL(IF(Tabla199[Sala]=$C$2,Tabla199[ID2]),ROW()-2),""),IFERROR(SMALL(IF(Tabla19912[Sala]=$C$2,Tabla19912[ID2]),ROW()-2),""))))} | H5: =IF(Tabla2126[[#This Row],[ID]]="","",IF(Tabla1325[Nivel]=BD!$L$1,VLOOKUP(Tabla2126[[#This Row],[ID]],Tabla19[],4,0),IF(Tabla1325[Nivel]=BD!$L$2,VLOOKUP(Tabla2126[[#This Row],[ID]],Tabla199[],4,0),VLOOKUP(Tabla2126[[#This Row],[ID]],Tabla19912[],4,0))))
B6: Orden | C6: Sala | F6: =IF(Tabla1325[Cant. Alumnos]>1,IF(F5="","",IF(ISNUMBER(F5)=FALSE,1,IF(F5=Tabla1325[Cant. Alumnos],"",F5+1))),"") -> 4 | G6: {=IF(Tabla2126[[#This Row],[Contador]]="","",IF(Tabla1325[Nivel]=BD!$L$1,IFERROR(SMALL(IF(Tabla19[Sala]=$C$2,Tabla19[ID2]),ROW()-2),""),IF(Tabla1325[Nivel]=BD!$L$2,IFERROR(SMALL(IF(Tabla199[Sala]=$C$2,Tabla199[ID2]),ROW()-2),""),IFERROR(SMALL(IF(Tabla19912[Sala]=$C$2,Tabla19912[ID2]),ROW()-2),""))))} | H6: =IF(Tabla2126[[#This Row],[ID]]="","",IF(Tabla1325[Nivel]=BD!$L$1,VLOOKUP(Tabla2126[[#This Row],[ID]],Tabla19[],4,0),IF(Tabla1325[Nivel]=BD!$L$2,VLOOKUP(Tabla2126[[#This Row],[ID]],Tabla199[],4,0),VLOOKUP(Tabla2126[[#This Row],[ID]],Tabla19912[],4,0))))
B7: =IF(Tabla1325[Cant. Salas]="","",IF(B6="","",IF(ISNUMBER(B6)=FALSE,1,IF(B6=Tabla1325[Cant. Salas],"",B6+1)))) | C7: =IF(IF(Tabla1228[[#This Row],[Orden]]="","",IF(Tabla1325[Nivel]=BD!$L$1,'Filtrar Salas Grado Año'!A3,IF(Tabla1325[Nivel]=BD!$L$2,'Filtrar Salas Grado Año'!C3,'Filtrar Salas Grado Año'!E3)))="(en blanco)","",IF(Tabla1228[[#This Row],[Orden]]="","",IF(Tabla1325[Nivel]=BD!$L$1,'Filtrar Salas Grado Año'!A3,IF(Tabla1325[Nivel]=BD!$L$2,'Filtrar Salas Grado Año'!C3,'Filtrar Salas Grado Año'!E3)))) | F7: =IF(Tabla1325[Cant. Alumnos]>1,IF(F6="","",IF(ISNUMBER(F6)=FALSE,1,IF(F6=Tabla1325[Cant. Alumnos],"",F6+1))),"") -> 5 | G7: {=IF(Tabla2126[[#This Row],[Contador]]="","",IF(Tabla1325[Nivel]=BD!$L$1,IFERROR(SMALL(IF(Tabla19[Sala]=$C$2,Tabla19[ID2]),ROW()-2),""),IF(Tabla1325[Nivel]=BD!$L$2,IFERROR(SMALL(IF(Tabla199[Sala]=$C$2,Tabla199[ID2]),ROW()-2),""),IFERROR(SMALL(IF(Tabla19912[Sala]=$C$2,Tabla19912[ID2]),ROW()-2),""))))} | H7: =IF(Tabla2126[[#This Row],[ID]]="","",IF(Tabla1325[Nivel]=BD!$L$1,VLOOKUP(Tabla2126[[#This Row],[ID]],Tabla19[],4,0),IF(Tabla1325[Nivel]=BD!$L$2,VLOOKUP(Tabla2126[[#This Row],[ID]],Tabla199[],4,0),VLOOKUP(Tabla2126[[#This Row],[ID]],Tabla19912[],4,0))))
B8: =IF(Tabla1325[Cant. Salas]="","",IF(B7="","",IF(ISNUMBER(B7)=FALSE,1,IF(B7=Tabla1325[Cant. Salas],"",B7+1)))) | C8: =IF(IF(Tabla1228[[#This Row],[Orden]]="","",IF(Tabla1325[Nivel]=BD!$L$1,'Filtrar Salas Grado Año'!A4,IF(Tabla1325[Nivel]=BD!$L$2,'Filtrar Salas Grado Año'!C4,'Filtrar Salas Grado Año'!E4)))="(en blanco)","",IF(Tabla1228[[#This Row],[Orden]]="","",IF(Tabla1325[Nivel]=BD!$L$1,'Filtrar Salas Grado Año'!A4,IF(Tabla1325[Nivel]=BD!$L$2,'Filtrar Salas Grado Año'!C4,'Filtrar Salas Grado Año'!E4)))) | F8: =IF(Tabla1325[Cant. Alumnos]>1,IF(F7="","",IF(ISNUMBER(F7)=FALSE,1,IF(F7=Tabla1325[Cant. Alumnos],"",F7+1))),"") -> 6 | G8: {=IF(Tabla2126[[#This Row],[Contador]]="","",IF(Tabla1325[Nivel]=BD!$L$1,IFERROR(SMALL(IF(Tabla19[Sala]=$C$2,Tabla19[ID2]),ROW()-2),""),IF(Tabla1325[Nivel]=BD!$L$2,IFERROR(SMALL(IF(Tabla199[Sala]=$C$2,Tabla199[ID2]),ROW()-2),""),IFERROR(SMALL(IF(Tabla19912[Sala]=$C$2,Tabla19912[ID2]),ROW()-2),""))))} | H8: =IF(Tabla2126[[#This Row],[ID]]="","",IF(Tabla1325[Nivel]=BD!$L$1,VLOOKUP(Tabla2126[[#This Row],[ID]],Tabla19[],4,0),IF(Tabla1325[Nivel]=BD!$L$2,VLOOKUP(Tabla2126[[#This Row],[ID]],Tabla199[],4,0),VLOOKUP(Tabla2126[[#This Row],[ID]],Tabla19912[],4,0))))
B9: =IF(Tabla1325[Cant. Salas]="","",IF(B8="","",IF(ISNUMBER(B8)=FALSE,1,IF(B8=Tabla1325[Cant. Salas],"",B8+1)))) | C9: =IF(IF(Tabla1228[[#This Row],[Orden]]="","",IF(Tabla1325[Nivel]=BD!$L$1,'Filtrar Salas Grado Año'!A5,IF(Tabla1325[Nivel]=BD!$L$2,'Filtrar Salas Grado Año'!C5,'Filtrar Salas Grado Año'!E5)))="(en blanco)","",IF(Tabla1228[[#This Row],[Orden]]="","",IF(Tabla1325[Nivel]=BD!$L$1,'Filtrar Salas Grado Año'!A5,IF(Tabla1325[Nivel]=BD!$L$2,'Filtrar Salas Grado Año'!C5,'Filtrar Salas Grado Año'!E5)))) | F9: =IF(Tabla1325[Cant. Alumnos]>1,IF(F8="","",IF(ISNUMBER(F8)=FALSE,1,IF(F8=Tabla1325[Cant. Alumnos],"",F8+1))),"") -> 7 | G9: {=IF(Tabla2126[[#This Row],[Contador]]="","",IF(Tabla1325[Nivel]=BD!$L$1,IFERROR(SMALL(IF(Tabla19[Sala]=$C$2,Tabla19[ID2]),ROW()-2),""),IF(Tabla1325[Nivel]=BD!$L$2,IFERROR(SMALL(IF(Tabla199[Sala]=$C$2,Tabla199[ID2]),ROW()-2),""),IFERROR(SMALL(IF(Tabla19912[Sala]=$C$2,Tabla19912[ID2]),ROW()-2),""))))} | H9: =IF(Tabla2126[[#This Row],[ID]]="","",IF(Tabla1325[Nivel]=BD!$L$1,VLOOKUP(Tabla2126[[#This Row],[ID]],Tabla19[],4,0),IF(Tabla1325[Nivel]=BD!$L$2,VLOOKUP(Tabla2126[[#This Row],[ID]],Tabla199[],4,0),VLOOKUP(Tabla2126[[#This Row],[ID]],Tabla19912[],4,0))))
B10: =IF(Tabla1325[Cant. Salas]="","",IF(B9="","",IF(ISNUMBER(B9)=FALSE,1,IF(B9=Tabla1325[Cant. Salas],"",B9+1)))) | C10: =IF(IF(Tabla1228[[#This Row],[Orden]]="","",IF(Tabla1325[Nivel]=BD!$L$1,'Filtrar Salas Grado Año'!A6,IF(Tabla1325[Nivel]=BD!$L$2,'Filtrar Salas Grado Año'!C6,'Filtrar Salas Grado Año'!E6)))="(en blanco)","",IF(Tabla1228[[#This Row],[Orden]]="","",IF(Tabla1325[Nivel]=BD!$L$1,'Filtrar Salas Grado Año'!A6,IF(Tabla1325[Nivel]=BD!$L$2,'Filtrar Salas Grado Año'!C6,'Filtrar Salas Grado Año'!E6)))) | F10: =IF(Tabla1325[Cant. Alumnos]>1,IF(F9="","",IF(ISNUMBER(F9)=FALSE,1,IF(F9=Tabla1325[Cant. Alumnos],"",F9+1))),"") -> 8 | G10: {=IF(Tabla2126[[#This Row],[Contador]]="","",IF(Tabla1325[Nivel]=BD!$L$1,IFERROR(SMALL(IF(Tabla19[Sala]=$C$2,Tabla19[ID2]),ROW()-2),""),IF(Tabla1325[Nivel]=BD!$L$2,IFERROR(SMALL(IF(Tabla199[Sala]=$C$2,Tabla199[ID2]),ROW()-2),""),IFERROR(SMALL(IF(Tabla19912[Sala]=$C$2,Tabla19912[ID2]),ROW()-2),""))))} | H10: =IF(Tabla2126[[#This Row],[ID]]="","",IF(Tabla1325[Nivel]=BD!$L$1,VLOOKUP(Tabla2126[[#This Row],[ID]],Tabla19[],4,0),IF(Tabla1325[Nivel]=BD!$L$2,VLOOKUP(Tabla2126[[#This Row],[ID]],Tabla199[],4,0),VLOOKUP(Tabla2126[[#This Row],[ID]],Tabla19912[],4,0))))
B11: =IF(Tabla1325[Cant. Salas]="","",IF(B10="","",IF(ISNUMBER(B10)=FALSE,1,IF(B10=Tabla1325[Cant. Salas],"",B10+1)))) | C11: =IF(IF(Tabla1228[[#This Row],[Orden]]="","",IF(Tabla1325[Nivel]=BD!$L$1,'Filtrar Salas Grado Año'!A7,IF(Tabla1325[Nivel]=BD!$L$2,'Filtrar Salas Grado Año'!C7,'Filtrar Salas Grado Año'!E7)))="(en blanco)","",IF(Tabla1228[[#This Row],[Orden]]="","",IF(Tabla1325[Nivel]=BD!$L$1,'Filtrar Salas Grado Año'!A7,IF(Tabla1325[Nivel]=BD!$L$2,'Filtrar Salas Grado Año'!C7,'Filtrar Salas Grado Año'!E7)))) | F11: =IF(Tabla1325[Cant. Alumnos]>1,IF(F10="","",IF(ISNUMBER(F10)=FALSE,1,IF(F10=Tabla1325[Cant. Alumnos],"",F10+1))),"") -> 9 | G11: {=IF(Tabla2126[[#This Row],[Contador]]="","",IF(Tabla1325[Nivel]=BD!$L$1,IFERROR(SMALL(IF(Tabla19[Sala]=$C$2,Tabla19[ID2]),ROW()-2),""),IF(Tabla1325[Nivel]=BD!$L$2,IFERROR(SMALL(IF(Tabla199[Sala]=$C$2,Tabla199[ID2]),ROW()-2),""),IFERROR(SMALL(IF(Tabla19912[Sala]=$C$2,Tabla19912[ID2]),ROW()-2),""))))} | H11: =IF(Tabla2126[[#This Row],[ID]]="","",IF(Tabla1325[Nivel]=BD!$L$1,VLOOKUP(Tabla2126[[#This Row],[ID]],Tabla19[],4,0),IF(Tabla1325[Nivel]=BD!$L$2,VLOOKUP(Tabla2126[[#This Row],[ID]],Tabla199[],4,0),VLOOKUP(Tabla2126[[#This Row],[ID]],Tabla19912[],4,0))))
B12: =IF(Tabla1325[Cant. Salas]="","",IF(B11="","",IF(ISNUMBER(B11)=FALSE,1,IF(B11=Tabla1325[Cant. Salas],"",B11+1)))) | C12: =IF(IF(Tabla1228[[#This Row],[Orden]]="","",IF(Tabla1325[Nivel]=BD!$L$1,'Filtrar Salas Grado Año'!A8,IF(Tabla1325[Nivel]=BD!$L$2,'Filtrar Salas Grado Año'!C8,'Filtrar Salas Grado Año'!E8)))="(en blanco)","",IF(Tabla1228[[#This Row],[Orden]]="","",IF(Tabla1325[Nivel]=BD!$L$1,'Filtrar Salas Grado Año'!A8,IF(Tabla1325[Nivel]=BD!$L$2,'Filtrar Salas Grado Año'!C8,'Filtrar Salas Grado Año'!E8)))) | F12: =IF(Tabla1325[Cant. Alumnos]>1,IF(F11="","",IF(ISNUMBER(F11)=FALSE,1,IF(F11=Tabla1325[Cant. Alumnos],"",F11+1))),"") -> 10 | G12: {=IF(Tabla2126[[#This Row],[Contador]]="","",IF(Tabla1325[Nivel]=BD!$L$1,IFERROR(SMALL(IF(Tabla19[Sala]=$C$2,Tabla19[ID2]),ROW()-2),""),IF(Tabla1325[Nivel]=BD!$L$2,IFERROR(SMALL(IF(Tabla199[Sala]=$C$2,Tabla199[ID2]),ROW()-2),""),IFERROR(SMALL(IF(Tabla19912[Sala]=$C$2,Tabla19912[ID2]),ROW()-2),""))))} | H12: =IF(Tabla2126[[#This Row],[ID]]="","",IF(Tabla1325[Nivel]=BD!$L$1,VLOOKUP(Tabla2126[[#This Row],[ID]],Tabla19[],4,0),IF(Tabla1325[Nivel]=BD!$L$2,VLOOKUP(Tabla2126[[#This Row],[ID]],Tabla199[],4,0),VLOOKUP(Tabla2126[[#This Row],[ID]],Tabla19912[],4,0))))
B13: =IF(Tabla1325[Cant. Salas]="","",IF(B12="","",IF(ISNUMBER(B12)=FALSE,1,IF(B12=Tabla1325[Cant. Salas],"",B12+1)))) | C13: =IF(IF(Tabla1228[[#This Row],[Orden]]="","",IF(Tabla1325[Nivel]=BD!$L$1,'Filtrar Salas Grado Año'!A9,IF(Tabla1325[Nivel]=BD!$L$2,'Filtrar Salas Grado Año'!C9,'Filtrar Salas Grado Año'!E9)))="(en blanco)","",IF(Tabla1228[[#This Row],[Orden]]="","",IF(Tabla1325[Nivel]=BD!$L$1,'Filtrar Salas Grado Año'!A9,IF(Tabla1325[Nivel]=BD!$L$2,'Filtrar Salas Grado Año'!C9,'Filtrar Salas Grado Año'!E9)))) | F13: =IF(Tabla1325[Cant. Alumnos]>1,IF(F12="","",IF(ISNUMBER(F12)=FALSE,1,IF(F12=Tabla1325[Cant. Alumnos],"",F12+1))),"") -> 11 | G13: {=IF(Tabla2126[[#This Row],[Contador]]="","",IF(Tabla1325[Nivel]=BD!$L$1,IFERROR(SMALL(IF(Tabla19[Sala]=$C$2,Tabla19[ID2]),ROW()-2),""),IF(Tabla1325[Nivel]=BD!$L$2,IFERROR(SMALL(IF(Tabla199[Sala]=$C$2,Tabla199[ID2]),ROW()-2),""),IFERROR(SMALL(IF(Tabla19912[Sala]=$C$2,Tabla19912[ID2]),ROW()-2),""))))} | H13: =IF(Tabla2126[[#This Row],[ID]]="","",IF(Tabla1325[Nivel]=BD!$L$1,VLOOKUP(Tabla2126[[#This Row],[ID]],Tabla19[],4,0),IF(Tabla1325[Nivel]=BD!$L$2,VLOOKUP(Tabla2126[[#This Row],[ID]],Tabla199[],4,0),VLOOKUP(Tabla2126[[#This Row],[ID]],Tabla19912[],4,0))))
B14: =IF(Tabla1325[Cant. Salas]="","",IF(B13="","",IF(ISNUMBER(B13)=FALSE,1,IF(B13=Tabla1325[Cant. Salas],"",B13+1)))) | C14: =IF(IF(Tabla1228[[#This Row],[Orden]]="","",IF(Tabla1325[Nivel]=BD!$L$1,'Filtrar Salas Grado Año'!A10,IF(Tabla1325[Nivel]=BD!$L$2,'Filtrar Salas Grado Año'!C10,'Filtrar Salas Grado Año'!E10)))="(en blanco)","",IF(Tabla1228[[#This Row],[Orden]]="","",IF(Tabla1325[Nivel]=BD!$L$1,'Filtrar Salas Grado Año'!A10,IF(Tabla1325[Nivel]=BD!$L$2,'Filtrar Salas Grado Año'!C10,'Filtrar Salas Grado Año'!E10)))) | F14: =IF(Tabla1325[Cant. Alumnos]>1,IF(F13="","",IF(ISNUMBER(F13)=FALSE,1,IF(F13=Tabla1325[Cant. Alumnos],"",F13+1))),"") -> 12 | G14: {=IF(Tabla2126[[#This Row],[Contador]]="","",IF(Tabla1325[Nivel]=BD!$L$1,IFERROR(SMALL(IF(Tabla19[Sala]=$C$2,Tabla19[ID2]),ROW()-2),""),IF(Tabla1325[Nivel]=BD!$L$2,IFERROR(SMALL(IF(Tabla199[Sala]=$C$2,Tabla199[ID2]),ROW()-2),""),IFERROR(SMALL(IF(Tabla19912[Sala]=$C$2,Tabla19912[ID2]),ROW()-2),""))))} | H14: =IF(Tabla2126[[#This Row],[ID]]="","",IF(Tabla1325[Nivel]=BD!$L$1,VLOOKUP(Tabla2126[[#This Row],[ID]],Tabla19[],4,0),IF(Tabla1325[Nivel]=BD!$L$2,VLOOKUP(Tabla2126[[#This Row],[ID]],Tabla199[],4,0),VLOOKUP(Tabla2126[[#This Row],[ID]],Tabla19912[],4,0))))
B15: =IF(Tabla1325[Cant. Salas]="","",IF(B14="","",IF(ISNUMBER(B14)=FALSE,1,IF(B14=Tabla1325[Cant. Salas],"",B14+1)))) | C15: =IF(IF(Tabla1228[[#This Row],[Orden]]="","",IF(Tabla1325[Nivel]=BD!$L$1,'Filtrar Salas Grado Año'!A11,IF(Tabla1325[Nivel]=BD!$L$2,'Filtrar Salas Grado Año'!C11,'Filtrar Salas Grado Año'!E11)))="(en blanco)","",IF(Tabla1228[[#This Row],[Orden]]="","",IF(Tabla1325[Nivel]=BD!$L$1,'Filtrar Salas Grado Año'!A11,IF(Tabla1325[Nivel]=BD!$L$2,'Filtrar Salas Grado Año'!C11,'Filtrar Salas Grado Año'!E11)))) | F15: =IF(Tabla1325[Cant. Alumnos]>1,IF(F14="","",IF(ISNUMBER(F14)=FALSE,1,IF(F14=Tabla1325[Cant. Alumnos],"",F14+1))),"") -> 13 | G15: {=IF(Tabla2126[[#This Row],[Contador]]="","",IF(Tabla1325[Nivel]=BD!$L$1,IFERROR(SMALL(IF(Tabla19[Sala]=$C$2,Tabla19[ID2]),ROW()-2),""),IF(Tabla1325[Nivel]=BD!$L$2,IFERROR(SMALL(IF(Tabla199[Sala]=$C$2,Tabla199[ID2]),ROW()-2),""),IFERROR(SMALL(IF(Tabla19912[Sala]=$C$2,Tabla19912[ID2]),ROW()-2),""))))} | H15: =IF(Tabla2126[[#This Row],[ID]]="","",IF(Tabla1325[Nivel]=BD!$L$1,VLOOKUP(Tabla2126[[#This Row],[ID]],Tabla19[],4,0),IF(Tabla1325[Nivel]=BD!$L$2,VLOOKUP(Tabla2126[[#This Row],[ID]],Tabla199[],4,0),VLOOKUP(Tabla2126[[#This Row],[ID]],Tabla19912[],4,0))))
B16: =IF(Tabla1325[Cant. Salas]="","",IF(B15="","",IF(ISNUMBER(B15)=FALSE,1,IF(B15=Tabla1325[Cant. Salas],"",B15+1)))) | C16: =IF(IF(Tabla1228[[#This Row],[Orden]]="","",IF(Tabla1325[Nivel]=BD!$L$1,'Filtrar Salas Grado Año'!A12,IF(Tabla1325[Nivel]=BD!$L$2,'Filtrar Salas Grado Año'!C12,'Filtrar Salas Grado Año'!E12)))="(en blanco)","",IF(Tabla1228[[#This Row],[Orden]]="","",IF(Tabla1325[Nivel]=BD!$L$1,'Filtrar Salas Grado Año'!A12,IF(Tabla1325[Nivel]=BD!$L$2,'Filtrar Salas Grado Año'!C12,'Filtrar Salas Grado Año'!E12)))) | F16: =IF(Tabla1325[Cant. Alumnos]>1,IF(F15="","",IF(ISNUMBER(F15)=FALSE,1,IF(F15=Tabla1325[Cant. Alumnos],"",F15+1))),"") -> 14 | G16: {=IF(Tabla2126[[#This Row],[Contador]]="","",IF(Tabla1325[Nivel]=BD!$L$1,IFERROR(SMALL(IF(Tabla19[Sala]=$C$2,Tabla19[ID2]),ROW()-2),""),IF(Tabla1325[Nivel]=BD!$L$2,IFERROR(SMALL(IF(Tabla199[Sala]=$C$2,Tabla199[ID2]),ROW()-2),""),IFERROR(SMALL(IF(Tabla19912[Sala]=$C$2,Tabla19912[ID2]),ROW()-2),""))))} | H16: =IF(Tabla2126[[#This Row],[ID]]="","",IF(Tabla1325[Nivel]=BD!$L$1,VLOOKUP(Tabla2126[[#This Row],[ID]],Tabla19[],4,0),IF(Tabla1325[Nivel]=BD!$L$2,VLOOKUP(Tabla2126[[#This Row],[ID]],Tabla199[],4,0),VLOOKUP(Tabla2126[[#This Row],[ID]],Tabla19912[],4,0))))
B17: =IF(Tabla1325[Cant. Salas]="","",IF(B16="","",IF(ISNUMBER(B16)=FALSE,1,IF(B16=Tabla1325[Cant. Salas],"",B16+1)))) | C17: =IF(IF(Tabla1228[[#This Row],[Orden]]="","",IF(Tabla1325[Nivel]=BD!$L$1,'Filtrar Salas Grado Año'!A13,IF(Tabla1325[Nivel]=BD!$L$2,'Filtrar Salas Grado Año'!C13,'Filtrar Salas Grado Año'!E13)))="(en blanco)","",IF(Tabla1228[[#This Row],[Orden]]="","",IF(Tabla1325[Nivel]=BD!$L$1,'Filtrar Salas Grado Año'!A13,IF(Tabla1325[Nivel]=BD!$L$2,'Filtrar Salas Grado Año'!C13,'Filtrar Salas Grado Año'!E13)))) | F17: =IF(Tabla1325[Cant. Alumnos]>1,IF(F16="","",IF(ISNUMBER(F16)=FALSE,1,IF(F16=Tabla1325[Cant. Alumnos],"",F16+1))),"") -> 15 | G17: {=IF(Tabla2126[[#This Row],[Contador]]="","",IF(Tabla1325[Nivel]=BD!$L$1,IFERROR(SMALL(IF(Tabla19[Sala]=$C$2,Tabla19[ID2]),ROW()-2),""),IF(Tabla1325[Nivel]=BD!$L$2,IFERROR(SMALL(IF(Tabla199[Sala]=$C$2,Tabla199[ID2]),ROW()-2),""),IFERROR(SMALL(IF(Tabla19912[Sala]=$C$2,Tabla19912[ID2]),ROW()-2),""))))} | H17: =IF(Tabla2126[[#This Row],[ID]]="","",IF(Tabla1325[Nivel]=BD!$L$1,VLOOKUP(Tabla2126[[#This Row],[ID]],Tabla19[],4,0),IF(Tabla1325[Nivel]=BD!$L$2,VLOOKUP(Tabla2126[[#This Row],[ID]],Tabla199[],4,0),VLOOKUP(Tabla2126[[#This Row],[ID]],Tabla19912[],4,0))))
B18: =IF(Tabla1325[Cant. Salas]="","",IF(B17="","",IF(ISNUMBER(B17)=FALSE,1,IF(B17=Tabla1325[Cant. Salas],"",B17+1)))) | C18: =IF(IF(Tabla1228[[#This Row],[Orden]]="","",IF(Tabla1325[Nivel]=BD!$L$1,'Filtrar Salas Grado Año'!A14,IF(Tabla1325[Nivel]=BD!$L$2,'Filtrar Salas Grado Año'!C14,'Filtrar Salas Grado Año'!E14)))="(en blanco)","",IF(Tabla1228[[#This Row],[Orden]]="","",IF(Tabla1325[Nivel]=BD!$L$1,'Filtrar Salas Grado Año'!A14,IF(Tabla1325[Nivel]=BD!$L$2,'Filtrar Salas Grado Año'!C14,'Filtrar Salas Grado Año'!E14)))) | F18: =IF(Tabla1325[Cant. Alumnos]>1,IF(F17="","",IF(ISNUMBER(F17)=FALSE,1,IF(F17=Tabla1325[Cant. Alumnos],"",F17+1))),"") -> 16 | G18: {=IF(Tabla2126[[#This Row],[Contador]]="","",IF(Tabla1325[Nivel]=BD!$L$1,IFERROR(SMALL(IF(Tabla19[Sala]=$C$2,Tabla19[ID2]),ROW()-2),""),IF(Tabla1325[Nivel]=BD!$L$2,IFERROR(SMALL(IF(Tabla199[Sala]=$C$2,Tabla199[ID2]),ROW()-2),""),IFERROR(SMALL(IF(Tabla19912[Sala]=$C$2,Tabla19912[ID2]),ROW()-2),""))))} | H18: =IF(Tabla2126[[#This Row],[ID]]="","",IF(Tabla1325[Nivel]=BD!$L$1,VLOOKUP(Tabla2126[[#This Row],[ID]],Tabla19[],4,0),IF(Tabla1325[Nivel]=BD!$L$2,VLOOKUP(Tabla2126[[#This Row],[ID]],Tabla199[],4,0),VLOOKUP(Tabla2126[[#This Row],[ID]],Tabla19912[],4,0))))
... B29: =IF(Tabla1325[Cant. Salas]="","",IF(B28="","",IF(ISNUMBER(B28)=FALSE,1,IF(B28=Tabla1325[Cant. Salas],"",B28+1)))) | C29: =IF(IF(Tabla1228[[#This Row],[Orden]]="","",IF(Tabla1325[Nivel]=BD!$L$1,'Filtrar Salas Grado Año'!A25,IF(Tabla1325[Nivel]=BD!$L$2,'Filtrar Salas Grado Año'!C25,'Filtrar Salas Grado Año'!E25)))="(en blanco)","",IF(Tabla1228[[#This Row],[Orden]]="","",IF(Tabla1325[Nivel]=BD!$L$1,'Filtrar Salas Grado Año'!A25,IF(Tabla1325[Nivel]=BD!$L$2,'Filtrar Salas Grado Año'!C25,'Filtrar Salas Grado Año'!E25)))) | F29: =IF(Tabla1325[Cant. Alumnos]>1,IF(F28="","",IF(ISNUMBER(F28)=FALSE,1,IF(F28=Tabla1325[Cant. Alumnos],"",F28+1))),"") -> 27 | G29: {=IF(Tabla2126[[#This Row],[Contador]]="","",IF(Tabla1325[Nivel]=BD!$L$1,IFERROR(SMALL(IF(Tabla19[Sala]=$C$2,Tabla19[ID2]),ROW()-2),""),IF(Tabla1325[Nivel]=BD!$L$2,IFERROR(SMALL(IF(Tabla199[Sala]=$C$2,Tabla199[ID2]),ROW()-2),""),IFERROR(SMALL(IF(Tabla19912[Sala]=$C$2,Tabla19912[ID2]),ROW()-2),""))))} | H29: =IF(Tabla2126[[#This Row],[ID]]="","",IF(Tabla1325[Nivel]=BD!$L$1,VLOOKUP(Tabla2126[[#This Row],[ID]],Tabla19[],4,0),IF(Tabla1325[Nivel]=BD!$L$2,VLOOKUP(Tabla2126[[#This Row],[ID]],Tabla199[],4,0),VLOOKUP(Tabla2126[[#This Row],[ID]],Tabla19912[],4,0))))
F30: =IF(Tabla1325[Cant. Alumnos]>1,IF(F29="","",IF(ISNUMBER(F29)=FALSE,1,IF(F29=Tabla1325[Cant. Alumnos],"",F29+1))),"") -> 28 | G30: {=IF(Tabla2126[[#This Row],[Contador]]="","",IF(Tabla1325[Nivel]=BD!$L$1,IFERROR(SMALL(IF(Tabla19[Sala]=$C$2,Tabla19[ID2]),ROW()-2),""),IF(Tabla1325[Nivel]=BD!$L$2,IFERROR(SMALL(IF(Tabla199[Sala]=$C$2,Tabla199[ID2]),ROW()-2),""),IFERROR(SMALL(IF(Tabla19912[Sala]=$C$2,Tabla19912[ID2]),ROW()-2),""))))} | H30: =IF(Tabla2126[[#This Row],[ID]]="","",IF(Tabla1325[Nivel]=BD!$L$1,VLOOKUP(Tabla2126[[#This Row],[ID]],Tabla19[],4,0),IF(Tabla1325[Nivel]=BD!$L$2,VLOOKUP(Tabla2126[[#This Row],[ID]],Tabla199[],4,0),VLOOKUP(Tabla2126[[#This Row],[ID]],Tabla19912[],4,0))))
F31: =IF(Tabla1325[Cant. Alumnos]>1,IF(F30="","",IF(ISNUMBER(F30)=FALSE,1,IF(F30=Tabla1325[Cant. Alumnos],"",F30+1))),"") -> 29 | G31: {=IF(Tabla2126[[#This Row],[Contador]]="","",IF(Tabla1325[Nivel]=BD!$L$1,IFERROR(SMALL(IF(Tabla19[Sala]=$C$2,Tabla19[ID2]),ROW()-2),""),IF(Tabla1325[Nivel]=BD!$L$2,IFERROR(SMALL(IF(Tabla199[Sala]=$C$2,Tabla199[ID2]),ROW()-2),""),IFERROR(SMALL(IF(Tabla19912[Sala]=$C$2,Tabla19912[ID2]),ROW()-2),""))))} | H31: =IF(Tabla2126[[#This Row],[ID]]="","",IF(Tabla1325[Nivel]=BD!$L$1,VLOOKUP(Tabla2126[[#This Row],[ID]],Tabla19[],4,0),IF(Tabla1325[Nivel]=BD!$L$2,VLOOKUP(Tabla2126[[#This Row],[ID]],Tabla199[],4,0),VLOOKUP(Tabla2126[[#This Row],[ID]],Tabla19912[],4,0))))
F32: =IF(Tabla1325[Cant. Alumnos]>1,IF(F31="","",IF(ISNUMBER(F31)=FALSE,1,IF(F31=Tabla1325[Cant. Alumnos],"",F31+1))),"") -> 30 | G32: {=IF(Tabla2126[[#This Row],[Contador]]="","",IF(Tabla1325[Nivel]=BD!$L$1,IFERROR(SMALL(IF(Tabla19[Sala]=$C$2,Tabla19[ID2]),ROW()-2),""),IF(Tabla1325[Nivel]=BD!$L$2,IFERROR(SMALL(IF(Tabla199[Sala]=$C$2,Tabla199[ID2]),ROW()-2),""),IFERROR(SMALL(IF(Tabla19912[Sala]=$C$2,Tabla19912[ID2]),ROW()-2),""))))} | H32: =IF(Tabla2126[[#This Row],[ID]]="","",IF(Tabla1325[Nivel]=BD!$L$1,VLOOKUP(Tabla2126[[#This Row],[ID]],Tabla19[],4,0),IF(Tabla1325[Nivel]=BD!$L$2,VLOOKUP(Tabla2126[[#This Row],[ID]],Tabla199[],4,0),VLOOKUP(Tabla2126[[#This Row],[ID]],Tabla19912[],4,0))))
F33: =IF(Tabla1325[Cant. Alumnos]>1,IF(F32="","",IF(ISNUMBER(F32)=FALSE,1,IF(F32=Tabla1325[Cant. Alumnos],"",F32+1))),"") -> 31 | G33: {=IF(Tabla2126[[#This Row],[Contador]]="","",IF(Tabla1325[Nivel]=BD!$L$1,IFERROR(SMALL(IF(Tabla19[Sala]=$C$2,Tabla19[ID2]),ROW()-2),""),IF(Tabla1325[Nivel]=BD!$L$2,IFERROR(SMALL(IF(Tabla199[Sala]=$C$2,Tabla199[ID2]),ROW()-2),""),IFERROR(SMALL(IF(Tabla19912[Sala]=$C$2,Tabla19912[ID2]),ROW()-2),""))))} | H33: =IF(Tabla2126[[#This Row],[ID]]="","",IF(Tabla1325[Nivel]=BD!$L$1,VLOOKUP(Tabla2126[[#This Row],[ID]],Tabla19[],4,0),IF(Tabla1325[Nivel]=BD!$L$2,VLOOKUP(Tabla2126[[#This Row],[ID]],Tabla199[],4,0),VLOOKUP(Tabla2126[[#This Row],[ID]],Tabla19912[],4,0))))
F34: =IF(Tabla1325[Cant. Alumnos]>1,IF(F33="","",IF(ISNUMBER(F33)=FALSE,1,IF(F33=Tabla1325[Cant. Alumnos],"",F33+1))),"") -> 32 | G34: {=IF(Tabla2126[[#This Row],[Contador]]="","",IF(Tabla1325[Nivel]=BD!$L$1,IFERROR(SMALL(IF(Tabla19[Sala]=$C$2,Tabla19[ID2]),ROW()-2),""),IF(Tabla1325[Nivel]=BD!$L$2,IFERROR(SMALL(IF(Tabla199[Sala]=$C$2,Tabla199[ID2]),ROW()-2),""),IFERROR(SMALL(IF(Tabla19912[Sala]=$C$2,Tabla19912[ID2]),ROW()-2),""))))} | H34: =IF(Tabla2126[[#This Row],[ID]]="","",IF(Tabla1325[Nivel]=BD!$L$1,VLOOKUP(Tabla2126[[#This Row],[ID]],Tabla19[],4,0),IF(Tabla1325[Nivel]=BD!$L$2,VLOOKUP(Tabla2126[[#This Row],[ID]],Tabla199[],4,0),VLOOKUP(Tabla2126[[#This Row],[ID]],Tabla19912[],4,0))))
F35: =IF(Tabla1325[Cant. Alumnos]>1,IF(F34="","",IF(ISNUMBER(F34)=FALSE,1,IF(F34=Tabla1325[Cant. Alumnos],"",F34+1))),"") -> 33 | G35: {=IF(Tabla2126[[#This Row],[Contador]]="","",IF(Tabla1325[Nivel]=BD!$L$1,IFERROR(SMALL(IF(Tabla19[Sala]=$C$2,Tabla19[ID2]),ROW()-2),""),IF(Tabla1325[Nivel]=BD!$L$2,IFERROR(SMALL(IF(Tabla199[Sala]=$C$2,Tabla199[ID2]),ROW()-2),""),IFERROR(SMALL(IF(Tabla19912[Sala]=$C$2,Tabla19912[ID2]),ROW()-2),""))))} | H35: =IF(Tabla2126[[#This Row],[ID]]="","",IF(Tabla1325[Nivel]=BD!$L$1,VLOOKUP(Tabla2126[[#This Row],[ID]],Tabla19[],4,0),IF(Tabla1325[Nivel]=BD!$L$2,VLOOKUP(Tabla2126[[#This Row],[ID]],Tabla199[],4,0),VLOOKUP(Tabla2126[[#This Row],[ID]],Tabla19912[],4,0))))
F36: =IF(Tabla1325[Cant. Alumnos]>1,IF(F35="","",IF(ISNUMBER(F35)=FALSE,1,IF(F35=Tabla1325[Cant. Alumnos],"",F35+1))),"") -> 34 | G36: {=IF(Tabla2126[[#This Row],[Contador]]="","",IF(Tabla1325[Nivel]=BD!$L$1,IFERROR(SMALL(IF(Tabla19[Sala]=$C$2,Tabla19[ID2]),ROW()-2),""),IF(Tabla1325[Nivel]=BD!$L$2,IFERROR(SMALL(IF(Tabla199[Sala]=$C$2,Tabla199[ID2]),ROW()-2),""),IFERROR(SMALL(IF(Tabla19912[Sala]=$C$2,Tabla19912[ID2]),ROW()-2),""))))} | H36: =IF(Tabla2126[[#This Row],[ID]]="","",IF(Tabla1325[Nivel]=BD!$L$1,VLOOKUP(Tabla2126[[#This Row],[ID]],Tabla19[],4,0),IF(Tabla1325[Nivel]=BD!$L$2,VLOOKUP(Tabla2126[[#This Row],[ID]],Tabla199[],4,0),VLOOKUP(Tabla2126[[#This Row],[ID]],Tabla19912[],4,0))))
F37: =IF(Tabla1325[Cant. Alumnos]>1,IF(F36="","",IF(ISNUMBER(F36)=FALSE,1,IF(F36=Tabla1325[Cant. Alumnos],"",F36+1))),"") -> 35 | G37: {=IF(Tabla2126[[#This Row],[Contador]]="","",IF(Tabla1325[Nivel]=BD!$L$1,IFERROR(SMALL(IF(Tabla19[Sala]=$C$2,Tabla19[ID2]),ROW()-2),""),IF(Tabla1325[Nivel]=BD!$L$2,IFERROR(SMALL(IF(Tabla199[Sala]=$C$2,Tabla199[ID2]),ROW()-2),""),IFERROR(SMALL(IF(Tabla19912[Sala]=$C$2,Tabla19912[ID2]),ROW()-2),""))))} | H37: =IF(Tabla2126[[#This Row],[ID]]="","",IF(Tabla1325[Nivel]=BD!$L$1,VLOOKUP(Tabla2126[[#This Row],[ID]],Tabla19[],4,0),IF(Tabla1325[Nivel]=BD!$L$2,VLOOKUP(Tabla2126[[#This Row],[ID]],Tabla199[],4,0),VLOOKUP(Tabla2126[[#This Row],[ID]],Tabla19912[],4,0))))
F38: =IF(Tabla1325[Cant. Alumnos]>1,IF(F37="","",IF(ISNUMBER(F37)=FALSE,1,IF(F37=Tabla1325[Cant. Alumnos],"",F37+1))),"") -> 36 | G38: {=IF(Tabla2126[[#This Row],[Contador]]="","",IF(Tabla1325[Nivel]=BD!$L$1,IFERROR(SMALL(IF(Tabla19[Sala]=$C$2,Tabla19[ID2]),ROW()-2),""),IF(Tabla1325[Nivel]=BD!$L$2,IFERROR(SMALL(IF(Tabla199[Sala]=$C$2,Tabla199[ID2]),ROW()-2),""),IFERROR(SMALL(IF(Tabla19912[Sala]=$C$2,Tabla19912[ID2]),ROW()-2),""))))} | H38: =IF(Tabla2126[[#This Row],[ID]]="","",IF(Tabla1325[Nivel]=BD!$L$1,VLOOKUP(Tabla2126[[#This Row],[ID]],Tabla19[],4,0),IF(Tabla1325[Nivel]=BD!$L$2,VLOOKUP(Tabla2126[[#This Row],[ID]],Tabla199[],4,0),VLOOKUP(Tabla2126[[#This Row],[ID]],Tabla19912[],4,0))))
F39: =IF(Tabla1325[Cant. Alumnos]>1,IF(F38="","",IF(ISNUMBER(F38)=FALSE,1,IF(F38=Tabla1325[Cant. Alumnos],"",F38+1))),"") -> 37 | G39: {=IF(Tabla2126[[#This Row],[Contador]]="","",IF(Tabla1325[Nivel]=BD!$L$1,IFERROR(SMALL(IF(Tabla19[Sala]=$C$2,Tabla19[ID2]),ROW()-2),""),IF(Tabla1325[Nivel]=BD!$L$2,IFERROR(SMALL(IF(Tabla199[Sala]=$C$2,Tabla199[ID2]),ROW()-2),""),IFERROR(SMALL(IF(Tabla19912[Sala]=$C$2,Tabla19912[ID2]),ROW()-2),""))))} | H39: =IF(Tabla2126[[#This Row],[ID]]="","",IF(Tabla1325[Nivel]=BD!$L$1,VLOOKUP(Tabla2126[[#This Row],[ID]],Tabla19[],4,0),IF(Tabla1325[Nivel]=BD!$L$2,VLOOKUP(Tabla2126[[#This Row],[ID]],Tabla199[],4,0),VLOOKUP(Tabla2126[[#This Row],[ID]],Tabla19912[],4,0))))
F40: =IF(Tabla1325[Cant. Alumnos]>1,IF(F39="","",IF(ISNUMBER(F39)=FALSE,1,IF(F39=Tabla1325[Cant. Alumnos],"",F39+1))),"") -> 38 | G40: {=IF(Tabla2126[[#This Row],[Contador]]="","",IF(Tabla1325[Nivel]=BD!$L$1,IFERROR(SMALL(IF(Tabla19[Sala]=$C$2,Tabla19[ID2]),ROW()-2),""),IF(Tabla1325[Nivel]=BD!$L$2,IFERROR(SMALL(IF(Tabla199[Sala]=$C$2,Tabla199[ID2]),ROW()-2),""),IFERROR(SMALL(IF(Tabla19912[Sala]=$C$2,Tabla19912[ID2]),ROW()-2),""))))} | H40: =IF(Tabla2126[[#This Row],[ID]]="","",IF(Tabla1325[Nivel]=BD!$L$1,VLOOKUP(Tabla2126[[#This Row],[ID]],Tabla19[],4,0),IF(Tabla1325[Nivel]=BD!$L$2,VLOOKUP(Tabla2126[[#This Row],[ID]],Tabla199[],4,0),VLOOKUP(Tabla2126[[#This Row],[ID]],Tabla19912[],4,0))))
F41: =IF(Tabla1325[Cant. Alumnos]>1,IF(F40="","",IF(ISNUMBER(F40)=FALSE,1,IF(F40=Tabla1325[Cant. Alumnos],"",F40+1))),"") -> 39 | G41: {=IF(Tabla2126[[#This Row],[Contador]]="","",IF(Tabla1325[Nivel]=BD!$L$1,IFERROR(SMALL(IF(Tabla19[Sala]=$C$2,Tabla19[ID2]),ROW()-2),""),IF(Tabla1325[Nivel]=BD!$L$2,IFERROR(SMALL(IF(Tabla199[Sala]=$C$2,Tabla199[ID2]),ROW()-2),""),IFERROR(SMALL(IF(Tabla19912[Sala]=$C$2,Tabla19912[ID2]),ROW()-2),""))))} | H41: =IF(Tabla2126[[#This Row],[ID]]="","",IF(Tabla1325[Nivel]=BD!$L$1,VLOOKUP(Tabla2126[[#This Row],[ID]],Tabla19[],4,0),IF(Tabla1325[Nivel]=BD!$L$2,VLOOKUP(Tabla2126[[#This Row],[ID]],Tabla199[],4,0),VLOOKUP(Tabla2126[[#This Row],[ID]],Tabla19912[],4,0))))
... F61: =IF(Tabla1325[Cant. Alumnos]>1,IF(F60="","",IF(ISNUMBER(F60)=FALSE,1,IF(F60=Tabla1325[Cant. Alumnos],"",F60+1))),"") -> 59 | G61: {=IF(Tabla2126[[#This Row],[Contador]]="","",IF(Tabla1325[Nivel]=BD!$L$1,IFERROR(SMALL(IF(Tabla19[Sala]=$C$2,Tabla19[ID2]),ROW()-2),""),IF(Tabla1325[Nivel]=BD!$L$2,IFERROR(SMALL(IF(Tabla199[Sala]=$C$2,Tabla199[ID2]),ROW()-2),""),IFERROR(SMALL(IF(Tabla19912[Sala]=$C$2,Tabla19912[ID2]),ROW()-2),""))))} | H61: =IF(Tabla2126[[#This Row],[ID]]="","",IF(Tabla1325[Nivel]=BD!$L$1,VLOOKUP(Tabla2126[[#This Row],[ID]],Tabla19[],4,0),IF(Tabla1325[Nivel]=BD!$L$2,VLOOKUP(Tabla2126[[#This Row],[ID]],Tabla199[],4,0),VLOOKUP(Tabla2126[[#This Row],[ID]],Tabla19912[],4,0))))

Sheet Carga 3er alumno
A1: Cant. Salas | B1: Nivel | C1: Sala | D1: Cant. Alumnos
A2: =IF(Tabla132529[[#This Row],[Nivel]]=BD!$L$1,'Filtrar Salas Grado Año'!$B$2,IF(Tabla132529[[#This Row],[Nivel]]=BD!$L$2,'Filtrar Salas Grado Año'!$D$2,IF(Tabla132529[[#This Row],[Nivel]]=BD!$L$3,'Filtrar Salas Grado Año'!$F$2,""))) | B2: ='Mi Pedido lista'!B5 -> 0 | C2: ='Mi Pedido lista'!C5 -> 0 | D2: =IF(Tabla132529[[#This Row],[Nivel]]=BD!$L$1,COUNTIFS(Tabla19[Alumno],"<>",Tabla19[Sala],Tabla132529[[#This Row],[Sala]]),IF(Tabla132529[[#This Row],[Nivel]]=BD!$L$2,COUNTIFS(Tabla199[Alumno],"<>",Tabla199[Sala],Tabla132529[[#This Row],[Sala]]),IF(Tabla132529[[#This Row],[Nivel]]=BD!$L$3,COUNTIFS(Tabla19912[Columna1],"<>",Tabla19912[Sala],Tabla132529[[#This Row],[Sala]]),""))) | F2: Contador | G2: ID | H2: Alumno
F3: =IF(Tabla132529[Cant. Alumnos]>1,IF(F2="","",IF(ISNUMBER(F2)=FALSE,1,IF(F2=Tabla132529[Cant. Alumnos],"",F2+1))),"") -> 1 | G3: {=IF(Tabla212630[[#This Row],[Contador]]="","",IF(Tabla132529[Nivel]=BD!$L$1,IFERROR(SMALL(IF(Tabla19[Sala]=$C$2,Tabla19[ID2]),ROW()-2),""),IF(Tabla132529[Nivel]=BD!$L$2,IFERROR(SMALL(IF(Tabla199[Sala]=$C$2,Tabla199[ID2]),ROW()-2),""),IFERROR(SMALL(IF(Tabla19912[Sala]=$C$2,Tabla19912[ID2]),ROW()-2),""))))} | H3: =IF(Tabla212630[[#This Row],[ID]]="","",IF(Tabla132529[Nivel]=BD!$L$1,VLOOKUP(Tabla212630[[#This Row],[ID]],Tabla19[],4,0),IF(Tabla132529[Nivel]=BD!$L$2,VLOOKUP(Tabla212630[[#This Row],[ID]],Tabla199[],4,0),VLOOKUP(Tabla212630[[#This Row],[ID]],Tabla19912[],4,0))))
F4: =IF(Tabla132529[Cant. Alumnos]>1,IF(F3="","",IF(ISNUMBER(F3)=FALSE,1,IF(F3=Tabla132529[Cant. Alumnos],"",F3+1))),"") -> 2 | G4: {=IF(Tabla212630[[#This Row],[Contador]]="","",IF(Tabla132529[Nivel]=BD!$L$1,IFERROR(SMALL(IF(Tabla19[Sala]=$C$2,Tabla19[ID2]),ROW()-2),""),IF(Tabla132529[Nivel]=BD!$L$2,IFERROR(SMALL(IF(Tabla199[Sala]=$C$2,Tabla199[ID2]),ROW()-2),""),IFERROR(SMALL(IF(Tabla19912[Sala]=$C$2,Tabla19912[ID2]),ROW()-2),""))))} | H4: =IF(Tabla212630[[#This Row],[ID]]="","",IF(Tabla132529[Nivel]=BD!$L$1,VLOOKUP(Tabla212630[[#This Row],[ID]],Tabla19[],4,0),IF(Tabla132529[Nivel]=BD!$L$2,VLOOKUP(Tabla212630[[#This Row],[ID]],Tabla199[],4,0),VLOOKUP(Tabla212630[[#This Row],[ID]],Tabla19912[],4,0))))
F5: =IF(Tabla132529[Cant. Alumnos]>1,IF(F4="","",IF(ISNUMBER(F4)=FALSE,1,IF(F4=Tabla132529[Cant. Alumnos],"",F4+1))),"") -> 3 | G5: {=IF(Tabla212630[[#This Row],[Contador]]="","",IF(Tabla132529[Nivel]=BD!$L$1,IFERROR(SMALL(IF(Tabla19[Sala]=$C$2,Tabla19[ID2]),ROW()-2),""),IF(Tabla132529[Nivel]=BD!$L$2,IFERROR(SMALL(IF(Tabla199[Sala]=$C$2,Tabla199[ID2]),ROW()-2),""),IFERROR(SMALL(IF(Tabla19912[Sala]=$C$2,Tabla19912[ID2]),ROW()-2),""))))} | H5: =IF(Tabla212630[[#This Row],[ID]]="","",IF(Tabla132529[Nivel]=BD!$L$1,VLOOKUP(Tabla212630[[#This Row],[ID]],Tabla19[],4,0),IF(Tabla132529[Nivel]=BD!$L$2,VLOOKUP(Tabla212630[[#This Row],[ID]],Tabla199[],4,0),VLOOKUP(Tabla212630[[#This Row],[ID]],Tabla19912[],4,0))))
B6: Orden | C6: Sala | F6: =IF(Tabla132529[Cant. Alumnos]>1,IF(F5="","",IF(ISNUMBER(F5)=FALSE,1,IF(F5=Tabla132529[Cant. Alumnos],"",F5+1))),"") -> 4 | G6: {=IF(Tabla212630[[#This Row],[Contador]]="","",IF(Tabla132529[Nivel]=BD!$L$1,IFERROR(SMALL(IF(Tabla19[Sala]=$C$2,Tabla19[ID2]),ROW()-2),""),IF(Tabla132529[Nivel]=BD!$L$2,IFERROR(SMALL(IF(Tabla199[Sala]=$C$2,Tabla199[ID2]),ROW()-2),""),IFERROR(SMALL(IF(Tabla19912[Sala]=$C$2,Tabla19912[ID2]),ROW()-2),""))))} | H6: =IF(Tabla212630[[#This Row],[ID]]="","",IF(Tabla132529[Nivel]=BD!$L$1,VLOOKUP(Tabla212630[[#This Row],[ID]],Tabla19[],4,0),IF(Tabla132529[Nivel]=BD!$L$2,VLOOKUP(Tabla212630[[#This Row],[ID]],Tabla199[],4,0),VLOOKUP(Tabla212630[[#This Row],[ID]],Tabla19912[],4,0))))
B7: =IF(Tabla132529[Cant. Salas]="","",IF(B6="","",IF(ISNUMBER(B6)=FALSE,1,IF(B6=Tabla132529[Cant. Salas],"",B6+1)))) | C7: =IF(IF(Tabla122831[[#This Row],[Orden]]="","",IF(Tabla132529[Nivel]=BD!$L$1,'Filtrar Salas Grado Año'!A3,IF(Tabla132529[Nivel]=BD!$L$2,'Filtrar Salas Grado Año'!C3,'Filtrar Salas Grado Año'!E3)))="(en blanco)","",IF(Tabla122831[[#This Row],[Orden]]="","",IF(Tabla132529[Nivel]=BD!$L$1,'Filtrar Salas Grado Año'!A3,IF(Tabla132529[Nivel]=BD!$L$2,'Filtrar Salas Grado Año'!C3,'Filtrar Salas Grado Año'!E3)))) | F7: =IF(Tabla132529[Cant. Alumnos]>1,IF(F6="","",IF(ISNUMBER(F6)=FALSE,1,IF(F6=Tabla132529[Cant. Alumnos],"",F6+1))),"") -> 5 | G7: {=IF(Tabla212630[[#This Row],[Contador]]="","",IF(Tabla132529[Nivel]=BD!$L$1,IFERROR(SMALL(IF(Tabla19[Sala]=$C$2,Tabla19[ID2]),ROW()-2),""),IF(Tabla132529[Nivel]=BD!$L$2,IFERROR(SMALL(IF(Tabla199[Sala]=$C$2,Tabla199[ID2]),ROW()-2),""),IFERROR(SMALL(IF(Tabla19912[Sala]=$C$2,Tabla19912[ID2]),ROW()-2),""))))} | H7: =IF(Tabla212630[[#This Row],[ID]]="","",IF(Tabla132529[Nivel]=BD!$L$1,VLOOKUP(Tabla212630[[#This Row],[ID]],Tabla19[],4,0),IF(Tabla132529[Nivel]=BD!$L$2,VLOOKUP(Tabla212630[[#This Row],[ID]],Tabla199[],4,0),VLOOKUP(Tabla212630[[#This Row],[ID]],Tabla19912[],4,0))))
B8: =IF(Tabla132529[Cant. Salas]="","",IF(B7="","",IF(ISNUMBER(B7)=FALSE,1,IF(B7=Tabla132529[Cant. Salas],"",B7+1)))) | C8: =IF(IF(Tabla122831[[#This Row],[Orden]]="","",IF(Tabla132529[Nivel]=BD!$L$1,'Filtrar Salas Grado Año'!A4,IF(Tabla132529[Nivel]=BD!$L$2,'Filtrar Salas Grado Año'!C4,'Filtrar Salas Grado Año'!E4)))="(en blanco)","",IF(Tabla122831[[#This Row],[Orden]]="","",IF(Tabla132529[Nivel]=BD!$L$1,'Filtrar Salas Grado Año'!A4,IF(Tabla132529[Nivel]=BD!$L$2,'Filtrar Salas Grado Año'!C4,'Filtrar Salas Grado Año'!E4)))) | F8: =IF(Tabla132529[Cant. Alumnos]>1,IF(F7="","",IF(ISNUMBER(F7)=FALSE,1,IF(F7=Tabla132529[Cant. Alumnos],"",F7+1))),"") -> 6 | G8: {=IF(Tabla212630[[#This Row],[Contador]]="","",IF(Tabla132529[Nivel]=BD!$L$1,IFERROR(SMALL(IF(Tabla19[Sala]=$C$2,Tabla19[ID2]),ROW()-2),""),IF(Tabla132529[Nivel]=BD!$L$2,IFERROR(SMALL(IF(Tabla199[Sala]=$C$2,Tabla199[ID2]),ROW()-2),""),IFERROR(SMALL(IF(Tabla19912[Sala]=$C$2,Tabla19912[ID2]),ROW()-2),""))))} | H8: =IF(Tabla212630[[#This Row],[ID]]="","",IF(Tabla132529[Nivel]=BD!$L$1,VLOOKUP(Tabla212630[[#This Row],[ID]],Tabla19[],4,0),IF(Tabla132529[Nivel]=BD!$L$2,VLOOKUP(Tabla212630[[#This Row],[ID]],Tabla199[],4,0),VLOOKUP(Tabla212630[[#This Row],[ID]],Tabla19912[],4,0))))
B9: =IF(Tabla132529[Cant. Salas]="","",IF(B8="","",IF(ISNUMBER(B8)=FALSE,1,IF(B8=Tabla132529[Cant. Salas],"",B8+1)))) | C9: =IF(IF(Tabla122831[[#This Row],[Orden]]="","",IF(Tabla132529[Nivel]=BD!$L$1,'Filtrar Salas Grado Año'!A5,IF(Tabla132529[Nivel]=BD!$L$2,'Filtrar Salas Grado Año'!C5,'Filtrar Salas Grado Año'!E5)))="(en blanco)","",IF(Tabla122831[[#This Row],[Orden]]="","",IF(Tabla132529[Nivel]=BD!$L$1,'Filtrar Salas Grado Año'!A5,IF(Tabla132529[Nivel]=BD!$L$2,'Filtrar Salas Grado Año'!C5,'Filtrar Salas Grado Año'!E5)))) | F9: =IF(Tabla132529[Cant. Alumnos]>1,IF(F8="","",IF(ISNUMBER(F8)=FALSE,1,IF(F8=Tabla132529[Cant. Alumnos],"",F8+1))),"") -> 7 | G9: {=IF(Tabla212630[[#This Row],[Contador]]="","",IF(Tabla132529[Nivel]=BD!$L$1,IFERROR(SMALL(IF(Tabla19[Sala]=$C$2,Tabla19[ID2]),ROW()-2),""),IF(Tabla132529[Nivel]=BD!$L$2,IFERROR(SMALL(IF(Tabla199[Sala]=$C$2,Tabla199[ID2]),ROW()-2),""),IFERROR(SMALL(IF(Tabla19912[Sala]=$C$2,Tabla19912[ID2]),ROW()-2),""))))} | H9: =IF(Tabla212630[[#This Row],[ID]]="","",IF(Tabla132529[Nivel]=BD!$L$1,VLOOKUP(Tabla212630[[#This Row],[ID]],Tabla19[],4,0),IF(Tabla132529[Nivel]=BD!$L$2,VLOOKUP(Tabla212630[[#This Row],[ID]],Tabla199[],4,0),VLOOKUP(Tabla212630[[#This Row],[ID]],Tabla19912[],4,0))))
B10: =IF(Tabla132529[Cant. Salas]="","",IF(B9="","",IF(ISNUMBER(B9)=FALSE,1,IF(B9=Tabla132529[Cant. Salas],"",B9+1)))) | C10: =IF(IF(Tabla122831[[#This Row],[Orden]]="","",IF(Tabla132529[Nivel]=BD!$L$1,'Filtrar Salas Grado Año'!A6,IF(Tabla132529[Nivel]=BD!$L$2,'Filtrar Salas Grado Año'!C6,'Filtrar Salas Grado Año'!E6)))="(en blanco)","",IF(Tabla122831[[#This Row],[Orden]]="","",IF(Tabla132529[Nivel]=BD!$L$1,'Filtrar Salas Grado Año'!A6,IF(Tabla132529[Nivel]=BD!$L$2,'Filtrar Salas Grado Año'!C6,'Filtrar Salas Grado Año'!E6)))) | F10: =IF(Tabla132529[Cant. Alumnos]>1,IF(F9="","",IF(ISNUMBER(F9)=FALSE,1,IF(F9=Tabla132529[Cant. Alumnos],"",F9+1))),"") -> 8 | G10: {=IF(Tabla212630[[#This Row],[Contador]]="","",IF(Tabla132529[Nivel]=BD!$L$1,IFERROR(SMALL(IF(Tabla19[Sala]=$C$2,Tabla19[ID2]),ROW()-2),""),IF(Tabla132529[Nivel]=BD!$L$2,IFERROR(SMALL(IF(Tabla199[Sala]=$C$2,Tabla199[ID2]),ROW()-2),""),IFERROR(SMALL(IF(Tabla19912[Sala]=$C$2,Tabla19912[ID2]),ROW()-2),""))))} | H10: =IF(Tabla212630[[#This Row],[ID]]="","",IF(Tabla132529[Nivel]=BD!$L$1,VLOOKUP(Tabla212630[[#This Row],[ID]],Tabla19[],4,0),IF(Tabla132529[Nivel]=BD!$L$2,VLOOKUP(Tabla212630[[#This Row],[ID]],Tabla199[],4,0),VLOOKUP(Tabla212630[[#This Row],[ID]],Tabla19912[],4,0))))
B11: =IF(Tabla132529[Cant. Salas]="","",IF(B10="","",IF(ISNUMBER(B10)=FALSE,1,IF(B10=Tabla132529[Cant. Salas],"",B10+1)))) | C11: =IF(IF(Tabla122831[[#This Row],[Orden]]="","",IF(Tabla132529[Nivel]=BD!$L$1,'Filtrar Salas Grado Año'!A7,IF(Tabla132529[Nivel]=BD!$L$2,'Filtrar Salas Grado Año'!C7,'Filtrar Salas Grado Año'!E7)))="(en blanco)","",IF(Tabla122831[[#This Row],[Orden]]="","",IF(Tabla132529[Nivel]=BD!$L$1,'Filtrar Salas Grado Año'!A7,IF(Tabla132529[Nivel]=BD!$L$2,'Filtrar Salas Grado Año'!C7,'Filtrar Salas Grado Año'!E7)))) | F11: =IF(Tabla132529[Cant. Alumnos]>1,IF(F10="","",IF(ISNUMBER(F10)=FALSE,1,IF(F10=Tabla132529[Cant. Alumnos],"",F10+1))),"") -> 9 | G11: {=IF(Tabla212630[[#This Row],[Contador]]="","",IF(Tabla132529[Nivel]=BD!$L$1,IFERROR(SMALL(IF(Tabla19[Sala]=$C$2,Tabla19[ID2]),ROW()-2),""),IF(Tabla132529[Nivel]=BD!$L$2,IFERROR(SMALL(IF(Tabla199[Sala]=$C$2,Tabla199[ID2]),ROW()-2),""),IFERROR(SMALL(IF(Tabla19912[Sala]=$C$2,Tabla19912[ID2]),ROW()-2),""))))} | H11: =IF(Tabla212630[[#This Row],[ID]]="","",IF(Tabla132529[Nivel]=BD!$L$1,VLOOKUP(Tabla212630[[#This Row],[ID]],Tabla19[],4,0),IF(Tabla132529[Nivel]=BD!$L$2,VLOOKUP(Tabla212630[[#This Row],[ID]],Tabla199[],4,0),VLOOKUP(Tabla212630[[#This Row],[ID]],Tabla19912[],4,0))))
B12: =IF(Tabla132529[Cant. Salas]="","",IF(B11="","",IF(ISNUMBER(B11)=FALSE,1,IF(B11=Tabla132529[Cant. Salas],"",B11+1)))) | C12: =IF(IF(Tabla122831[[#This Row],[Orden]]="","",IF(Tabla132529[Nivel]=BD!$L$1,'Filtrar Salas Grado Año'!A8,IF(Tabla132529[Nivel]=BD!$L$2,'Filtrar Salas Grado Año'!C8,'Filtrar Salas Grado Año'!E8)))="(en blanco)","",IF(Tabla122831[[#This Row],[Orden]]="","",IF(Tabla132529[Nivel]=BD!$L$1,'Filtrar Salas Grado Año'!A8,IF(Tabla132529[Nivel]=BD!$L$2,'Filtrar Salas Grado Año'!C8,'Filtrar Salas Grado Año'!E8)))) | F12: =IF(Tabla132529[Cant. Alumnos]>1,IF(F11="","",IF(ISNUMBER(F11)=FALSE,1,IF(F11=Tabla132529[Cant. Alumnos],"",F11+1))),"") -> 10 | G12: {=IF(Tabla212630[[#This Row],[Contador]]="","",IF(Tabla132529[Nivel]=BD!$L$1,IFERROR(SMALL(IF(Tabla19[Sala]=$C$2,Tabla19[ID2]),ROW()-2),""),IF(Tabla132529[Nivel]=BD!$L$2,IFERROR(SMALL(IF(Tabla199[Sala]=$C$2,Tabla199[ID2]),ROW()-2),""),IFERROR(SMALL(IF(Tabla19912[Sala]=$C$2,Tabla19912[ID2]),ROW()-2),""))))} | H12: =IF(Tabla212630[[#This Row],[ID]]="","",IF(Tabla132529[Nivel]=BD!$L$1,VLOOKUP(Tabla212630[[#This Row],[ID]],Tabla19[],4,0),IF(Tabla132529[Nivel]=BD!$L$2,VLOOKUP(Tabla212630[[#This Row],[ID]],Tabla199[],4,0),VLOOKUP(Tabla212630[[#This Row],[ID]],Tabla19912[],4,0))))
B13: =IF(Tabla132529[Cant. Salas]="","",IF(B12="","",IF(ISNUMBER(B12)=FALSE,1,IF(B12=Tabla132529[Cant. Salas],"",B12+1)))) | C13: =IF(IF(Tabla122831[[#This Row],[Orden]]="","",IF(Tabla132529[Nivel]=BD!$L$1,'Filtrar Salas Grado Año'!A9,IF(Tabla132529[Nivel]=BD!$L$2,'Filtrar Salas Grado Año'!C9,'Filtrar Salas Grado Año'!E9)))="(en blanco)","",IF(Tabla122831[[#This Row],[Orden]]="","",IF(Tabla132529[Nivel]=BD!$L$1,'Filtrar Salas Grado Año'!A9,IF(Tabla132529[Nivel]=BD!$L$2,'Filtrar Salas Grado Año'!C9,'Filtrar Salas Grado Año'!E9)))) | F13: =IF(Tabla132529[Cant. Alumnos]>1,IF(F12="","",IF(ISNUMBER(F12)=FALSE,1,IF(F12=Tabla132529[Cant. Alumnos],"",F12+1))),"") -> 11 | G13: {=IF(Tabla212630[[#This Row],[Contador]]="","",IF(Tabla132529[Nivel]=BD!$L$1,IFERROR(SMALL(IF(Tabla19[Sala]=$C$2,Tabla19[ID2]),ROW()-2),""),IF(Tabla132529[Nivel]=BD!$L$2,IFERROR(SMALL(IF(Tabla199[Sala]=$C$2,Tabla199[ID2]),ROW()-2),""),IFERROR(SMALL(IF(Tabla19912[Sala]=$C$2,Tabla19912[ID2]),ROW()-2),""))))} | H13: =IF(Tabla212630[[#This Row],[ID]]="","",IF(Tabla132529[Nivel]=BD!$L$1,VLOOKUP(Tabla212630[[#This Row],[ID]],Tabla19[],4,0),IF(Tabla132529[Nivel]=BD!$L$2,VLOOKUP(Tabla212630[[#This Row],[ID]],Tabla199[],4,0),VLOOKUP(Tabla212630[[#This Row],[ID]],Tabla19912[],4,0))))
B14: =IF(Tabla132529[Cant. Salas]="","",IF(B13="","",IF(ISNUMBER(B13)=FALSE,1,IF(B13=Tabla132529[Cant. Salas],"",B13+1)))) | C14: =IF(IF(Tabla122831[[#This Row],[Orden]]="","",IF(Tabla132529[Nivel]=BD!$L$1,'Filtrar Salas Grado Año'!A10,IF(Tabla132529[Nivel]=BD!$L$2,'Filtrar Salas Grado Año'!C10,'Filtrar Salas Grado Año'!E10)))="(en blanco)","",IF(Tabla122831[[#This Row],[Orden]]="","",IF(Tabla132529[Nivel]=BD!$L$1,'Filtrar Salas Grado Año'!A10,IF(Tabla132529[Nivel]=BD!$L$2,'Filtrar Salas Grado Año'!C10,'Filtrar Salas Grado Año'!E10)))) | F14: =IF(Tabla132529[Cant. Alumnos]>1,IF(F13="","",IF(ISNUMBER(F13)=FALSE,1,IF(F13=Tabla132529[Cant. Alumnos],"",F13+1))),"") -> 12 | G14: {=IF(Tabla212630[[#This Row],[Contador]]="","",IF(Tabla132529[Nivel]=BD!$L$1,IFERROR(SMALL(IF(Tabla19[Sala]=$C$2,Tabla19[ID2]),ROW()-2),""),IF(Tabla132529[Nivel]=BD!$L$2,IFERROR(SMALL(IF(Tabla199[Sala]=$C$2,Tabla199[ID2]),ROW()-2),""),IFERROR(SMALL(IF(Tabla19912[Sala]=$C$2,Tabla19912[ID2]),ROW()-2),""))))} | H14: =IF(Tabla212630[[#This Row],[ID]]="","",IF(Tabla132529[Nivel]=BD!$L$1,VLOOKUP(Tabla212630[[#This Row],[ID]],Tabla19[],4,0),IF(Tabla132529[Nivel]=BD!$L$2,VLOOKUP(Tabla212630[[#This Row],[ID]],Tabla199[],4,0),VLOOKUP(Tabla212630[[#This Row],[ID]],Tabla19912[],4,0))))
B15: =IF(Tabla132529[Cant. Salas]="","",IF(B14="","",IF(ISNUMBER(B14)=FALSE,1,IF(B14=Tabla132529[Cant. Salas],"",B14+1)))) | C15: =IF(IF(Tabla122831[[#This Row],[Orden]]="","",IF(Tabla132529[Nivel]=BD!$L$1,'Filtrar Salas Grado Año'!A11,IF(Tabla132529[Nivel]=BD!$L$2,'Filtrar Salas Grado Año'!C11,'Filtrar Salas Grado Año'!E11)))="(en blanco)","",IF(Tabla122831[[#This Row],[Orden]]="","",IF(Tabla132529[Nivel]=BD!$L$1,'Filtrar Salas Grado Año'!A11,IF(Tabla132529[Nivel]=BD!$L$2,'Filtrar Salas Grado Año'!C11,'Filtrar Salas Grado Año'!E11)))) | F15: =IF(Tabla132529[Cant. Alumnos]>1,IF(F14="","",IF(ISNUMBER(F14)=FALSE,1,IF(F14=Tabla132529[Cant. Alumnos],"",F14+1))),"") -> 13 | G15: {=IF(Tabla212630[[#This Row],[Contador]]="","",IF(Tabla132529[Nivel]=BD!$L$1,IFERROR(SMALL(IF(Tabla19[Sala]=$C$2,Tabla19[ID2]),ROW()-2),""),IF(Tabla132529[Nivel]=BD!$L$2,IFERROR(SMALL(IF(Tabla199[Sala]=$C$2,Tabla199[ID2]),ROW()-2),""),IFERROR(SMALL(IF(Tabla19912[Sala]=$C$2,Tabla19912[ID2]),ROW()-2),""))))} | H15: =IF(Tabla212630[[#This Row],[ID]]="","",IF(Tabla132529[Nivel]=BD!$L$1,VLOOKUP(Tabla212630[[#This Row],[ID]],Tabla19[],4,0),IF(Tabla132529[Nivel]=BD!$L$2,VLOOKUP(Tabla212630[[#This Row],[ID]],Tabla199[],4,0),VLOOKUP(Tabla212630[[#This Row],[ID]],Tabla19912[],4,0))))
B16: =IF(Tabla132529[Cant. Salas]="","",IF(B15="","",IF(ISNUMBER(B15)=FALSE,1,IF(B15=Tabla132529[Cant. Salas],"",B15+1)))) | C16: =IF(IF(Tabla122831[[#This Row],[Orden]]="","",IF(Tabla132529[Nivel]=BD!$L$1,'Filtrar Salas Grado Año'!A12,IF(Tabla132529[Nivel]=BD!$L$2,'Filtrar Salas Grado Año'!C12,'Filtrar Salas Grado Año'!E12)))="(en blanco)","",IF(Tabla122831[[#This Row],[Orden]]="","",IF(Tabla132529[Nivel]=BD!$L$1,'Filtrar Salas Grado Año'!A12,IF(Tabla132529[Nivel]=BD!$L$2,'Filtrar Salas Grado Año'!C12,'Filtrar Salas Grado Año'!E12)))) | F16: =IF(Tabla132529[Cant. Alumnos]>1,IF(F15="","",IF(ISNUMBER(F15)=FALSE,1,IF(F15=Tabla132529[Cant. Alumnos],"",F15+1))),"") -> 14 | G16: {=IF(Tabla212630[[#This Row],[Contador]]="","",IF(Tabla132529[Nivel]=BD!$L$1,IFERROR(SMALL(IF(Tabla19[Sala]=$C$2,Tabla19[ID2]),ROW()-2),""),IF(Tabla132529[Nivel]=BD!$L$2,IFERROR(SMALL(IF(Tabla199[Sala]=$C$2,Tabla199[ID2]),ROW()-2),""),IFERROR(SMALL(IF(Tabla19912[Sala]=$C$2,Tabla19912[ID2]),ROW()-2),""))))} | H16: =IF(Tabla212630[[#This Row],[ID]]="","",IF(Tabla132529[Nivel]=BD!$L$1,VLOOKUP(Tabla212630[[#This Row],[ID]],Tabla19[],4,0),IF(Tabla132529[Nivel]=BD!$L$2,VLOOKUP(Tabla212630[[#This Row],[ID]],Tabla199[],4,0),VLOOKUP(Tabla212630[[#This Row],[ID]],Tabla19912[],4,0))))
B17: =IF(Tabla132529[Cant. Salas]="","",IF(B16="","",IF(ISNUMBER(B16)=FALSE,1,IF(B16=Tabla132529[Cant. Salas],"",B16+1)))) | C17: =IF(IF(Tabla122831[[#This Row],[Orden]]="","",IF(Tabla132529[Nivel]=BD!$L$1,'Filtrar Salas Grado Año'!A13,IF(Tabla132529[Nivel]=BD!$L$2,'Filtrar Salas Grado Año'!C13,'Filtrar Salas Grado Año'!E13)))="(en blanco)","",IF(Tabla122831[[#This Row],[Orden]]="","",IF(Tabla132529[Nivel]=BD!$L$1,'Filtrar Salas Grado Año'!A13,IF(Tabla132529[Nivel]=BD!$L$2,'Filtrar Salas Grado Año'!C13,'Filtrar Salas Grado Año'!E13)))) | F17: =IF(Tabla132529[Cant. Alumnos]>1,IF(F16="","",IF(ISNUMBER(F16)=FALSE,1,IF(F16=Tabla132529[Cant. Alumnos],"",F16+1))),"") -> 15 | G17: {=IF(Tabla212630[[#This Row],[Contador]]="","",IF(Tabla132529[Nivel]=BD!$L$1,IFERROR(SMALL(IF(Tabla19[Sala]=$C$2,Tabla19[ID2]),ROW()-2),""),IF(Tabla132529[Nivel]=BD!$L$2,IFERROR(SMALL(IF(Tabla199[Sala]=$C$2,Tabla199[ID2]),ROW()-2),""),IFERROR(SMALL(IF(Tabla19912[Sala]=$C$2,Tabla19912[ID2]),ROW()-2),""))))} | H17: =IF(Tabla212630[[#This Row],[ID]]="","",IF(Tabla132529[Nivel]=BD!$L$1,VLOOKUP(Tabla212630[[#This Row],[ID]],Tabla19[],4,0),IF(Tabla132529[Nivel]=BD!$L$2,VLOOKUP(Tabla212630[[#This Row],[ID]],Tabla199[],4,0),VLOOKUP(Tabla212630[[#This Row],[ID]],Tabla19912[],4,0))))
B18: =IF(Tabla132529[Cant. Salas]="","",IF(B17="","",IF(ISNUMBER(B17)=FALSE,1,IF(B17=Tabla132529[Cant. Salas],"",B17+1)))) | C18: =IF(IF(Tabla122831[[#This Row],[Orden]]="","",IF(Tabla132529[Nivel]=BD!$L$1,'Filtrar Salas Grado Año'!A14,IF(Tabla132529[Nivel]=BD!$L$2,'Filtrar Salas Grado Año'!C14,'Filtrar Salas Grado Año'!E14)))="(en blanco)","",IF(Tabla122831[[#This Row],[Orden]]="","",IF(Tabla132529[Nivel]=BD!$L$1,'Filtrar Salas Grado Año'!A14,IF(Tabla132529[Nivel]=BD!$L$2,'Filtrar Salas Grado Año'!C14,'Filtrar Salas Grado Año'!E14)))) | F18: =IF(Tabla132529[Cant. Alumnos]>1,IF(F17="","",IF(ISNUMBER(F17)=FALSE,1,IF(F17=Tabla132529[Cant. Alumnos],"",F17+1))),"") -> 16 | G18: {=IF(Tabla212630[[#This Row],[Contador]]="","",IF(Tabla132529[Nivel]=BD!$L$1,IFERROR(SMALL(IF(Tabla19[Sala]=$C$2,Tabla19[ID2]),ROW()-2),""),IF(Tabla132529[Nivel]=BD!$L$2,IFERROR(SMALL(IF(Tabla199[Sala]=$C$2,Tabla199[ID2]),ROW()-2),""),IFERROR(SMALL(IF(Tabla19912[Sala]=$C$2,Tabla19912[ID2]),ROW()-2),""))))} | H18: =IF(Tabla212630[[#This Row],[ID]]="","",IF(Tabla132529[Nivel]=BD!$L$1,VLOOKUP(Tabla212630[[#This Row],[ID]],Tabla19[],4,0),IF(Tabla132529[Nivel]=BD!$L$2,VLOOKUP(Tabla212630[[#This Row],[ID]],Tabla199[],4,0),VLOOKUP(Tabla212630[[#This Row],[ID]],Tabla19912[],4,0))))
... B29: =IF(Tabla132529[Cant. Salas]="","",IF(B28="","",IF(ISNUMBER(B28)=FALSE,1,IF(B28=Tabla132529[Cant. Salas],"",B28+1)))) | C29: =IF(IF(Tabla122831[[#This Row],[Orden]]="","",IF(Tabla132529[Nivel]=BD!$L$1,'Filtrar Salas Grado Año'!A25,IF(Tabla132529[Nivel]=BD!$L$2,'Filtrar Salas Grado Año'!C25,'Filtrar Salas Grado Año'!E25)))="(en blanco)","",IF(Tabla122831[[#This Row],[Orden]]="","",IF(Tabla132529[Nivel]=BD!$L$1,'Filtrar Salas Grado Año'!A25,IF(Tabla132529[Nivel]=BD!$L$2,'Filtrar Salas Grado Año'!C25,'Filtrar Salas Grado Año'!E25)))) | F29: =IF(Tabla132529[Cant. Alumnos]>1,IF(F28="","",IF(ISNUMBER(F28)=FALSE,1,IF(F28=Tabla132529[Cant. Alumnos],"",F28+1))),"") -> 27 | G29: {=IF(Tabla212630[[#This Row],[Contador]]="","",IF(Tabla132529[Nivel]=BD!$L$1,IFERROR(SMALL(IF(Tabla19[Sala]=$C$2,Tabla19[ID2]),ROW()-2),""),IF(Tabla132529[Nivel]=BD!$L$2,IFERROR(SMALL(IF(Tabla199[Sala]=$C$2,Tabla199[ID2]),ROW()-2),""),IFERROR(SMALL(IF(Tabla19912[Sala]=$C$2,Tabla19912[ID2]),ROW()-2),""))))} | H29: =IF(Tabla212630[[#This Row],[ID]]="","",IF(Tabla132529[Nivel]=BD!$L$1,VLOOKUP(Tabla212630[[#This Row],[ID]],Tabla19[],4,0),IF(Tabla132529[Nivel]=BD!$L$2,VLOOKUP(Tabla212630[[#This Row],[ID]],Tabla199[],4,0),VLOOKUP(Tabla212630[[#This Row],[ID]],Tabla19912[],4,0))))
F30: =IF(Tabla132529[Cant. Alumnos]>1,IF(F29="","",IF(ISNUMBER(F29)=FALSE,1,IF(F29=Tabla132529[Cant. Alumnos],"",F29+1))),"") -> 28 | G30: {=IF(Tabla212630[[#This Row],[Contador]]="","",IF(Tabla132529[Nivel]=BD!$L$1,IFERROR(SMALL(IF(Tabla19[Sala]=$C$2,Tabla19[ID2]),ROW()-2),""),IF(Tabla132529[Nivel]=BD!$L$2,IFERROR(SMALL(IF(Tabla199[Sala]=$C$2,Tabla199[ID2]),ROW()-2),""),IFERROR(SMALL(IF(Tabla19912[Sala]=$C$2,Tabla19912[ID2]),ROW()-2),""))))} | H30: =IF(Tabla212630[[#This Row],[ID]]="","",IF(Tabla132529[Nivel]=BD!$L$1,VLOOKUP(Tabla212630[[#This Row],[ID]],Tabla19[],4,0),IF(Tabla132529[Nivel]=BD!$L$2,VLOOKUP(Tabla212630[[#This Row],[ID]],Tabla199[],4,0),VLOOKUP(Tabla212630[[#This Row],[ID]],Tabla19912[],4,0))))
F31: =IF(Tabla132529[Cant. Alumnos]>1,IF(F30="","",IF(ISNUMBER(F30)=FALSE,1,IF(F30=Tabla132529[Cant. Alumnos],"",F30+1))),"") -> 29 | G31: {=IF(Tabla212630[[#This Row],[Contador]]="","",IF(Tabla132529[Nivel]=BD!$L$1,IFERROR(SMALL(IF(Tabla19[Sala]=$C$2,Tabla19[ID2]),ROW()-2),""),IF(Tabla132529[Nivel]=BD!$L$2,IFERROR(SMALL(IF(Tabla199[Sala]=$C$2,Tabla199[ID2]),ROW()-2),""),IFERROR(SMALL(IF(Tabla19912[Sala]=$C$2,Tabla19912[ID2]),ROW()-2),""))))} | H31: =IF(Tabla212630[[#This Row],[ID]]="","",IF(Tabla132529[Nivel]=BD!$L$1,VLOOKUP(Tabla212630[[#This Row],[ID]],Tabla19[],4,0),IF(Tabla132529[Nivel]=BD!$L$2,VLOOKUP(Tabla212630[[#This Row],[ID]],Tabla199[],4,0),VLOOKUP(Tabla212630[[#This Row],[ID]],Tabla19912[],4,0))))
F32: =IF(Tabla132529[Cant. Alumnos]>1,IF(F31="","",IF(ISNUMBER(F31)=FALSE,1,IF(F31=Tabla132529[Cant. Alumnos],"",F31+1))),"") -> 30 | G32: {=IF(Tabla212630[[#This Row],[Contador]]="","",IF(Tabla132529[Nivel]=BD!$L$1,IFERROR(SMALL(IF(Tabla19[Sala]=$C$2,Tabla19[ID2]),ROW()-2),""),IF(Tabla132529[Nivel]=BD!$L$2,IFERROR(SMALL(IF(Tabla199[Sala]=$C$2,Tabla199[ID2]),ROW()-2),""),IFERROR(SMALL(IF(Tabla19912[Sala]=$C$2,Tabla19912[ID2]),ROW()-2),""))))} | H32: =IF(Tabla212630[[#This Row],[ID]]="","",IF(Tabla132529[Nivel]=BD!$L$1,VLOOKUP(Tabla212630[[#This Row],[ID]],Tabla19[],4,0),IF(Tabla132529[Nivel]=BD!$L$2,VLOOKUP(Tabla212630[[#This Row],[ID]],Tabla199[],4,0),VLOOKUP(Tabla212630[[#This Row],[ID]],Tabla19912[],4,0))))
F33: =IF(Tabla132529[Cant. Alumnos]>1,IF(F32="","",IF(ISNUMBER(F32)=FALSE,1,IF(F32=Tabla132529[Cant. Alumnos],"",F32+1))),"") -> 31 | G33: {=IF(Tabla212630[[#This Row],[Contador]]="","",IF(Tabla132529[Nivel]=BD!$L$1,IFERROR(SMALL(IF(Tabla19[Sala]=$C$2,Tabla19[ID2]),ROW()-2),""),IF(Tabla132529[Nivel]=BD!$L$2,IFERROR(SMALL(IF(Tabla199[Sala]=$C$2,Tabla199[ID2]),ROW()-2),""),IFERROR(SMALL(IF(Tabla19912[Sala]=$C$2,Tabla19912[ID2]),ROW()-2),""))))} | H33: =IF(Tabla212630[[#This Row],[ID]]="","",IF(Tabla132529[Nivel]=BD!$L$1,VLOOKUP(Tabla212630[[#This Row],[ID]],Tabla19[],4,0),IF(Tabla132529[Nivel]=BD!$L$2,VLOOKUP(Tabla212630[[#This Row],[ID]],Tabla199[],4,0),VLOOKUP(Tabla212630[[#This Row],[ID]],Tabla19912[],4,0))))
F34: =IF(Tabla132529[Cant. Alumnos]>1,IF(F33="","",IF(ISNUMBER(F33)=FALSE,1,IF(F33=Tabla132529[Cant. Alumnos],"",F33+1))),"") -> 32 | G34: {=IF(Tabla212630[[#This Row],[Contador]]="","",IF(Tabla132529[Nivel]=BD!$L$1,IFERROR(SMALL(IF(Tabla19[Sala]=$C$2,Tabla19[ID2]),ROW()-2),""),IF(Tabla132529[Nivel]=BD!$L$2,IFERROR(SMALL(IF(Tabla199[Sala]=$C$2,Tabla199[ID2]),ROW()-2),""),IFERROR(SMALL(IF(Tabla19912[Sala]=$C$2,Tabla19912[ID2]),ROW()-2),""))))} | H34: =IF(Tabla212630[[#This Row],[ID]]="","",IF(Tabla132529[Nivel]=BD!$L$1,VLOOKUP(Tabla212630[[#This Row],[ID]],Tabla19[],4,0),IF(Tabla132529[Nivel]=BD!$L$2,VLOOKUP(Tabla212630[[#This Row],[ID]],Tabla199[],4,0),VLOOKUP(Tabla212630[[#This Row],[ID]],Tabla19912[],4,0))))
F35: =IF(Tabla132529[Cant. Alumnos]>1,IF(F34="","",IF(ISNUMBER(F34)=FALSE,1,IF(F34=Tabla132529[Cant. Alumnos],"",F34+1))),"") -> 33 | G35: {=IF(Tabla212630[[#This Row],[Contador]]="","",IF(Tabla132529[Nivel]=BD!$L$1,IFERROR(SMALL(IF(Tabla19[Sala]=$C$2,Tabla19[ID2]),ROW()-2),""),IF(Tabla132529[Nivel]=BD!$L$2,IFERROR(SMALL(IF(Tabla199[Sala]=$C$2,Tabla199[ID2]),ROW()-2),""),IFERROR(SMALL(IF(Tabla19912[Sala]=$C$2,Tabla19912[ID2]),ROW()-2),""))))} | H35: =IF(Tabla212630[[#This Row],[ID]]="","",IF(Tabla132529[Nivel]=BD!$L$1,VLOOKUP(Tabla212630[[#This Row],[ID]],Tabla19[],4,0),IF(Tabla132529[Nivel]=BD!$L$2,VLOOKUP(Tabla212630[[#This Row],[ID]],Tabla199[],4,0),VLOOKUP(Tabla212630[[#This Row],[ID]],Tabla19912[],4,0))))
F36: =IF(Tabla132529[Cant. Alumnos]>1,IF(F35="","",IF(ISNUMBER(F35)=FALSE,1,IF(F35=Tabla132529[Cant. Alumnos],"",F35+1))),"") -> 34 | G36: {=IF(Tabla212630[[#This Row],[Contador]]="","",IF(Tabla132529[Nivel]=BD!$L$1,IFERROR(SMALL(IF(Tabla19[Sala]=$C$2,Tabla19[ID2]),ROW()-2),""),IF(Tabla132529[Nivel]=BD!$L$2,IFERROR(SMALL(IF(Tabla199[Sala]=$C$2,Tabla199[ID2]),ROW()-2),""),IFERROR(SMALL(IF(Tabla19912[Sala]=$C$2,Tabla19912[ID2]),ROW()-2),""))))} | H36: =IF(Tabla212630[[#This Row],[ID]]="","",IF(Tabla132529[Nivel]=BD!$L$1,VLOOKUP(Tabla212630[[#This Row],[ID]],Tabla19[],4,0),IF(Tabla132529[Nivel]=BD!$L$2,VLOOKUP(Tabla212630[[#This Row],[ID]],Tabla199[],4,0),VLOOKUP(Tabla212630[[#This Row],[ID]],Tabla19912[],4,0))))
F37: =IF(Tabla132529[Cant. Alumnos]>1,IF(F36="","",IF(ISNUMBER(F36)=FALSE,1,IF(F36=Tabla132529[Cant. Alumnos],"",F36+1))),"") -> 35 | G37: {=IF(Tabla212630[[#This Row],[Contador]]="","",IF(Tabla132529[Nivel]=BD!$L$1,IFERROR(SMALL(IF(Tabla19[Sala]=$C$2,Tabla19[ID2]),ROW()-2),""),IF(Tabla132529[Nivel]=BD!$L$2,IFERROR(SMALL(IF(Tabla199[Sala]=$C$2,Tabla199[ID2]),ROW()-2),""),IFERROR(SMALL(IF(Tabla19912[Sala]=$C$2,Tabla19912[ID2]),ROW()-2),""))))} | H37: =IF(Tabla212630[[#This Row],[ID]]="","",IF(Tabla132529[Nivel]=BD!$L$1,VLOOKUP(Tabla212630[[#This Row],[ID]],Tabla19[],4,0),IF(Tabla132529[Nivel]=BD!$L$2,VLOOKUP(Tabla212630[[#This Row],[ID]],Tabla199[],4,0),VLOOKUP(Tabla212630[[#This Row],[ID]],Tabla19912[],4,0))))
F38: =IF(Tabla132529[Cant. Alumnos]>1,IF(F37="","",IF(ISNUMBER(F37)=FALSE,1,IF(F37=Tabla132529[Cant. Alumnos],"",F37+1))),"") -> 36 | G38: {=IF(Tabla212630[[#This Row],[Contador]]="","",IF(Tabla132529[Nivel]=BD!$L$1,IFERROR(SMALL(IF(Tabla19[Sala]=$C$2,Tabla19[ID2]),ROW()-2),""),IF(Tabla132529[Nivel]=BD!$L$2,IFERROR(SMALL(IF(Tabla199[Sala]=$C$2,Tabla199[ID2]),ROW()-2),""),IFERROR(SMALL(IF(Tabla19912[Sala]=$C$2,Tabla19912[ID2]),ROW()-2),""))))} | H38: =IF(Tabla212630[[#This Row],[ID]]="","",IF(Tabla132529[Nivel]=BD!$L$1,VLOOKUP(Tabla212630[[#This Row],[ID]],Tabla19[],4,0),IF(Tabla132529[Nivel]=BD!$L$2,VLOOKUP(Tabla212630[[#This Row],[ID]],Tabla199[],4,0),VLOOKUP(Tabla212630[[#This Row],[ID]],Tabla19912[],4,0))))
F39: =IF(Tabla132529[Cant. Alumnos]>1,IF(F38="","",IF(ISNUMBER(F38)=FALSE,1,IF(F38=Tabla132529[Cant. Alumnos],"",F38+1))),"") -> 37 | G39: {=IF(Tabla212630[[#This Row],[Contador]]="","",IF(Tabla132529[Nivel]=BD!$L$1,IFERROR(SMALL(IF(Tabla19[Sala]=$C$2,Tabla19[ID2]),ROW()-2),""),IF(Tabla132529[Nivel]=BD!$L$2,IFERROR(SMALL(IF(Tabla199[Sala]=$C$2,Tabla199[ID2]),ROW()-2),""),IFERROR(SMALL(IF(Tabla19912[Sala]=$C$2,Tabla19912[ID2]),ROW()-2),""))))} | H39: =IF(Tabla212630[[#This Row],[ID]]="","",IF(Tabla132529[Nivel]=BD!$L$1,VLOOKUP(Tabla212630[[#This Row],[ID]],Tabla19[],4,0),IF(Tabla132529[Nivel]=BD!$L$2,VLOOKUP(Tabla212630[[#This Row],[ID]],Tabla199[],4,0),VLOOKUP(Tabla212630[[#This Row],[ID]],Tabla19912[],4,0))))
F40: =IF(Tabla132529[Cant. Alumnos]>1,IF(F39="","",IF(ISNUMBER(F39)=FALSE,1,IF(F39=Tabla132529[Cant. Alumnos],"",F39+1))),"") -> 38 | G40: {=IF(Tabla212630[[#This Row],[Contador]]="","",IF(Tabla132529[Nivel]=BD!$L$1,IFERROR(SMALL(IF(Tabla19[Sala]=$C$2,Tabla19[ID2]),ROW()-2),""),IF(Tabla132529[Nivel]=BD!$L$2,IFERROR(SMALL(IF(Tabla199[Sala]=$C$2,Tabla199[ID2]),ROW()-2),""),IFERROR(SMALL(IF(Tabla19912[Sala]=$C$2,Tabla19912[ID2]),ROW()-2),""))))} | H40: =IF(Tabla212630[[#This Row],[ID]]="","",IF(Tabla132529[Nivel]=BD!$L$1,VLOOKUP(Tabla212630[[#This Row],[ID]],Tabla19[],4,0),IF(Tabla132529[Nivel]=BD!$L$2,VLOOKUP(Tabla212630[[#This Row],[ID]],Tabla199[],4,0),VLOOKUP(Tabla212630[[#This Row],[ID]],Tabla19912[],4,0))))
F41: =IF(Tabla132529[Cant. Alumnos]>1,IF(F40="","",IF(ISNUMBER(F40)=FALSE,1,IF(F40=Tabla132529[Cant. Alumnos],"",F40+1))),"") -> 39 | G41: {=IF(Tabla212630[[#This Row],[Contador]]="","",IF(Tabla132529[Nivel]=BD!$L$1,IFERROR(SMALL(IF(Tabla19[Sala]=$C$2,Tabla19[ID2]),ROW()-2),""),IF(Tabla132529[Nivel]=BD!$L$2,IFERROR(SMALL(IF(Tabla199[Sala]=$C$2,Tabla199[ID2]),ROW()-2),""),IFERROR(SMALL(IF(Tabla19912[Sala]=$C$2,Tabla19912[ID2]),ROW()-2),""))))} | H41: =IF(Tabla212630[[#This Row],[ID]]="","",IF(Tabla132529[Nivel]=BD!$L$1,VLOOKUP(Tabla212630[[#This Row],[ID]],Tabla19[],4,0),IF(Tabla132529[Nivel]=BD!$L$2,VLOOKUP(Tabla212630[[#This Row],[ID]],Tabla199[],4,0),VLOOKUP(Tabla212630[[#This Row],[ID]],Tabla19912[],4,0))))
... F61: =IF(Tabla132529[Cant. Alumnos]>1,IF(F60="","",IF(ISNUMBER(F60)=FALSE,1,IF(F60=Tabla132529[Cant. Alumnos],"",F60+1))),"") -> 59 | G61: {=IF(Tabla212630[[#This Row],[Contador]]="","",IF(Tabla132529[Nivel]=BD!$L$1,IFERROR(SMALL(IF(Tabla19[Sala]=$C$2,Tabla19[ID2]),ROW()-2),""),IF(Tabla132529[Nivel]=BD!$L$2,IFERROR(SMALL(IF(Tabla199[Sala]=$C$2,Tabla199[ID2]),ROW()-2),""),IFERROR(SMALL(IF(Tabla19912[Sala]=$C$2,Tabla19912[ID2]),ROW()-2),""))))} | H61: =IF(Tabla212630[[#This Row],[ID]]="","",IF(Tabla132529[Nivel]=BD!$L$1,VLOOKUP(Tabla212630[[#This Row],[ID]],Tabla19[],4,0),IF(Tabla132529[Nivel]=BD!$L$2,VLOOKUP(Tabla212630[[#This Row],[ID]],Tabla199[],4,0),VLOOKUP(Tabla212630[[#This Row],[ID]],Tabla19912[],4,0))))

Sheet Carga 4to alumno
A1: Cant. Salas | B1: Nivel | C1: Sala | D1: Cant. Alumnos
A2: =IF(Tabla132535[[#This Row],[Nivel]]=BD!$L$1,'Filtrar Salas Grado Año'!$B$2,IF(Tabla132535[[#This Row],[Nivel]]=BD!$L$2,'Filtrar Salas Grado Año'!$D$2,IF(Tabla132535[[#This Row],[Nivel]]=BD!$L$3,'Filtrar Salas Grado Año'!$F$2,""))) | B2: ='Mi Pedido lista'!B6 -> 0 | C2: ='Mi Pedido lista'!C6 -> 0 | D2: =IF(Tabla132535[[#This Row],[Nivel]]=BD!$L$1,COUNTIFS(Tabla19[Alumno],"<>",Tabla19[Sala],Tabla132535[[#This Row],[Sala]]),IF(Tabla132535[[#This Row],[Nivel]]=BD!$L$2,COUNTIFS(Tabla199[Alumno],"<>",Tabla199[Sala],Tabla132535[[#This Row],[Sala]]),IF(Tabla132535[[#This Row],[Nivel]]=BD!$L$3,COUNTIFS(Tabla19912[Columna1],"<>",Tabla19912[Sala],Tabla132535[[#This Row],[Sala]]),""))) | F2: Contador | G2: ID | H2: Alumno
F3: =IF(Tabla132535[Cant. Alumnos]>1,IF(F2="","",IF(ISNUMBER(F2)=FALSE,1,IF(F2=Tabla132535[Cant. Alumnos],"",F2+1))),"") -> 1 | G3: {=IF(Tabla212636[[#This Row],[Contador]]="","",IF(Tabla132535[Nivel]=BD!$L$1,IFERROR(SMALL(IF(Tabla19[Sala]=$C$2,Tabla19[ID2]),ROW()-2),""),IF(Tabla132535[Nivel]=BD!$L$2,IFERROR(SMALL(IF(Tabla199[Sala]=$C$2,Tabla199[ID2]),ROW()-2),""),IFERROR(SMALL(IF(Tabla19912[Sala]=$C$2,Tabla19912[ID2]),ROW()-2),""))))} | H3: =IF(Tabla212636[[#This Row],[ID]]="","",IF(Tabla132535[Nivel]=BD!$L$1,VLOOKUP(Tabla212636[[#This Row],[ID]],Tabla19[],4,0),IF(Tabla132535[Nivel]=BD!$L$2,VLOOKUP(Tabla212636[[#This Row],[ID]],Tabla199[],4,0),VLOOKUP(Tabla212636[[#This Row],[ID]],Tabla19912[],4,0))))
F4: =IF(Tabla132535[Cant. Alumnos]>1,IF(F3="","",IF(ISNUMBER(F3)=FALSE,1,IF(F3=Tabla132535[Cant. Alumnos],"",F3+1))),"") -> 2 | G4: {=IF(Tabla212636[[#This Row],[Contador]]="","",IF(Tabla132535[Nivel]=BD!$L$1,IFERROR(SMALL(IF(Tabla19[Sala]=$C$2,Tabla19[ID2]),ROW()-2),""),IF(Tabla132535[Nivel]=BD!$L$2,IFERROR(SMALL(IF(Tabla199[Sala]=$C$2,Tabla199[ID2]),ROW()-2),""),IFERROR(SMALL(IF(Tabla19912[Sala]=$C$2,Tabla19912[ID2]),ROW()-2),""))))} | H4: =IF(Tabla212636[[#This Row],[ID]]="","",IF(Tabla132535[Nivel]=BD!$L$1,VLOOKUP(Tabla212636[[#This Row],[ID]],Tabla19[],4,0),IF(Tabla132535[Nivel]=BD!$L$2,VLOOKUP(Tabla212636[[#This Row],[ID]],Tabla199[],4,0),VLOOKUP(Tabla212636[[#This Row],[ID]],Tabla19912[],4,0))))
F5: =IF(Tabla132535[Cant. Alumnos]>1,IF(F4="","",IF(ISNUMBER(F4)=FALSE,1,IF(F4=Tabla132535[Cant. Alumnos],"",F4+1))),"") -> 3 | G5: {=IF(Tabla212636[[#This Row],[Contador]]="","",IF(Tabla132535[Nivel]=BD!$L$1,IFERROR(SMALL(IF(Tabla19[Sala]=$C$2,Tabla19[ID2]),ROW()-2),""),IF(Tabla132535[Nivel]=BD!$L$2,IFERROR(SMALL(IF(Tabla199[Sala]=$C$2,Tabla199[ID2]),ROW()-2),""),IFERROR(SMALL(IF(Tabla19912[Sala]=$C$2,Tabla19912[ID2]),ROW()-2),""))))} | H5: =IF(Tabla212636[[#This Row],[ID]]="","",IF(Tabla132535[Nivel]=BD!$L$1,VLOOKUP(Tabla212636[[#This Row],[ID]],Tabla19[],4,0),IF(Tabla132535[Nivel]=BD!$L$2,VLOOKUP(Tabla212636[[#This Row],[ID]],Tabla199[],4,0),VLOOKUP(Tabla212636[[#This Row],[ID]],Tabla19912[],4,0))))
B6: Orden | C6: Sala | F6: =IF(Tabla132535[Cant. Alumnos]>1,IF(F5="","",IF(ISNUMBER(F5)=FALSE,1,IF(F5=Tabla132535[Cant. Alumnos],"",F5+1))),"") -> 4 | G6: {=IF(Tabla212636[[#This Row],[Contador]]="","",IF(Tabla132535[Nivel]=BD!$L$1,IFERROR(SMALL(IF(Tabla19[Sala]=$C$2,Tabla19[ID2]),ROW()-2),""),IF(Tabla132535[Nivel]=BD!$L$2,IFERROR(SMALL(IF(Tabla199[Sala]=$C$2,Tabla199[ID2]),ROW()-2),""),IFERROR(SMALL(IF(Tabla19912[Sala]=$C$2,Tabla19912[ID2]),ROW()-2),""))))} | H6: =IF(Tabla212636[[#This Row],[ID]]="","",IF(Tabla132535[Nivel]=BD!$L$1,VLOOKUP(Tabla212636[[#This Row],[ID]],Tabla19[],4,0),IF(Tabla132535[Nivel]=BD!$L$2,VLOOKUP(Tabla212636[[#This Row],[ID]],Tabla199[],4,0),VLOOKUP(Tabla212636[[#This Row],[ID]],Tabla19912[],4,0))))
B7: =IF(Tabla132535[Cant. Salas]="","",IF(B6="","",IF(ISNUMBER(B6)=FALSE,1,IF(B6=Tabla132535[Cant. Salas],"",B6+1)))) | C7: =IF(IF(Tabla122837[[#This Row],[Orden]]="","",IF(Tabla132535[Nivel]=BD!$L$1,'Filtrar Salas Grado Año'!A3,IF(Tabla132535[Nivel]=BD!$L$2,'Filtrar Salas Grado Año'!C3,'Filtrar Salas Grado Año'!E3)))="(en blanco)","",IF(Tabla122837[[#This Row],[Orden]]="","",IF(Tabla132535[Nivel]=BD!$L$1,'Filtrar Salas Grado Año'!A3,IF(Tabla132535[Nivel]=BD!$L$2,'Filtrar Salas Grado Año'!C3,'Filtrar Salas Grado Año'!E3)))) | F7: =IF(Tabla132535[Cant. Alumnos]>1,IF(F6="","",IF(ISNUMBER(F6)=FALSE,1,IF(F6=Tabla132535[Cant. Alumnos],"",F6+1))),"") -> 5 | G7: {=IF(Tabla212636[[#This Row],[Contador]]="","",IF(Tabla132535[Nivel]=BD!$L$1,IFERROR(SMALL(IF(Tabla19[Sala]=$C$2,Tabla19[ID2]),ROW()-2),""),IF(Tabla132535[Nivel]=BD!$L$2,IFERROR(SMALL(IF(Tabla199[Sala]=$C$2,Tabla199[ID2]),ROW()-2),""),IFERROR(SMALL(IF(Tabla19912[Sala]=$C$2,Tabla19912[ID2]),ROW()-2),""))))} | H7: =IF(Tabla212636[[#This Row],[ID]]="","",IF(Tabla132535[Nivel]=BD!$L$1,VLOOKUP(Tabla212636[[#This Row],[ID]],Tabla19[],4,0),IF(Tabla132535[Nivel]=BD!$L$2,VLOOKUP(Tabla212636[[#This Row],[ID]],Tabla199[],4,0),VLOOKUP(Tabla212636[[#This Row],[ID]],Tabla19912[],4,0))))
B8: =IF(Tabla132535[Cant. Salas]="","",IF(B7="","",IF(ISNUMBER(B7)=FALSE,1,IF(B7=Tabla132535[Cant. Salas],"",B7+1)))) | C8: =IF(IF(Tabla122837[[#This Row],[Orden]]="","",IF(Tabla132535[Nivel]=BD!$L$1,'Filtrar Salas Grado Año'!A4,IF(Tabla132535[Nivel]=BD!$L$2,'Filtrar Salas Grado Año'!C4,'Filtrar Salas Grado Año'!E4)))="(en blanco)","",IF(Tabla122837[[#This Row],[Orden]]="","",IF(Tabla132535[Nivel]=BD!$L$1,'Filtrar Salas Grado Año'!A4,IF(Tabla132535[Nivel]=BD!$L$2,'Filtrar Salas Grado Año'!C4,'Filtrar Salas Grado Año'!E4)))) | F8: =IF(Tabla132535[Cant. Alumnos]>1,IF(F7="","",IF(ISNUMBER(F7)=FALSE,1,IF(F7=Tabla132535[Cant. Alumnos],"",F7+1))),"") -> 6 | G8: {=IF(Tabla212636[[#This Row],[Contador]]="","",IF(Tabla132535[Nivel]=BD!$L$1,IFERROR(SMALL(IF(Tabla19[Sala]=$C$2,Tabla19[ID2]),ROW()-2),""),IF(Tabla132535[Nivel]=BD!$L$2,IFERROR(SMALL(IF(Tabla199[Sala]=$C$2,Tabla199[ID2]),ROW()-2),""),IFERROR(SMALL(IF(Tabla19912[Sala]=$C$2,Tabla19912[ID2]),ROW()-2),""))))} | H8: =IF(Tabla212636[[#This Row],[ID]]="","",IF(Tabla132535[Nivel]=BD!$L$1,VLOOKUP(Tabla212636[[#This Row],[ID]],Tabla19[],4,0),IF(Tabla132535[Nivel]=BD!$L$2,VLOOKUP(Tabla212636[[#This Row],[ID]],Tabla199[],4,0),VLOOKUP(Tabla212636[[#This Row],[ID]],Tabla19912[],4,0))))
B9: =IF(Tabla132535[Cant. Salas]="","",IF(B8="","",IF(ISNUMBER(B8)=FALSE,1,IF(B8=Tabla132535[Cant. Salas],"",B8+1)))) | C9: =IF(IF(Tabla122837[[#This Row],[Orden]]="","",IF(Tabla132535[Nivel]=BD!$L$1,'Filtrar Salas Grado Año'!A5,IF(Tabla132535[Nivel]=BD!$L$2,'Filtrar Salas Grado Año'!C5,'Filtrar Salas Grado Año'!E5)))="(en blanco)","",IF(Tabla122837[[#This Row],[Orden]]="","",IF(Tabla132535[Nivel]=BD!$L$1,'Filtrar Salas Grado Año'!A5,IF(Tabla132535[Nivel]=BD!$L$2,'Filtrar Salas Grado Año'!C5,'Filtrar Salas Grado Año'!E5)))) | F9: =IF(Tabla132535[Cant. Alumnos]>1,IF(F8="","",IF(ISNUMBER(F8)=FALSE,1,IF(F8=Tabla132535[Cant. Alumnos],"",F8+1))),"") -> 7 | G9: {=IF(Tabla212636[[#This Row],[Contador]]="","",IF(Tabla132535[Nivel]=BD!$L$1,IFERROR(SMALL(IF(Tabla19[Sala]=$C$2,Tabla19[ID2]),ROW()-2),""),IF(Tabla132535[Nivel]=BD!$L$2,IFERROR(SMALL(IF(Tabla199[Sala]=$C$2,Tabla199[ID2]),ROW()-2),""),IFERROR(SMALL(IF(Tabla19912[Sala]=$C$2,Tabla19912[ID2]),ROW()-2),""))))} | H9: =IF(Tabla212636[[#This Row],[ID]]="","",IF(Tabla132535[Nivel]=BD!$L$1,VLOOKUP(Tabla212636[[#This Row],[ID]],Tabla19[],4,0),IF(Tabla132535[Nivel]=BD!$L$2,VLOOKUP(Tabla212636[[#This Row],[ID]],Tabla199[],4,0),VLOOKUP(Tabla212636[[#This Row],[ID]],Tabla19912[],4,0))))
B10: =IF(Tabla132535[Cant. Salas]="","",IF(B9="","",IF(ISNUMBER(B9)=FALSE,1,IF(B9=Tabla132535[Cant. Salas],"",B9+1)))) | C10: =IF(IF(Tabla122837[[#This Row],[Orden]]="","",IF(Tabla132535[Nivel]=BD!$L$1,'Filtrar Salas Grado Año'!A6,IF(Tabla132535[Nivel]=BD!$L$2,'Filtrar Salas Grado Año'!C6,'Filtrar Salas Grado Año'!E6)))="(en blanco)","",IF(Tabla122837[[#This Row],[Orden]]="","",IF(Tabla132535[Nivel]=BD!$L$1,'Filtrar Salas Grado Año'!A6,IF(Tabla132535[Nivel]=BD!$L$2,'Filtrar Salas Grado Año'!C6,'Filtrar Salas Grado Año'!E6)))) | F10: =IF(Tabla132535[Cant. Alumnos]>1,IF(F9="","",IF(ISNUMBER(F9)=FALSE,1,IF(F9=Tabla132535[Cant. Alumnos],"",F9+1))),"") -> 8 | G10: {=IF(Tabla212636[[#This Row],[Contador]]="","",IF(Tabla132535[Nivel]=BD!$L$1,IFERROR(SMALL(IF(Tabla19[Sala]=$C$2,Tabla19[ID2]),ROW()-2),""),IF(Tabla132535[Nivel]=BD!$L$2,IFERROR(SMALL(IF(Tabla199[Sala]=$C$2,Tabla199[ID2]),ROW()-2),""),IFERROR(SMALL(IF(Tabla19912[Sala]=$C$2,Tabla19912[ID2]),ROW()-2),""))))} | H10: =IF(Tabla212636[[#This Row],[ID]]="","",IF(Tabla132535[Nivel]=BD!$L$1,VLOOKUP(Tabla212636[[#This Row],[ID]],Tabla19[],4,0),IF(Tabla132535[Nivel]=BD!$L$2,VLOOKUP(Tabla212636[[#This Row],[ID]],Tabla199[],4,0),VLOOKUP(Tabla212636[[#This Row],[ID]],Tabla19912[],4,0))))
B11: =IF(Tabla132535[Cant. Salas]="","",IF(B10="","",IF(ISNUMBER(B10)=FALSE,1,IF(B10=Tabla132535[Cant. Salas],"",B10+1)))) | C11: =IF(IF(Tabla122837[[#This Row],[Orden]]="","",IF(Tabla132535[Nivel]=BD!$L$1,'Filtrar Salas Grado Año'!A7,IF(Tabla132535[Nivel]=BD!$L$2,'Filtrar Salas Grado Año'!C7,'Filtrar Salas Grado Año'!E7)))="(en blanco)","",IF(Tabla122837[[#This Row],[Orden]]="","",IF(Tabla132535[Nivel]=BD!$L$1,'Filtrar Salas Grado Año'!A7,IF(Tabla132535[Nivel]=BD!$L$2,'Filtrar Salas Grado Año'!C7,'Filtrar Salas Grado Año'!E7)))) | F11: =IF(Tabla132535[Cant. Alumnos]>1,IF(F10="","",IF(ISNUMBER(F10)=FALSE,1,IF(F10=Tabla132535[Cant. Alumnos],"",F10+1))),"") -> 9 | G11: {=IF(Tabla212636[[#This Row],[Contador]]="","",IF(Tabla132535[Nivel]=BD!$L$1,IFERROR(SMALL(IF(Tabla19[Sala]=$C$2,Tabla19[ID2]),ROW()-2),""),IF(Tabla132535[Nivel]=BD!$L$2,IFERROR(SMALL(IF(Tabla199[Sala]=$C$2,Tabla199[ID2]),ROW()-2),""),IFERROR(SMALL(IF(Tabla19912[Sala]=$C$2,Tabla19912[ID2]),ROW()-2),""))))} | H11: =IF(Tabla212636[[#This Row],[ID]]="","",IF(Tabla132535[Nivel]=BD!$L$1,VLOOKUP(Tabla212636[[#This Row],[ID]],Tabla19[],4,0),IF(Tabla132535[Nivel]=BD!$L$2,VLOOKUP(Tabla212636[[#This Row],[ID]],Tabla199[],4,0),VLOOKUP(Tabla212636[[#This Row],[ID]],Tabla19912[],4,0))))
B12: =IF(Tabla132535[Cant. Salas]="","",IF(B11="","",IF(ISNUMBER(B11)=FALSE,1,IF(B11=Tabla132535[Cant. Salas],"",B11+1)))) | C12: =IF(IF(Tabla122837[[#This Row],[Orden]]="","",IF(Tabla132535[Nivel]=BD!$L$1,'Filtrar Salas Grado Año'!A8,IF(Tabla132535[Nivel]=BD!$L$2,'Filtrar Salas Grado Año'!C8,'Filtrar Salas Grado Año'!E8)))="(en blanco)","",IF(Tabla122837[[#This Row],[Orden]]="","",IF(Tabla132535[Nivel]=BD!$L$1,'Filtrar Salas Grado Año'!A8,IF(Tabla132535[Nivel]=BD!$L$2,'Filtrar Salas Grado Año'!C8,'Filtrar Salas Grado Año'!E8)))) | F12: =IF(Tabla132535[Cant. Alumnos]>1,IF(F11="","",IF(ISNUMBER(F11)=FALSE,1,IF(F11=Tabla132535[Cant. Alumnos],"",F11+1))),"") -> 10 | G12: {=IF(Tabla212636[[#This Row],[Contador]]="","",IF(Tabla132535[Nivel]=BD!$L$1,IFERROR(SMALL(IF(Tabla19[Sala]=$C$2,Tabla19[ID2]),ROW()-2),""),IF(Tabla132535[Nivel]=BD!$L$2,IFERROR(SMALL(IF(Tabla199[Sala]=$C$2,Tabla199[ID2]),ROW()-2),""),IFERROR(SMALL(IF(Tabla19912[Sala]=$C$2,Tabla19912[ID2]),ROW()-2),""))))} | H12: =IF(Tabla212636[[#This Row],[ID]]="","",IF(Tabla132535[Nivel]=BD!$L$1,VLOOKUP(Tabla212636[[#This Row],[ID]],Tabla19[],4,0),IF(Tabla132535[Nivel]=BD!$L$2,VLOOKUP(Tabla212636[[#This Row],[ID]],Tabla199[],4,0),VLOOKUP(Tabla212636[[#This Row],[ID]],Tabla19912[],4,0))))
B13: =IF(Tabla132535[Cant. Salas]="","",IF(B12="","",IF(ISNUMBER(B12)=FALSE,1,IF(B12=Tabla132535[Cant. Salas],"",B12+1)))) | C13: =IF(IF(Tabla122837[[#This Row],[Orden]]="","",IF(Tabla132535[Nivel]=BD!$L$1,'Filtrar Salas Grado Año'!A9,IF(Tabla132535[Nivel]=BD!$L$2,'Filtrar Salas Grado Año'!C9,'Filtrar Salas Grado Año'!E9)))="(en blanco)","",IF(Tabla122837[[#This Row],[Orden]]="","",IF(Tabla132535[Nivel]=BD!$L$1,'Filtrar Salas Grado Año'!A9,IF(Tabla132535[Nivel]=BD!$L$2,'Filtrar Salas Grado Año'!C9,'Filtrar Salas Grado Año'!E9)))) | F13: =IF(Tabla132535[Cant. Alumnos]>1,IF(F12="","",IF(ISNUMBER(F12)=FALSE,1,IF(F12=Tabla132535[Cant. Alumnos],"",F12+1))),"") -> 11 | G13: {=IF(Tabla212636[[#This Row],[Contador]]="","",IF(Tabla132535[Nivel]=BD!$L$1,IFERROR(SMALL(IF(Tabla19[Sala]=$C$2,Tabla19[ID2]),ROW()-2),""),IF(Tabla132535[Nivel]=BD!$L$2,IFERROR(SMALL(IF(Tabla199[Sala]=$C$2,Tabla199[ID2]),ROW()-2),""),IFERROR(SMALL(IF(Tabla19912[Sala]=$C$2,Tabla19912[ID2]),ROW()-2),""))))} | H13: =IF(Tabla212636[[#This Row],[ID]]="","",IF(Tabla132535[Nivel]=BD!$L$1,VLOOKUP(Tabla212636[[#This Row],[ID]],Tabla19[],4,0),IF(Tabla132535[Nivel]=BD!$L$2,VLOOKUP(Tabla212636[[#This Row],[ID]],Tabla199[],4,0),VLOOKUP(Tabla212636[[#This Row],[ID]],Tabla19912[],4,0))))
B14: =IF(Tabla132535[Cant. Salas]="","",IF(B13="","",IF(ISNUMBER(B13)=FALSE,1,IF(B13=Tabla132535[Cant. Salas],"",B13+1)))) | C14: =IF(IF(Tabla122837[[#This Row],[Orden]]="","",IF(Tabla132535[Nivel]=BD!$L$1,'Filtrar Salas Grado Año'!A10,IF(Tabla132535[Nivel]=BD!$L$2,'Filtrar Salas Grado Año'!C10,'Filtrar Salas Grado Año'!E10)))="(en blanco)","",IF(Tabla122837[[#This Row],[Orden]]="","",IF(Tabla132535[Nivel]=BD!$L$1,'Filtrar Salas Grado Año'!A10,IF(Tabla132535[Nivel]=BD!$L$2,'Filtrar Salas Grado Año'!C10,'Filtrar Salas Grado Año'!E10)))) | F14: =IF(Tabla132535[Cant. Alumnos]>1,IF(F13="","",IF(ISNUMBER(F13)=FALSE,1,IF(F13=Tabla132535[Cant. Alumnos],"",F13+1))),"") -> 12 | G14: {=IF(Tabla212636[[#This Row],[Contador]]="","",IF(Tabla132535[Nivel]=BD!$L$1,IFERROR(SMALL(IF(Tabla19[Sala]=$C$2,Tabla19[ID2]),ROW()-2),""),IF(Tabla132535[Nivel]=BD!$L$2,IFERROR(SMALL(IF(Tabla199[Sala]=$C$2,Tabla199[ID2]),ROW()-2),""),IFERROR(SMALL(IF(Tabla19912[Sala]=$C$2,Tabla19912[ID2]),ROW()-2),""))))} | H14: =IF(Tabla212636[[#This Row],[ID]]="","",IF(Tabla132535[Nivel]=BD!$L$1,VLOOKUP(Tabla212636[[#This Row],[ID]],Tabla19[],4,0),IF(Tabla132535[Nivel]=BD!$L$2,VLOOKUP(Tabla212636[[#This Row],[ID]],Tabla199[],4,0),VLOOKUP(Tabla212636[[#This Row],[ID]],Tabla19912[],4,0))))
B15: =IF(Tabla132535[Cant. Salas]="","",IF(B14="","",IF(ISNUMBER(B14)=FALSE,1,IF(B14=Tabla132535[Cant. Salas],"",B14+1)))) | C15: =IF(IF(Tabla122837[[#This Row],[Orden]]="","",IF(Tabla132535[Nivel]=BD!$L$1,'Filtrar Salas Grado Año'!A11,IF(Tabla132535[Nivel]=BD!$L$2,'Filtrar Salas Grado Año'!C11,'Filtrar Salas Grado Año'!E11)))="(en blanco)","",IF(Tabla122837[[#This Row],[Orden]]="","",IF(Tabla132535[Nivel]=BD!$L$1,'Filtrar Salas Grado Año'!A11,IF(Tabla132535[Nivel]=BD!$L$2,'Filtrar Salas Grado Año'!C11,'Filtrar Salas Grado Año'!E11)))) | F15: =IF(Tabla132535[Cant. Alumnos]>1,IF(F14="","",IF(ISNUMBER(F14)=FALSE,1,IF(F14=Tabla132535[Cant. Alumnos],"",F14+1))),"") -> 13 | G15: {=IF(Tabla212636[[#This Row],[Contador]]="","",IF(Tabla132535[Nivel]=BD!$L$1,IFERROR(SMALL(IF(Tabla19[Sala]=$C$2,Tabla19[ID2]),ROW()-2),""),IF(Tabla132535[Nivel]=BD!$L$2,IFERROR(SMALL(IF(Tabla199[Sala]=$C$2,Tabla199[ID2]),ROW()-2),""),IFERROR(SMALL(IF(Tabla19912[Sala]=$C$2,Tabla19912[ID2]),ROW()-2),""))))} | H15: =IF(Tabla212636[[#This Row],[ID]]="","",IF(Tabla132535[Nivel]=BD!$L$1,VLOOKUP(Tabla212636[[#This Row],[ID]],Tabla19[],4,0),IF(Tabla132535[Nivel]=BD!$L$2,VLOOKUP(Tabla212636[[#This Row],[ID]],Tabla199[],4,0),VLOOKUP(Tabla212636[[#This Row],[ID]],Tabla19912[],4,0))))
B16: =IF(Tabla132535[Cant. Salas]="","",IF(B15="","",IF(ISNUMBER(B15)=FALSE,1,IF(B15=Tabla132535[Cant. Salas],"",B15+1)))) | C16: =IF(IF(Tabla122837[[#This Row],[Orden]]="","",IF(Tabla132535[Nivel]=BD!$L$1,'Filtrar Salas Grado Año'!A12,IF(Tabla132535[Nivel]=BD!$L$2,'Filtrar Salas Grado Año'!C12,'Filtrar Salas Grado Año'!E12)))="(en blanco)","",IF(Tabla122837[[#This Row],[Orden]]="","",IF(Tabla132535[Nivel]=BD!$L$1,'Filtrar Salas Grado Año'!A12,IF(Tabla132535[Nivel]=BD!$L$2,'Filtrar Salas Grado Año'!C12,'Filtrar Salas Grado Año'!E12)))) | F16: =IF(Tabla132535[Cant. Alumnos]>1,IF(F15="","",IF(ISNUMBER(F15)=FALSE,1,IF(F15=Tabla132535[Cant. Alumnos],"",F15+1))),"") -> 14 | G16: {=IF(Tabla212636[[#This Row],[Contador]]="","",IF(Tabla132535[Nivel]=BD!$L$1,IFERROR(SMALL(IF(Tabla19[Sala]=$C$2,Tabla19[ID2]),ROW()-2),""),IF(Tabla132535[Nivel]=BD!$L$2,IFERROR(SMALL(IF(Tabla199[Sala]=$C$2,Tabla199[ID2]),ROW()-2),""),IFERROR(SMALL(IF(Tabla19912[Sala]=$C$2,Tabla19912[ID2]),ROW()-2),""))))} | H16: =IF(Tabla212636[[#This Row],[ID]]="","",IF(Tabla132535[Nivel]=BD!$L$1,VLOOKUP(Tabla212636[[#This Row],[ID]],Tabla19[],4,0),IF(Tabla132535[Nivel]=BD!$L$2,VLOOKUP(Tabla212636[[#This Row],[ID]],Tabla199[],4,0),VLOOKUP(Tabla212636[[#This Row],[ID]],Tabla19912[],4,0))))
B17: =IF(Tabla132535[Cant. Salas]="","",IF(B16="","",IF(ISNUMBER(B16)=FALSE,1,IF(B16=Tabla132535[Cant. Salas],"",B16+1)))) | C17: =IF(IF(Tabla122837[[#This Row],[Orden]]="","",IF(Tabla132535[Nivel]=BD!$L$1,'Filtrar Salas Grado Año'!A13,IF(Tabla132535[Nivel]=BD!$L$2,'Filtrar Salas Grado Año'!C13,'Filtrar Salas Grado Año'!E13)))="(en blanco)","",IF(Tabla122837[[#This Row],[Orden]]="","",IF(Tabla132535[Nivel]=BD!$L$1,'Filtrar Salas Grado Año'!A13,IF(Tabla132535[Nivel]=BD!$L$2,'Filtrar Salas Grado Año'!C13,'Filtrar Salas Grado Año'!E13)))) | F17: =IF(Tabla132535[Cant. Alumnos]>1,IF(F16="","",IF(ISNUMBER(F16)=FALSE,1,IF(F16=Tabla132535[Cant. Alumnos],"",F16+1))),"") -> 15 | G17: {=IF(Tabla212636[[#This Row],[Contador]]="","",IF(Tabla132535[Nivel]=BD!$L$1,IFERROR(SMALL(IF(Tabla19[Sala]=$C$2,Tabla19[ID2]),ROW()-2),""),IF(Tabla132535[Nivel]=BD!$L$2,IFERROR(SMALL(IF(Tabla199[Sala]=$C$2,Tabla199[ID2]),ROW()-2),""),IFERROR(SMALL(IF(Tabla19912[Sala]=$C$2,Tabla19912[ID2]),ROW()-2),""))))} | H17: =IF(Tabla212636[[#This Row],[ID]]="","",IF(Tabla132535[Nivel]=BD!$L$1,VLOOKUP(Tabla212636[[#This Row],[ID]],Tabla19[],4,0),IF(Tabla132535[Nivel]=BD!$L$2,VLOOKUP(Tabla212636[[#This Row],[ID]],Tabla199[],4,0),VLOOKUP(Tabla212636[[#This Row],[ID]],Tabla19912[],4,0))))
B18: =IF(Tabla132535[Cant. Salas]="","",IF(B17="","",IF(ISNUMBER(B17)=FALSE,1,IF(B17=Tabla132535[Cant. Salas],"",B17+1)))) | C18: =IF(IF(Tabla122837[[#This Row],[Orden]]="","",IF(Tabla132535[Nivel]=BD!$L$1,'Filtrar Salas Grado Año'!A14,IF(Tabla132535[Nivel]=BD!$L$2,'Filtrar Salas Grado Año'!C14,'Filtrar Salas Grado Año'!E14)))="(en blanco)","",IF(Tabla122837[[#This Row],[Orden]]="","",IF(Tabla132535[Nivel]=BD!$L$1,'Filtrar Salas Grado Año'!A14,IF(Tabla132535[Nivel]=BD!$L$2,'Filtrar Salas Grado Año'!C14,'Filtrar Salas Grado Año'!E14)))) | F18: =IF(Tabla132535[Cant. Alumnos]>1,IF(F17="","",IF(ISNUMBER(F17)=FALSE,1,IF(F17=Tabla132535[Cant. Alumnos],"",F17+1))),"") -> 16 | G18: {=IF(Tabla212636[[#This Row],[Contador]]="","",IF(Tabla132535[Nivel]=BD!$L$1,IFERROR(SMALL(IF(Tabla19[Sala]=$C$2,Tabla19[ID2]),ROW()-2),""),IF(Tabla132535[Nivel]=BD!$L$2,IFERROR(SMALL(IF(Tabla199[Sala]=$C$2,Tabla199[ID2]),ROW()-2),""),IFERROR(SMALL(IF(Tabla19912[Sala]=$C$2,Tabla19912[ID2]),ROW()-2),""))))} | H18: =IF(Tabla212636[[#This Row],[ID]]="","",IF(Tabla132535[Nivel]=BD!$L$1,VLOOKUP(Tabla212636[[#This Row],[ID]],Tabla19[],4,0),IF(Tabla132535[Nivel]=BD!$L$2,VLOOKUP(Tabla212636[[#This Row],[ID]],Tabla199[],4,0),VLOOKUP(Tabla212636[[#This Row],[ID]],Tabla19912[],4,0))))
... B29: =IF(Tabla132535[Cant. Salas]="","",IF(B28="","",IF(ISNUMBER(B28)=FALSE,1,IF(B28=Tabla132535[Cant. Salas],"",B28+1)))) | C29: =IF(IF(Tabla122837[[#This Row],[Orden]]="","",IF(Tabla132535[Nivel]=BD!$L$1,'Filtrar Salas Grado Año'!A25,IF(Tabla132535[Nivel]=BD!$L$2,'Filtrar Salas Grado Año'!C25,'Filtrar Salas Grado Año'!E25)))="(en blanco)","",IF(Tabla122837[[#This Row],[Orden]]="","",IF(Tabla132535[Nivel]=BD!$L$1,'Filtrar Salas Grado Año'!A25,IF(Tabla132535[Nivel]=BD!$L$2,'Filtrar Salas Grado Año'!C25,'Filtrar Salas Grado Año'!E25)))) | F29: =IF(Tabla132535[Cant. Alumnos]>1,IF(F28="","",IF(ISNUMBER(F28)=FALSE,1,IF(F28=Tabla132535[Cant. Alumnos],"",F28+1))),"") -> 27 | G29: {=IF(Tabla212636[[#This Row],[Contador]]="","",IF(Tabla132535[Nivel]=BD!$L$1,IFERROR(SMALL(IF(Tabla19[Sala]=$C$2,Tabla19[ID2]),ROW()-2),""),IF(Tabla132535[Nivel]=BD!$L$2,IFERROR(SMALL(IF(Tabla199[Sala]=$C$2,Tabla199[ID2]),ROW()-2),""),IFERROR(SMALL(IF(Tabla19912[Sala]=$C$2,Tabla19912[ID2]),ROW()-2),""))))} | H29: =IF(Tabla212636[[#This Row],[ID]]="","",IF(Tabla132535[Nivel]=BD!$L$1,VLOOKUP(Tabla212636[[#This Row],[ID]],Tabla19[],4,0),IF(Tabla132535[Nivel]=BD!$L$2,VLOOKUP(Tabla212636[[#This Row],[ID]],Tabla199[],4,0),VLOOKUP(Tabla212636[[#This Row],[ID]],Tabla19912[],4,0))))
F30: =IF(Tabla132535[Cant. Alumnos]>1,IF(F29="","",IF(ISNUMBER(F29)=FALSE,1,IF(F29=Tabla132535[Cant. Alumnos],"",F29+1))),"") -> 28 | G30: {=IF(Tabla212636[[#This Row],[Contador]]="","",IF(Tabla132535[Nivel]=BD!$L$1,IFERROR(SMALL(IF(Tabla19[Sala]=$C$2,Tabla19[ID2]),ROW()-2),""),IF(Tabla132535[Nivel]=BD!$L$2,IFERROR(SMALL(IF(Tabla199[Sala]=$C$2,Tabla199[ID2]),ROW()-2),""),IFERROR(SMALL(IF(Tabla19912[Sala]=$C$2,Tabla19912[ID2]),ROW()-2),""))))} | H30: =IF(Tabla212636[[#This Row],[ID]]="","",IF(Tabla132535[Nivel]=BD!$L$1,VLOOKUP(Tabla212636[[#This Row],[ID]],Tabla19[],4,0),IF(Tabla132535[Nivel]=BD!$L$2,VLOOKUP(Tabla212636[[#This Row],[ID]],Tabla199[],4,0),VLOOKUP(Tabla212636[[#This Row],[ID]],Tabla19912[],4,0))))
F31: =IF(Tabla132535[Cant. Alumnos]>1,IF(F30="","",IF(ISNUMBER(F30)=FALSE,1,IF(F30=Tabla132535[Cant. Alumnos],"",F30+1))),"") -> 29 | G31: {=IF(Tabla212636[[#This Row],[Contador]]="","",IF(Tabla132535[Nivel]=BD!$L$1,IFERROR(SMALL(IF(Tabla19[Sala]=$C$2,Tabla19[ID2]),ROW()-2),""),IF(Tabla132535[Nivel]=BD!$L$2,IFERROR(SMALL(IF(Tabla199[Sala]=$C$2,Tabla199[ID2]),ROW()-2),""),IFERROR(SMALL(IF(Tabla19912[Sala]=$C$2,Tabla19912[ID2]),ROW()-2),""))))} | H31: =IF(Tabla212636[[#This Row],[ID]]="","",IF(Tabla132535[Nivel]=BD!$L$1,VLOOKUP(Tabla212636[[#This Row],[ID]],Tabla19[],4,0),IF(Tabla132535[Nivel]=BD!$L$2,VLOOKUP(Tabla212636[[#This Row],[ID]],Tabla199[],4,0),VLOOKUP(Tabla212636[[#This Row],[ID]],Tabla19912[],4,0))))
F32: =IF(Tabla132535[Cant. Alumnos]>1,IF(F31="","",IF(ISNUMBER(F31)=FALSE,1,IF(F31=Tabla132535[Cant. Alumnos],"",F31+1))),"") -> 30 | G32: {=IF(Tabla212636[[#This Row],[Contador]]="","",IF(Tabla132535[Nivel]=BD!$L$1,IFERROR(SMALL(IF(Tabla19[Sala]=$C$2,Tabla19[ID2]),ROW()-2),""),IF(Tabla132535[Nivel]=BD!$L$2,IFERROR(SMALL(IF(Tabla199[Sala]=$C$2,Tabla199[ID2]),ROW()-2),""),IFERROR(SMALL(IF(Tabla19912[Sala]=$C$2,Tabla19912[ID2]),ROW()-2),""))))} | H32: =IF(Tabla212636[[#This Row],[ID]]="","",IF(Tabla132535[Nivel]=BD!$L$1,VLOOKUP(Tabla212636[[#This Row],[ID]],Tabla19[],4,0),IF(Tabla132535[Nivel]=BD!$L$2,VLOOKUP(Tabla212636[[#This Row],[ID]],Tabla199[],4,0),VLOOKUP(Tabla212636[[#This Row],[ID]],Tabla19912[],4,0))))
F33: =IF(Tabla132535[Cant. Alumnos]>1,IF(F32="","",IF(ISNUMBER(F32)=FALSE,1,IF(F32=Tabla132535[Cant. Alumnos],"",F32+1))),"") -> 31 | G33: {=IF(Tabla212636[[#This Row],[Contador]]="","",IF(Tabla132535[Nivel]=BD!$L$1,IFERROR(SMALL(IF(Tabla19[Sala]=$C$2,Tabla19[ID2]),ROW()-2),""),IF(Tabla132535[Nivel]=BD!$L$2,IFERROR(SMALL(IF(Tabla199[Sala]=$C$2,Tabla199[ID2]),ROW()-2),""),IFERROR(SMALL(IF(Tabla19912[Sala]=$C$2,Tabla19912[ID2]),ROW()-2),""))))} | H33: =IF(Tabla212636[[#This Row],[ID]]="","",IF(Tabla132535[Nivel]=BD!$L$1,VLOOKUP(Tabla212636[[#This Row],[ID]],Tabla19[],4,0),IF(Tabla132535[Nivel]=BD!$L$2,VLOOKUP(Tabla212636[[#This Row],[ID]],Tabla199[],4,0),VLOOKUP(Tabla212636[[#This Row],[ID]],Tabla19912[],4,0))))
F34: =IF(Tabla132535[Cant. Alumnos]>1,IF(F33="","",IF(ISNUMBER(F33)=FALSE,1,IF(F33=Tabla132535[Cant. Alumnos],"",F33+1))),"") -> 32 | G34: {=IF(Tabla212636[[#This Row],[Contador]]="","",IF(Tabla132535[Nivel]=BD!$L$1,IFERROR(SMALL(IF(Tabla19[Sala]=$C$2,Tabla19[ID2]),ROW()-2),""),IF(Tabla132535[Nivel]=BD!$L$2,IFERROR(SMALL(IF(Tabla199[Sala]=$C$2,Tabla199[ID2]),ROW()-2),""),IFERROR(SMALL(IF(Tabla19912[Sala]=$C$2,Tabla19912[ID2]),ROW()-2),""))))} | H34: =IF(Tabla212636[[#This Row],[ID]]="","",IF(Tabla132535[Nivel]=BD!$L$1,VLOOKUP(Tabla212636[[#This Row],[ID]],Tabla19[],4,0),IF(Tabla132535[Nivel]=BD!$L$2,VLOOKUP(Tabla212636[[#This Row],[ID]],Tabla199[],4,0),VLOOKUP(Tabla212636[[#This Row],[ID]],Tabla19912[],4,0))))
F35: =IF(Tabla132535[Cant. Alumnos]>1,IF(F34="","",IF(ISNUMBER(F34)=FALSE,1,IF(F34=Tabla132535[Cant. Alumnos],"",F34+1))),"") -> 33 | G35: {=IF(Tabla212636[[#This Row],[Contador]]="","",IF(Tabla132535[Nivel]=BD!$L$1,IFERROR(SMALL(IF(Tabla19[Sala]=$C$2,Tabla19[ID2]),ROW()-2),""),IF(Tabla132535[Nivel]=BD!$L$2,IFERROR(SMALL(IF(Tabla199[Sala]=$C$2,Tabla199[ID2]),ROW()-2),""),IFERROR(SMALL(IF(Tabla19912[Sala]=$C$2,Tabla19912[ID2]),ROW()-2),""))))} | H35: =IF(Tabla212636[[#This Row],[ID]]="","",IF(Tabla132535[Nivel]=BD!$L$1,VLOOKUP(Tabla212636[[#This Row],[ID]],Tabla19[],4,0),IF(Tabla132535[Nivel]=BD!$L$2,VLOOKUP(Tabla212636[[#This Row],[ID]],Tabla199[],4,0),VLOOKUP(Tabla212636[[#This Row],[ID]],Tabla19912[],4,0))))
F36: =IF(Tabla132535[Cant. Alumnos]>1,IF(F35="","",IF(ISNUMBER(F35)=FALSE,1,IF(F35=Tabla132535[Cant. Alumnos],"",F35+1))),"") -> 34 | G36: {=IF(Tabla212636[[#This Row],[Contador]]="","",IF(Tabla132535[Nivel]=BD!$L$1,IFERROR(SMALL(IF(Tabla19[Sala]=$C$2,Tabla19[ID2]),ROW()-2),""),IF(Tabla132535[Nivel]=BD!$L$2,IFERROR(SMALL(IF(Tabla199[Sala]=$C$2,Tabla199[ID2]),ROW()-2),""),IFERROR(SMALL(IF(Tabla19912[Sala]=$C$2,Tabla19912[ID2]),ROW()-2),""))))} | H36: =IF(Tabla212636[[#This Row],[ID]]="","",IF(Tabla132535[Nivel]=BD!$L$1,VLOOKUP(Tabla212636[[#This Row],[ID]],Tabla19[],4,0),IF(Tabla132535[Nivel]=BD!$L$2,VLOOKUP(Tabla212636[[#This Row],[ID]],Tabla199[],4,0),VLOOKUP(Tabla212636[[#This Row],[ID]],Tabla19912[],4,0))))
F37: =IF(Tabla132535[Cant. Alumnos]>1,IF(F36="","",IF(ISNUMBER(F36)=FALSE,1,IF(F36=Tabla132535[Cant. Alumnos],"",F36+1))),"") -> 35 | G37: {=IF(Tabla212636[[#This Row],[Contador]]="","",IF(Tabla132535[Nivel]=BD!$L$1,IFERROR(SMALL(IF(Tabla19[Sala]=$C$2,Tabla19[ID2]),ROW()-2),""),IF(Tabla132535[Nivel]=BD!$L$2,IFERROR(SMALL(IF(Tabla199[Sala]=$C$2,Tabla199[ID2]),ROW()-2),""),IFERROR(SMALL(IF(Tabla19912[Sala]=$C$2,Tabla19912[ID2]),ROW()-2),""))))} | H37: =IF(Tabla212636[[#This Row],[ID]]="","",IF(Tabla132535[Nivel]=BD!$L$1,VLOOKUP(Tabla212636[[#This Row],[ID]],Tabla19[],4,0),IF(Tabla132535[Nivel]=BD!$L$2,VLOOKUP(Tabla212636[[#This Row],[ID]],Tabla199[],4,0),VLOOKUP(Tabla212636[[#This Row],[ID]],Tabla19912[],4,0))))
F38: =IF(Tabla132535[Cant. Alumnos]>1,IF(F37="","",IF(ISNUMBER(F37)=FALSE,1,IF(F37=Tabla132535[Cant. Alumnos],"",F37+1))),"") -> 36 | G38: {=IF(Tabla212636[[#This Row],[Contador]]="","",IF(Tabla132535[Nivel]=BD!$L$1,IFERROR(SMALL(IF(Tabla19[Sala]=$C$2,Tabla19[ID2]),ROW()-2),""),IF(Tabla132535[Nivel]=BD!$L$2,IFERROR(SMALL(IF(Tabla199[Sala]=$C$2,Tabla199[ID2]),ROW()-2),""),IFERROR(SMALL(IF(Tabla19912[Sala]=$C$2,Tabla19912[ID2]),ROW()-2),""))))} | H38: =IF(Tabla212636[[#This Row],[ID]]="","",IF(Tabla132535[Nivel]=BD!$L$1,VLOOKUP(Tabla212636[[#This Row],[ID]],Tabla19[],4,0),IF(Tabla132535[Nivel]=BD!$L$2,VLOOKUP(Tabla212636[[#This Row],[ID]],Tabla199[],4,0),VLOOKUP(Tabla212636[[#This Row],[ID]],Tabla19912[],4,0))))
F39: =IF(Tabla132535[Cant. Alumnos]>1,IF(F38="","",IF(ISNUMBER(F38)=FALSE,1,IF(F38=Tabla132535[Cant. Alumnos],"",F38+1))),"") -> 37 | G39: {=IF(Tabla212636[[#This Row],[Contador]]="","",IF(Tabla132535[Nivel]=BD!$L$1,IFERROR(SMALL(IF(Tabla19[Sala]=$C$2,Tabla19[ID2]),ROW()-2),""),IF(Tabla132535[Nivel]=BD!$L$2,IFERROR(SMALL(IF(Tabla199[Sala]=$C$2,Tabla199[ID2]),ROW()-2),""),IFERROR(SMALL(IF(Tabla19912[Sala]=$C$2,Tabla19912[ID2]),ROW()-2),""))))} | H39: =IF(Tabla212636[[#This Row],[ID]]="","",IF(Tabla132535[Nivel]=BD!$L$1,VLOOKUP(Tabla212636[[#This Row],[ID]],Tabla19[],4,0),IF(Tabla132535[Nivel]=BD!$L$2,VLOOKUP(Tabla212636[[#This Row],[ID]],Tabla199[],4,0),VLOOKUP(Tabla212636[[#This Row],[ID]],Tabla19912[],4,0))))
F40: =IF(Tabla132535[Cant. Alumnos]>1,IF(F39="","",IF(ISNUMBER(F39)=FALSE,1,IF(F39=Tabla132535[Cant. Alumnos],"",F39+1))),"") -> 38 | G40: {=IF(Tabla212636[[#This Row],[Contador]]="","",IF(Tabla132535[Nivel]=BD!$L$1,IFERROR(SMALL(IF(Tabla19[Sala]=$C$2,Tabla19[ID2]),ROW()-2),""),IF(Tabla132535[Nivel]=BD!$L$2,IFERROR(SMALL(IF(Tabla199[Sala]=$C$2,Tabla199[ID2]),ROW()-2),""),IFERROR(SMALL(IF(Tabla19912[Sala]=$C$2,Tabla19912[ID2]),ROW()-2),""))))} | H40: =IF(Tabla212636[[#This Row],[ID]]="","",IF(Tabla132535[Nivel]=BD!$L$1,VLOOKUP(Tabla212636[[#This Row],[ID]],Tabla19[],4,0),IF(Tabla132535[Nivel]=BD!$L$2,VLOOKUP(Tabla212636[[#This Row],[ID]],Tabla199[],4,0),VLOOKUP(Tabla212636[[#This Row],[ID]],Tabla19912[],4,0))))
F41: =IF(Tabla132535[Cant. Alumnos]>1,IF(F40="","",IF(ISNUMBER(F40)=FALSE,1,IF(F40=Tabla132535[Cant. Alumnos],"",F40+1))),"") -> 39 | G41: {=IF(Tabla212636[[#This Row],[Contador]]="","",IF(Tabla132535[Nivel]=BD!$L$1,IFERROR(SMALL(IF(Tabla19[Sala]=$C$2,Tabla19[ID2]),ROW()-2),""),IF(Tabla132535[Nivel]=BD!$L$2,IFERROR(SMALL(IF(Tabla199[Sala]=$C$2,Tabla199[ID2]),ROW()-2),""),IFERROR(SMALL(IF(Tabla19912[Sala]=$C$2,Tabla19912[ID2]),ROW()-2),""))))} | H41: =IF(Tabla212636[[#This Row],[ID]]="","",IF(Tabla132535[Nivel]=BD!$L$1,VLOOKUP(Tabla212636[[#This Row],[ID]],Tabla19[],4,0),IF(Tabla132535[Nivel]=BD!$L$2,VLOOKUP(Tabla212636[[#This Row],[ID]],Tabla199[],4,0),VLOOKUP(Tabla212636[[#This Row],[ID]],Tabla19912[],4,0))))
... F61: =IF(Tabla132535[Cant. Alumnos]>1,IF(F60="","",IF(ISNUMBER(F60)=FALSE,1,IF(F60=Tabla132535[Cant. Alumnos],"",F60+1))),"") -> 59 | G61: {=IF(Tabla212636[[#This Row],[Contador]]="","",IF(Tabla132535[Nivel]=BD!$L$1,IFERROR(SMALL(IF(Tabla19[Sala]=$C$2,Tabla19[ID2]),ROW()-2),""),IF(Tabla132535[Nivel]=BD!$L$2,IFERROR(SMALL(IF(Tabla199[Sala]=$C$2,Tabla199[ID2]),ROW()-2),""),IFERROR(SMALL(IF(Tabla19912[Sala]=$C$2,Tabla19912[ID2]),ROW()-2),""))))} | H61: =IF(Tabla212636[[#This Row],[ID]]="","",IF(Tabla132535[Nivel]=BD!$L$1,VLOOKUP(Tabla212636[[#This Row],[ID]],Tabla19[],4,0),IF(Tabla132535[Nivel]=BD!$L$2,VLOOKUP(Tabla212636[[#This Row],[ID]],Tabla199[],4,0),VLOOKUP(Tabla212636[[#This Row],[ID]],Tabla19912[],4,0))))

Sheet Carga 5to alumno
A1: Cant. Salas | B1: Nivel | C1: Sala | D1: Cant. Alumnos
A2: =IF(Tabla13253538[[#This Row],[Nivel]]=BD!$L$1,'Filtrar Salas Grado Año'!$B$2,IF(Tabla13253538[[#This Row],[Nivel]]=BD!$L$2,'Filtrar Salas Grado Año'!$D$2,IF(Tabla13253538[[#This Row],[Nivel]]=BD!$L$3,'Filtrar Salas Grado Año'!$F$2,""))) | B2: ='Mi Pedido lista'!B7 -> 0 | C2: ='Mi Pedido lista'!C7 -> 0 | D2: =IF(Tabla13253538[[#This Row],[Nivel]]=BD!$L$1,COUNTIFS(Tabla19[Alumno],"<>",Tabla19[Sala],Tabla13253538[[#This Row],[Sala]]),IF(Tabla13253538[[#This Row],[Nivel]]=BD!$L$2,COUNTIFS(Tabla199[Alumno],"<>",Tabla199[Sala],Tabla13253538[[#This Row],[Sala]]),IF(Tabla13253538[[#This Row],[Nivel]]=BD!$L$3,COUNTIFS(Tabla19912[Columna1],"<>",Tabla19912[Sala],Tabla13253538[[#This Row],[Sala]]),""))) | F2: Contador | G2: ID | H2: Alumno
F3: =IF(Tabla13253538[Cant. Alumnos]>1,IF(F2="","",IF(ISNUMBER(F2)=FALSE,1,IF(F2=Tabla13253538[Cant. Alumnos],"",F2+1))),"") -> 1 | G3: {=IF(Tabla21263639[[#This Row],[Contador]]="","",IF(Tabla13253538[Nivel]=BD!$L$1,IFERROR(SMALL(IF(Tabla19[Sala]=$C$2,Tabla19[ID2]),ROW()-2),""),IF(Tabla13253538[Nivel]=BD!$L$2,IFERROR(SMALL(IF(Tabla199[Sala]=$C$2,Tabla199[ID2]),ROW()-2),""),IFERROR(SMALL(IF(Tabla19912[Sala]=$C$2,Tabla19912[ID2]),ROW()-2),""))))} | H3: =IF(Tabla21263639[[#This Row],[ID]]="","",IF(Tabla13253538[Nivel]=BD!$L$1,VLOOKUP(Tabla21263639[[#This Row],[ID]],Tabla19[],4,0),IF(Tabla13253538[Nivel]=BD!$L$2,VLOOKUP(Tabla21263639[[#This Row],[ID]],Tabla199[],4,0),VLOOKUP(Tabla21263639[[#This Row],[ID]],Tabla19912[],4,0))))
F4: =IF(Tabla13253538[Cant. Alumnos]>1,IF(F3="","",IF(ISNUMBER(F3)=FALSE,1,IF(F3=Tabla13253538[Cant. Alumnos],"",F3+1))),"") -> 2 | G4: {=IF(Tabla21263639[[#This Row],[Contador]]="","",IF(Tabla13253538[Nivel]=BD!$L$1,IFERROR(SMALL(IF(Tabla19[Sala]=$C$2,Tabla19[ID2]),ROW()-2),""),IF(Tabla13253538[Nivel]=BD!$L$2,IFERROR(SMALL(IF(Tabla199[Sala]=$C$2,Tabla199[ID2]),ROW()-2),""),IFERROR(SMALL(IF(Tabla19912[Sala]=$C$2,Tabla19912[ID2]),ROW()-2),""))))} | H4: =IF(Tabla21263639[[#This Row],[ID]]="","",IF(Tabla13253538[Nivel]=BD!$L$1,VLOOKUP(Tabla21263639[[#This Row],[ID]],Tabla19[],4,0),IF(Tabla13253538[Nivel]=BD!$L$2,VLOOKUP(Tabla21263639[[#This Row],[ID]],Tabla199[],4,0),VLOOKUP(Tabla21263639[[#This Row],[ID]],Tabla19912[],4,0))))
F5: =IF(Tabla13253538[Cant. Alumnos]>1,IF(F4="","",IF(ISNUMBER(F4)=FALSE,1,IF(F4=Tabla13253538[Cant. Alumnos],"",F4+1))),"") -> 3 | G5: {=IF(Tabla21263639[[#This Row],[Contador]]="","",IF(Tabla13253538[Nivel]=BD!$L$1,IFERROR(SMALL(IF(Tabla19[Sala]=$C$2,Tabla19[ID2]),ROW()-2),""),IF(Tabla13253538[Nivel]=BD!$L$2,IFERROR(SMALL(IF(Tabla199[Sala]=$C$2,Tabla199[ID2]),ROW()-2),""),IFERROR(SMALL(IF(Tabla19912[Sala]=$C$2,Tabla19912[ID2]),ROW()-2),""))))} | H5: =IF(Tabla21263639[[#This Row],[ID]]="","",IF(Tabla13253538[Nivel]=BD!$L$1,VLOOKUP(Tabla21263639[[#This Row],[ID]],Tabla19[],4,0),IF(Tabla13253538[Nivel]=BD!$L$2,VLOOKUP(Tabla21263639[[#This Row],[ID]],Tabla199[],4,0),VLOOKUP(Tabla21263639[[#This Row],[ID]],Tabla19912[],4,0))))
B6: Orden | C6: Sala | F6: =IF(Tabla13253538[Cant. Alumnos]>1,IF(F5="","",IF(ISNUMBER(F5)=FALSE,1,IF(F5=Tabla13253538[Cant. Alumnos],"",F5+1))),"") -> 4 | G6: {=IF(Tabla21263639[[#This Row],[Contador]]="","",IF(Tabla13253538[Nivel]=BD!$L$1,IFERROR(SMALL(IF(Tabla19[Sala]=$C$2,Tabla19[ID2]),ROW()-2),""),IF(Tabla13253538[Nivel]=BD!$L$2,IFERROR(SMALL(IF(Tabla199[Sala]=$C$2,Tabla199[ID2]),ROW()-2),""),IFERROR(SMALL(IF(Tabla19912[Sala]=$C$2,Tabla19912[ID2]),ROW()-2),""))))} | H6: =IF(Tabla21263639[[#This Row],[ID]]="","",IF(Tabla13253538[Nivel]=BD!$L$1,VLOOKUP(Tabla21263639[[#This Row],[ID]],Tabla19[],4,0),IF(Tabla13253538[Nivel]=BD!$L$2,VLOOKUP(Tabla21263639[[#This Row],[ID]],Tabla199[],4,0),VLOOKUP(Tabla21263639[[#This Row],[ID]],Tabla19912[],4,0))))
B7: =IF(Tabla13253538[Cant. Salas]="","",IF(B6="","",IF(ISNUMBER(B6)=FALSE,1,IF(B6=Tabla13253538[Cant. Salas],"",B6+1)))) | C7: =IF(IF(Tabla12283740[[#This Row],[Orden]]="","",IF(Tabla13253538[Nivel]=BD!$L$1,'Filtrar Salas Grado Año'!A3,IF(Tabla13253538[Nivel]=BD!$L$2,'Filtrar Salas Grado Año'!C3,'Filtrar Salas Grado Año'!E3)))="(en blanco)","",IF(Tabla12283740[[#This Row],[Orden]]="","",IF(Tabla13253538[Nivel]=BD!$L$1,'Filtrar Salas Grado Año'!A3,IF(Tabla13253538[Nivel]=BD!$L$2,'Filtrar Salas Grado Año'!C3,'Filtrar Salas Grado Año'!E3)))) | F7: =IF(Tabla13253538[Cant. Alumnos]>1,IF(F6="","",IF(ISNUMBER(F6)=FALSE,1,IF(F6=Tabla13253538[Cant. Alumnos],"",F6+1))),"") -> 5 | G7: {=IF(Tabla21263639[[#This Row],[Contador]]="","",IF(Tabla13253538[Nivel]=BD!$L$1,IFERROR(SMALL(IF(Tabla19[Sala]=$C$2,Tabla19[ID2]),ROW()-2),""),IF(Tabla13253538[Nivel]=BD!$L$2,IFERROR(SMALL(IF(Tabla199[Sala]=$C$2,Tabla199[ID2]),ROW()-2),""),IFERROR(SMALL(IF(Tabla19912[Sala]=$C$2,Tabla19912[ID2]),ROW()-2),""))))} | H7: =IF(Tabla21263639[[#This Row],[ID]]="","",IF(Tabla13253538[Nivel]=BD!$L$1,VLOOKUP(Tabla21263639[[#This Row],[ID]],Tabla19[],4,0),IF(Tabla13253538[Nivel]=BD!$L$2,VLOOKUP(Tabla21263639[[#This Row],[ID]],Tabla199[],4,0),VLOOKUP(Tabla21263639[[#This Row],[ID]],Tabla19912[],4,0))))
B8: =IF(Tabla13253538[Cant. Salas]="","",IF(B7="","",IF(ISNUMBER(B7)=FALSE,1,IF(B7=Tabla13253538[Cant. Salas],"",B7+1)))) | C8: =IF(IF(Tabla12283740[[#This Row],[Orden]]="","",IF(Tabla13253538[Nivel]=BD!$L$1,'Filtrar Salas Grado Año'!A4,IF(Tabla13253538[Nivel]=BD!$L$2,'Filtrar Salas Grado Año'!C4,'Filtrar Salas Grado Año'!E4)))="(en blanco)","",IF(Tabla12283740[[#This Row],[Orden]]="","",IF(Tabla13253538[Nivel]=BD!$L$1,'Filtrar Salas Grado Año'!A4,IF(Tabla13253538[Nivel]=BD!$L$2,'Filtrar Salas Grado Año'!C4,'Filtrar Salas Grado Año'!E4)))) | F8: =IF(Tabla13253538[Cant. Alumnos]>1,IF(F7="","",IF(ISNUMBER(F7)=FALSE,1,IF(F7=Tabla13253538[Cant. Alumnos],"",F7+1))),"") -> 6 | G8: {=IF(Tabla21263639[[#This Row],[Contador]]="","",IF(Tabla13253538[Nivel]=BD!$L$1,IFERROR(SMALL(IF(Tabla19[Sala]=$C$2,Tabla19[ID2]),ROW()-2),""),IF(Tabla13253538[Nivel]=BD!$L$2,IFERROR(SMALL(IF(Tabla199[Sala]=$C$2,Tabla199[ID2]),ROW()-2),""),IFERROR(SMALL(IF(Tabla19912[Sala]=$C$2,Tabla19912[ID2]),ROW()-2),""))))} | H8: =IF(Tabla21263639[[#This Row],[ID]]="","",IF(Tabla13253538[Nivel]=BD!$L$1,VLOOKUP(Tabla21263639[[#This Row],[ID]],Tabla19[],4,0),IF(Tabla13253538[Nivel]=BD!$L$2,VLOOKUP(Tabla21263639[[#This Row],[ID]],Tabla199[],4,0),VLOOKUP(Tabla21263639[[#This Row],[ID]],Tabla19912[],4,0))))
B9: =IF(Tabla13253538[Cant. Salas]="","",IF(B8="","",IF(ISNUMBER(B8)=FALSE,1,IF(B8=Tabla13253538[Cant. Salas],"",B8+1)))) | C9: =IF(IF(Tabla12283740[[#This Row],[Orden]]="","",IF(Tabla13253538[Nivel]=BD!$L$1,'Filtrar Salas Grado Año'!A5,IF(Tabla13253538[Nivel]=BD!$L$2,'Filtrar Salas Grado Año'!C5,'Filtrar Salas Grado Año'!E5)))="(en blanco)","",IF(Tabla12283740[[#This Row],[Orden]]="","",IF(Tabla13253538[Nivel]=BD!$L$1,'Filtrar Salas Grado Año'!A5,IF(Tabla13253538[Nivel]=BD!$L$2,'Filtrar Salas Grado Año'!C5,'Filtrar Salas Grado Año'!E5)))) | F9: =IF(Tabla13253538[Cant. Alumnos]>1,IF(F8="","",IF(ISNUMBER(F8)=FALSE,1,IF(F8=Tabla13253538[Cant. Alumnos],"",F8+1))),"") -> 7 | G9: {=IF(Tabla21263639[[#This Row],[Contador]]="","",IF(Tabla13253538[Nivel]=BD!$L$1,IFERROR(SMALL(IF(Tabla19[Sala]=$C$2,Tabla19[ID2]),ROW()-2),""),IF(Tabla13253538[Nivel]=BD!$L$2,IFERROR(SMALL(IF(Tabla199[Sala]=$C$2,Tabla199[ID2]),ROW()-2),""),IFERROR(SMALL(IF(Tabla19912[Sala]=$C$2,Tabla19912[ID2]),ROW()-2),""))))} | H9: =IF(Tabla21263639[[#This Row],[ID]]="","",IF(Tabla13253538[Nivel]=BD!$L$1,VLOOKUP(Tabla21263639[[#This Row],[ID]],Tabla19[],4,0),IF(Tabla13253538[Nivel]=BD!$L$2,VLOOKUP(Tabla21263639[[#This Row],[ID]],Tabla199[],4,0),VLOOKUP(Tabla21263639[[#This Row],[ID]],Tabla19912[],4,0))))
B10: =IF(Tabla13253538[Cant. Salas]="","",IF(B9="","",IF(ISNUMBER(B9)=FALSE,1,IF(B9=Tabla13253538[Cant. Salas],"",B9+1)))) | C10: =IF(IF(Tabla12283740[[#This Row],[Orden]]="","",IF(Tabla13253538[Nivel]=BD!$L$1,'Filtrar Salas Grado Año'!A6,IF(Tabla13253538[Nivel]=BD!$L$2,'Filtrar Salas Grado Año'!C6,'Filtrar Salas Grado Año'!E6)))="(en blanco)","",IF(Tabla12283740[[#This Row],[Orden]]="","",IF(Tabla13253538[Nivel]=BD!$L$1,'Filtrar Salas Grado Año'!A6,IF(Tabla13253538[Nivel]=BD!$L$2,'Filtrar Salas Grado Año'!C6,'Filtrar Salas Grado Año'!E6)))) | F10: =IF(Tabla13253538[Cant. Alumnos]>1,IF(F9="","",IF(ISNUMBER(F9)=FALSE,1,IF(F9=Tabla13253538[Cant. Alumnos],"",F9+1))),"") -> 8 | G10: {=IF(Tabla21263639[[#This Row],[Contador]]="","",IF(Tabla13253538[Nivel]=BD!$L$1,IFERROR(SMALL(IF(Tabla19[Sala]=$C$2,Tabla19[ID2]),ROW()-2),""),IF(Tabla13253538[Nivel]=BD!$L$2,IFERROR(SMALL(IF(Tabla199[Sala]=$C$2,Tabla199[ID2]),ROW()-2),""),IFERROR(SMALL(IF(Tabla19912[Sala]=$C$2,Tabla19912[ID2]),ROW()-2),""))))} | H10: =IF(Tabla21263639[[#This Row],[ID]]="","",IF(Tabla13253538[Nivel]=BD!$L$1,VLOOKUP(Tabla21263639[[#This Row],[ID]],Tabla19[],4,0),IF(Tabla13253538[Nivel]=BD!$L$2,VLOOKUP(Tabla21263639[[#This Row],[ID]],Tabla199[],4,0),VLOOKUP(Tabla21263639[[#This Row],[ID]],Tabla19912[],4,0))))
B11: =IF(Tabla13253538[Cant. Salas]="","",IF(B10="","",IF(ISNUMBER(B10)=FALSE,1,IF(B10=Tabla13253538[Cant. Salas],"",B10+1)))) | C11: =IF(IF(Tabla12283740[[#This Row],[Orden]]="","",IF(Tabla13253538[Nivel]=BD!$L$1,'Filtrar Salas Grado Año'!A7,IF(Tabla13253538[Nivel]=BD!$L$2,'Filtrar Salas Grado Año'!C7,'Filtrar Salas Grado Año'!E7)))="(en blanco)","",IF(Tabla12283740[[#This Row],[Orden]]="","",IF(Tabla13253538[Nivel]=BD!$L$1,'Filtrar Salas Grado Año'!A7,IF(Tabla13253538[Nivel]=BD!$L$2,'Filtrar Salas Grado Año'!C7,'Filtrar Salas Grado Año'!E7)))) | F11: =IF(Tabla13253538[Cant. Alumnos]>1,IF(F10="","",IF(ISNUMBER(F10)=FALSE,1,IF(F10=Tabla13253538[Cant. Alumnos],"",F10+1))),"") -> 9 | G11: {=IF(Tabla21263639[[#This Row],[Contador]]="","",IF(Tabla13253538[Nivel]=BD!$L$1,IFERROR(SMALL(IF(Tabla19[Sala]=$C$2,Tabla19[ID2]),ROW()-2),""),IF(Tabla13253538[Nivel]=BD!$L$2,IFERROR(SMALL(IF(Tabla199[Sala]=$C$2,Tabla199[ID2]),ROW()-2),""),IFERROR(SMALL(IF(Tabla19912[Sala]=$C$2,Tabla19912[ID2]),ROW()-2),""))))} | H11: =IF(Tabla21263639[[#This Row],[ID]]="","",IF(Tabla13253538[Nivel]=BD!$L$1,VLOOKUP(Tabla21263639[[#This Row],[ID]],Tabla19[],4,0),IF(Tabla13253538[Nivel]=BD!$L$2,VLOOKUP(Tabla21263639[[#This Row],[ID]],Tabla199[],4,0),VLOOKUP(Tabla21263639[[#This Row],[ID]],Tabla19912[],4,0))))
B12: =IF(Tabla13253538[Cant. Salas]="","",IF(B11="","",IF(ISNUMBER(B11)=FALSE,1,IF(B11=Tabla13253538[Cant. Salas],"",B11+1)))) | C12: =IF(IF(Tabla12283740[[#This Row],[Orden]]="","",IF(Tabla13253538[Nivel]=BD!$L$1,'Filtrar Salas Grado Año'!A8,IF(Tabla13253538[Nivel]=BD!$L$2,'Filtrar Salas Grado Año'!C8,'Filtrar Salas Grado Año'!E8)))="(en blanco)","",IF(Tabla12283740[[#This Row],[Orden]]="","",IF(Tabla13253538[Nivel]=BD!$L$1,'Filtrar Salas Grado Año'!A8,IF(Tabla13253538[Nivel]=BD!$L$2,'Filtrar Salas Grado Año'!C8,'Filtrar Salas Grado Año'!E8)))) | F12: =IF(Tabla13253538[Cant. Alumnos]>1,IF(F11="","",IF(ISNUMBER(F11)=FALSE,1,IF(F11=Tabla13253538[Cant. Alumnos],"",F11+1))),"") -> 10 | G12: {=IF(Tabla21263639[[#This Row],[Contador]]="","",IF(Tabla13253538[Nivel]=BD!$L$1,IFERROR(SMALL(IF(Tabla19[Sala]=$C$2,Tabla19[ID2]),ROW()-2),""),IF(Tabla13253538[Nivel]=BD!$L$2,IFERROR(SMALL(IF(Tabla199[Sala]=$C$2,Tabla199[ID2]),ROW()-2),""),IFERROR(SMALL(IF(Tabla19912[Sala]=$C$2,Tabla19912[ID2]),ROW()-2),""))))} | H12: =IF(Tabla21263639[[#This Row],[ID]]="","",IF(Tabla13253538[Nivel]=BD!$L$1,VLOOKUP(Tabla21263639[[#This Row],[ID]],Tabla19[],4,0),IF(Tabla13253538[Nivel]=BD!$L$2,VLOOKUP(Tabla21263639[[#This Row],[ID]],Tabla199[],4,0),VLOOKUP(Tabla21263639[[#This Row],[ID]],Tabla19912[],4,0))))
B13: =IF(Tabla13253538[Cant. Salas]="","",IF(B12="","",IF(ISNUMBER(B12)=FALSE,1,IF(B12=Tabla13253538[Cant. Salas],"",B12+1)))) | C13: =IF(IF(Tabla12283740[[#This Row],[Orden]]="","",IF(Tabla13253538[Nivel]=BD!$L$1,'Filtrar Salas Grado Año'!A9,IF(Tabla13253538[Nivel]=BD!$L$2,'Filtrar Salas Grado Año'!C9,'Filtrar Salas Grado Año'!E9)))="(en blanco)","",IF(Tabla12283740[[#This Row],[Orden]]="","",IF(Tabla13253538[Nivel]=BD!$L$1,'Filtrar Salas Grado Año'!A9,IF(Tabla13253538[Nivel]=BD!$L$2,'Filtrar Salas Grado Año'!C9,'Filtrar Salas Grado Año'!E9)))) | F13: =IF(Tabla13253538[Cant. Alumnos]>1,IF(F12="","",IF(ISNUMBER(F12)=FALSE,1,IF(F12=Tabla13253538[Cant. Alumnos],"",F12+1))),"") -> 11 | G13: {=IF(Tabla21263639[[#This Row],[Contador]]="","",IF(Tabla13253538[Nivel]=BD!$L$1,IFERROR(SMALL(IF(Tabla19[Sala]=$C$2,Tabla19[ID2]),ROW()-2),""),IF(Tabla13253538[Nivel]=BD!$L$2,IFERROR(SMALL(IF(Tabla199[Sala]=$C$2,Tabla199[ID2]),ROW()-2),""),IFERROR(SMALL(IF(Tabla19912[Sala]=$C$2,Tabla19912[ID2]),ROW()-2),""))))} | H13: =IF(Tabla21263639[[#This Row],[ID]]="","",IF(Tabla13253538[Nivel]=BD!$L$1,VLOOKUP(Tabla21263639[[#This Row],[ID]],Tabla19[],4,0),IF(Tabla13253538[Nivel]=BD!$L$2,VLOOKUP(Tabla21263639[[#This Row],[ID]],Tabla199[],4,0),VLOOKUP(Tabla21263639[[#This Row],[ID]],Tabla19912[],4,0))))
B14: =IF(Tabla13253538[Cant. Salas]="","",IF(B13="","",IF(ISNUMBER(B13)=FALSE,1,IF(B13=Tabla13253538[Cant. Salas],"",B13+1)))) | C14: =IF(IF(Tabla12283740[[#This Row],[Orden]]="","",IF(Tabla13253538[Nivel]=BD!$L$1,'Filtrar Salas Grado Año'!A10,IF(Tabla13253538[Nivel]=BD!$L$2,'Filtrar Salas Grado Año'!C10,'Filtrar Salas Grado Año'!E10)))="(en blanco)","",IF(Tabla12283740[[#This Row],[Orden]]="","",IF(Tabla13253538[Nivel]=BD!$L$1,'Filtrar Salas Grado Año'!A10,IF(Tabla13253538[Nivel]=BD!$L$2,'Filtrar Salas Grado Año'!C10,'Filtrar Salas Grado Año'!E10)))) | F14: =IF(Tabla13253538[Cant. Alumnos]>1,IF(F13="","",IF(ISNUMBER(F13)=FALSE,1,IF(F13=Tabla13253538[Cant. Alumnos],"",F13+1))),"") -> 12 | G14: {=IF(Tabla21263639[[#This Row],[Contador]]="","",IF(Tabla13253538[Nivel]=BD!$L$1,IFERROR(SMALL(IF(Tabla19[Sala]=$C$2,Tabla19[ID2]),ROW()-2),""),IF(Tabla13253538[Nivel]=BD!$L$2,IFERROR(SMALL(IF(Tabla199[Sala]=$C$2,Tabla199[ID2]),ROW()-2),""),IFERROR(SMALL(IF(Tabla19912[Sala]=$C$2,Tabla19912[ID2]),ROW()-2),""))))} | H14: =IF(Tabla21263639[[#This Row],[ID]]="","",IF(Tabla13253538[Nivel]=BD!$L$1,VLOOKUP(Tabla21263639[[#This Row],[ID]],Tabla19[],4,0),IF(Tabla13253538[Nivel]=BD!$L$2,VLOOKUP(Tabla21263639[[#This Row],[ID]],Tabla199[],4,0),VLOOKUP(Tabla21263639[[#This Row],[ID]],Tabla19912[],4,0))))
B15: =IF(Tabla13253538[Cant. Salas]="","",IF(B14="","",IF(ISNUMBER(B14)=FALSE,1,IF(B14=Tabla13253538[Cant. Salas],"",B14+1)))) | C15: =IF(IF(Tabla12283740[[#This Row],[Orden]]="","",IF(Tabla13253538[Nivel]=BD!$L$1,'Filtrar Salas Grado Año'!A11,IF(Tabla13253538[Nivel]=BD!$L$2,'Filtrar Salas Grado Año'!C11,'Filtrar Salas Grado Año'!E11)))="(en blanco)","",IF(Tabla12283740[[#This Row],[Orden]]="","",IF(Tabla13253538[Nivel]=BD!$L$1,'Filtrar Salas Grado Año'!A11,IF(Tabla13253538[Nivel]=BD!$L$2,'Filtrar Salas Grado Año'!C11,'Filtrar Salas Grado Año'!E11)))) | F15: =IF(Tabla13253538[Cant. Alumnos]>1,IF(F14="","",IF(ISNUMBER(F14)=FALSE,1,IF(F14=Tabla13253538[Cant. Alumnos],"",F14+1))),"") -> 13 | G15: {=IF(Tabla21263639[[#This Row],[Contador]]="","",IF(Tabla13253538[Nivel]=BD!$L$1,IFERROR(SMALL(IF(Tabla19[Sala]=$C$2,Tabla19[ID2]),ROW()-2),""),IF(Tabla13253538[Nivel]=BD!$L$2,IFERROR(SMALL(IF(Tabla199[Sala]=$C$2,Tabla199[ID2]),ROW()-2),""),IFERROR(SMALL(IF(Tabla19912[Sala]=$C$2,Tabla19912[ID2]),ROW()-2),""))))} | H15: =IF(Tabla21263639[[#This Row],[ID]]="","",IF(Tabla13253538[Nivel]=BD!$L$1,VLOOKUP(Tabla21263639[[#This Row],[ID]],Tabla19[],4,0),IF(Tabla13253538[Nivel]=BD!$L$2,VLOOKUP(Tabla21263639[[#This Row],[ID]],Tabla199[],4,0),VLOOKUP(Tabla21263639[[#This Row],[ID]],Tabla19912[],4,0))))
B16: =IF(Tabla13253538[Cant. Salas]="","",IF(B15="","",IF(ISNUMBER(B15)=FALSE,1,IF(B15=Tabla13253538[Cant. Salas],"",B15+1)))) | C16: =IF(IF(Tabla12283740[[#This Row],[Orden]]="","",IF(Tabla13253538[Nivel]=BD!$L$1,'Filtrar Salas Grado Año'!A12,IF(Tabla13253538[Nivel]=BD!$L$2,'Filtrar Salas Grado Año'!C12,'Filtrar Salas Grado Año'!E12)))="(en blanco)","",IF(Tabla12283740[[#This Row],[Orden]]="","",IF(Tabla13253538[Nivel]=BD!$L$1,'Filtrar Salas Grado Año'!A12,IF(Tabla13253538[Nivel]=BD!$L$2,'Filtrar Salas Grado Año'!C12,'Filtrar Salas Grado Año'!E12)))) | F16: =IF(Tabla13253538[Cant. Alumnos]>1,IF(F15="","",IF(ISNUMBER(F15)=FALSE,1,IF(F15=Tabla13253538[Cant. Alumnos],"",F15+1))),"") -> 14 | G16: {=IF(Tabla21263639[[#This Row],[Contador]]="","",IF(Tabla13253538[Nivel]=BD!$L$1,IFERROR(SMALL(IF(Tabla19[Sala]=$C$2,Tabla19[ID2]),ROW()-2),""),IF(Tabla13253538[Nivel]=BD!$L$2,IFERROR(SMALL(IF(Tabla199[Sala]=$C$2,Tabla199[ID2]),ROW()-2),""),IFERROR(SMALL(IF(Tabla19912[Sala]=$C$2,Tabla19912[ID2]),ROW()-2),""))))} | H16: =IF(Tabla21263639[[#This Row],[ID]]="","",IF(Tabla13253538[Nivel]=BD!$L$1,VLOOKUP(Tabla21263639[[#This Row],[ID]],Tabla19[],4,0),IF(Tabla13253538[Nivel]=BD!$L$2,VLOOKUP(Tabla21263639[[#This Row],[ID]],Tabla199[],4,0),VLOOKUP(Tabla21263639[[#This Row],[ID]],Tabla19912[],4,0))))
B17: =IF(Tabla13253538[Cant. Salas]="","",IF(B16="","",IF(ISNUMBER(B16)=FALSE,1,IF(B16=Tabla13253538[Cant. Salas],"",B16+1)))) | C17: =IF(IF(Tabla12283740[[#This Row],[Orden]]="","",IF(Tabla13253538[Nivel]=BD!$L$1,'Filtrar Salas Grado Año'!A13,IF(Tabla13253538[Nivel]=BD!$L$2,'Filtrar Salas Grado Año'!C13,'Filtrar Salas Grado Año'!E13)))="(en blanco)","",IF(Tabla12283740[[#This Row],[Orden]]="","",IF(Tabla13253538[Nivel]=BD!$L$1,'Filtrar Salas Grado Año'!A13,IF(Tabla13253538[Nivel]=BD!$L$2,'Filtrar Salas Grado Año'!C13,'Filtrar Salas Grado Año'!E13)))) | F17: =IF(Tabla13253538[Cant. Alumnos]>1,IF(F16="","",IF(ISNUMBER(F16)=FALSE,1,IF(F16=Tabla13253538[Cant. Alumnos],"",F16+1))),"") -> 15 | G17: {=IF(Tabla21263639[[#This Row],[Contador]]="","",IF(Tabla13253538[Nivel]=BD!$L$1,IFERROR(SMALL(IF(Tabla19[Sala]=$C$2,Tabla19[ID2]),ROW()-2),""),IF(Tabla13253538[Nivel]=BD!$L$2,IFERROR(SMALL(IF(Tabla199[Sala]=$C$2,Tabla199[ID2]),ROW()-2),""),IFERROR(SMALL(IF(Tabla19912[Sala]=$C$2,Tabla19912[ID2]),ROW()-2),""))))} | H17: =IF(Tabla21263639[[#This Row],[ID]]="","",IF(Tabla13253538[Nivel]=BD!$L$1,VLOOKUP(Tabla21263639[[#This Row],[ID]],Tabla19[],4,0),IF(Tabla13253538[Nivel]=BD!$L$2,VLOOKUP(Tabla21263639[[#This Row],[ID]],Tabla199[],4,0),VLOOKUP(Tabla21263639[[#This Row],[ID]],Tabla19912[],4,0))))
B18: =IF(Tabla13253538[Cant. Salas]="","",IF(B17="","",IF(ISNUMBER(B17)=FALSE,1,IF(B17=Tabla13253538[Cant. Salas],"",B17+1)))) | C18: =IF(IF(Tabla12283740[[#This Row],[Orden]]="","",IF(Tabla13253538[Nivel]=BD!$L$1,'Filtrar Salas Grado Año'!A14,IF(Tabla13253538[Nivel]=BD!$L$2,'Filtrar Salas Grado Año'!C14,'Filtrar Salas Grado Año'!E14)))="(en blanco)","",IF(Tabla12283740[[#This Row],[Orden]]="","",IF(Tabla13253538[Nivel]=BD!$L$1,'Filtrar Salas Grado Año'!A14,IF(Tabla13253538[Nivel]=BD!$L$2,'Filtrar Salas Grado Año'!C14,'Filtrar Salas Grado Año'!E14)))) | F18: =IF(Tabla13253538[Cant. Alumnos]>1,IF(F17="","",IF(ISNUMBER(F17)=FALSE,1,IF(F17=Tabla13253538[Cant. Alumnos],"",F17+1))),"") -> 16 | G18: {=IF(Tabla21263639[[#This Row],[Contador]]="","",IF(Tabla13253538[Nivel]=BD!$L$1,IFERROR(SMALL(IF(Tabla19[Sala]=$C$2,Tabla19[ID2]),ROW()-2),""),IF(Tabla13253538[Nivel]=BD!$L$2,IFERROR(SMALL(IF(Tabla199[Sala]=$C$2,Tabla199[ID2]),ROW()-2),""),IFERROR(SMALL(IF(Tabla19912[Sala]=$C$2,Tabla19912[ID2]),ROW()-2),""))))} | H18: =IF(Tabla21263639[[#This Row],[ID]]="","",IF(Tabla13253538[Nivel]=BD!$L$1,VLOOKUP(Tabla21263639[[#This Row],[ID]],Tabla19[],4,0),IF(Tabla13253538[Nivel]=BD!$L$2,VLOOKUP(Tabla21263639[[#This Row],[ID]],Tabla199[],4,0),VLOOKUP(Tabla21263639[[#This Row],[ID]],Tabla19912[],4,0))))
... B29: =IF(Tabla13253538[Cant. Salas]="","",IF(B28="","",IF(ISNUMBER(B28)=FALSE,1,IF(B28=Tabla13253538[Cant. Salas],"",B28+1)))) | C29: =IF(IF(Tabla12283740[[#This Row],[Orden]]="","",IF(Tabla13253538[Nivel]=BD!$L$1,'Filtrar Salas Grado Año'!A25,IF(Tabla13253538[Nivel]=BD!$L$2,'Filtrar Salas Grado Año'!C25,'Filtrar Salas Grado Año'!E25)))="(en blanco)","",IF(Tabla12283740[[#This Row],[Orden]]="","",IF(Tabla13253538[Nivel]=BD!$L$1,'Filtrar Salas Grado Año'!A25,IF(Tabla13253538[Nivel]=BD!$L$2,'Filtrar Salas Grado Año'!C25,'Filtrar Salas Grado Año'!E25)))) | F29: =IF(Tabla13253538[Cant. Alumnos]>1,IF(F28="","",IF(ISNUMBER(F28)=FALSE,1,IF(F28=Tabla13253538[Cant. Alumnos],"",F28+1))),"") -> 27 | G29: {=IF(Tabla21263639[[#This Row],[Contador]]="","",IF(Tabla13253538[Nivel]=BD!$L$1,IFERROR(SMALL(IF(Tabla19[Sala]=$C$2,Tabla19[ID2]),ROW()-2),""),IF(Tabla13253538[Nivel]=BD!$L$2,IFERROR(SMALL(IF(Tabla199[Sala]=$C$2,Tabla199[ID2]),ROW()-2),""),IFERROR(SMALL(IF(Tabla19912[Sala]=$C$2,Tabla19912[ID2]),ROW()-2),""))))} | H29: =IF(Tabla21263639[[#This Row],[ID]]="","",IF(Tabla13253538[Nivel]=BD!$L$1,VLOOKUP(Tabla21263639[[#This Row],[ID]],Tabla19[],4,0),IF(Tabla13253538[Nivel]=BD!$L$2,VLOOKUP(Tabla21263639[[#This Row],[ID]],Tabla199[],4,0),VLOOKUP(Tabla21263639[[#This Row],[ID]],Tabla19912[],4,0))))
F30: =IF(Tabla13253538[Cant. Alumnos]>1,IF(F29="","",IF(ISNUMBER(F29)=FALSE,1,IF(F29=Tabla13253538[Cant. Alumnos],"",F29+1))),"") -> 28 | G30: {=IF(Tabla21263639[[#This Row],[Contador]]="","",IF(Tabla13253538[Nivel]=BD!$L$1,IFERROR(SMALL(IF(Tabla19[Sala]=$C$2,Tabla19[ID2]),ROW()-2),""),IF(Tabla13253538[Nivel]=BD!$L$2,IFERROR(SMALL(IF(Tabla199[Sala]=$C$2,Tabla199[ID2]),ROW()-2),""),IFERROR(SMALL(IF(Tabla19912[Sala]=$C$2,Tabla19912[ID2]),ROW()-2),""))))} | H30: =IF(Tabla21263639[[#This Row],[ID]]="","",IF(Tabla13253538[Nivel]=BD!$L$1,VLOOKUP(Tabla21263639[[#This Row],[ID]],Tabla19[],4,0),IF(Tabla13253538[Nivel]=BD!$L$2,VLOOKUP(Tabla21263639[[#This Row],[ID]],Tabla199[],4,0),VLOOKUP(Tabla21263639[[#This Row],[ID]],Tabla19912[],4,0))))
F31: =IF(Tabla13253538[Cant. Alumnos]>1,IF(F30="","",IF(ISNUMBER(F30)=FALSE,1,IF(F30=Tabla13253538[Cant. Alumnos],"",F30+1))),"") -> 29 | G31: {=IF(Tabla21263639[[#This Row],[Contador]]="","",IF(Tabla13253538[Nivel]=BD!$L$1,IFERROR(SMALL(IF(Tabla19[Sala]=$C$2,Tabla19[ID2]),ROW()-2),""),IF(Tabla13253538[Nivel]=BD!$L$2,IFERROR(SMALL(IF(Tabla199[Sala]=$C$2,Tabla199[ID2]),ROW()-2),""),IFERROR(SMALL(IF(Tabla19912[Sala]=$C$2,Tabla19912[ID2]),ROW()-2),""))))} | H31: =IF(Tabla21263639[[#This Row],[ID]]="","",IF(Tabla13253538[Nivel]=BD!$L$1,VLOOKUP(Tabla21263639[[#This Row],[ID]],Tabla19[],4,0),IF(Tabla13253538[Nivel]=BD!$L$2,VLOOKUP(Tabla21263639[[#This Row],[ID]],Tabla199[],4,0),VLOOKUP(Tabla21263639[[#This Row],[ID]],Tabla19912[],4,0))))
F32: =IF(Tabla13253538[Cant. Alumnos]>1,IF(F31="","",IF(ISNUMBER(F31)=FALSE,1,IF(F31=Tabla13253538[Cant. Alumnos],"",F31+1))),"") -> 30 | G32: {=IF(Tabla21263639[[#This Row],[Contador]]="","",IF(Tabla13253538[Nivel]=BD!$L$1,IFERROR(SMALL(IF(Tabla19[Sala]=$C$2,Tabla19[ID2]),ROW()-2),""),IF(Tabla13253538[Nivel]=BD!$L$2,IFERROR(SMALL(IF(Tabla199[Sala]=$C$2,Tabla199[ID2]),ROW()-2),""),IFERROR(SMALL(IF(Tabla19912[Sala]=$C$2,Tabla19912[ID2]),ROW()-2),""))))} | H32: =IF(Tabla21263639[[#This Row],[ID]]="","",IF(Tabla13253538[Nivel]=BD!$L$1,VLOOKUP(Tabla21263639[[#This Row],[ID]],Tabla19[],4,0),IF(Tabla13253538[Nivel]=BD!$L$2,VLOOKUP(Tabla21263639[[#This Row],[ID]],Tabla199[],4,0),VLOOKUP(Tabla21263639[[#This Row],[ID]],Tabla19912[],4,0))))
F33: =IF(Tabla13253538[Cant. Alumnos]>1,IF(F32="","",IF(ISNUMBER(F32)=FALSE,1,IF(F32=Tabla13253538[Cant. Alumnos],"",F32+1))),"") -> 31 | G33: {=IF(Tabla21263639[[#This Row],[Contador]]="","",IF(Tabla13253538[Nivel]=BD!$L$1,IFERROR(SMALL(IF(Tabla19[Sala]=$C$2,Tabla19[ID2]),ROW()-2),""),IF(Tabla13253538[Nivel]=BD!$L$2,IFERROR(SMALL(IF(Tabla199[Sala]=$C$2,Tabla199[ID2]),ROW()-2),""),IFERROR(SMALL(IF(Tabla19912[Sala]=$C$2,Tabla19912[ID2]),ROW()-2),""))))} | H33: =IF(Tabla21263639[[#This Row],[ID]]="","",IF(Tabla13253538[Nivel]=BD!$L$1,VLOOKUP(Tabla21263639[[#This Row],[ID]],Tabla19[],4,0),IF(Tabla13253538[Nivel]=BD!$L$2,VLOOKUP(Tabla21263639[[#This Row],[ID]],Tabla199[],4,0),VLOOKUP(Tabla21263639[[#This Row],[ID]],Tabla19912[],4,0))))
F34: =IF(Tabla13253538[Cant. Alumnos]>1,IF(F33="","",IF(ISNUMBER(F33)=FALSE,1,IF(F33=Tabla13253538[Cant. Alumnos],"",F33+1))),"") -> 32 | G34: {=IF(Tabla21263639[[#This Row],[Contador]]="","",IF(Tabla13253538[Nivel]=BD!$L$1,IFERROR(SMALL(IF(Tabla19[Sala]=$C$2,Tabla19[ID2]),ROW()-2),""),IF(Tabla13253538[Nivel]=BD!$L$2,IFERROR(SMALL(IF(Tabla199[Sala]=$C$2,Tabla199[ID2]),ROW()-2),""),IFERROR(SMALL(IF(Tabla19912[Sala]=$C$2,Tabla19912[ID2]),ROW()-2),""))))} | H34: =IF(Tabla21263639[[#This Row],[ID]]="","",IF(Tabla13253538[Nivel]=BD!$L$1,VLOOKUP(Tabla21263639[[#This Row],[ID]],Tabla19[],4,0),IF(Tabla13253538[Nivel]=BD!$L$2,VLOOKUP(Tabla21263639[[#This Row],[ID]],Tabla199[],4,0),VLOOKUP(Tabla21263639[[#This Row],[ID]],Tabla19912[],4,0))))
F35: =IF(Tabla13253538[Cant. Alumnos]>1,IF(F34="","",IF(ISNUMBER(F34)=FALSE,1,IF(F34=Tabla13253538[Cant. Alumnos],"",F34+1))),"") -> 33 | G35: {=IF(Tabla21263639[[#This Row],[Contador]]="","",IF(Tabla13253538[Nivel]=BD!$L$1,IFERROR(SMALL(IF(Tabla19[Sala]=$C$2,Tabla19[ID2]),ROW()-2),""),IF(Tabla13253538[Nivel]=BD!$L$2,IFERROR(SMALL(IF(Tabla199[Sala]=$C$2,Tabla199[ID2]),ROW()-2),""),IFERROR(SMALL(IF(Tabla19912[Sala]=$C$2,Tabla19912[ID2]),ROW()-2),""))))} | H35: =IF(Tabla21263639[[#This Row],[ID]]="","",IF(Tabla13253538[Nivel]=BD!$L$1,VLOOKUP(Tabla21263639[[#This Row],[ID]],Tabla19[],4,0),IF(Tabla13253538[Nivel]=BD!$L$2,VLOOKUP(Tabla21263639[[#This Row],[ID]],Tabla199[],4,0),VLOOKUP(Tabla21263639[[#This Row],[ID]],Tabla19912[],4,0))))
F36: =IF(Tabla13253538[Cant. Alumnos]>1,IF(F35="","",IF(ISNUMBER(F35)=FALSE,1,IF(F35=Tabla13253538[Cant. Alumnos],"",F35+1))),"") -> 34 | G36: {=IF(Tabla21263639[[#This Row],[Contador]]="","",IF(Tabla13253538[Nivel]=BD!$L$1,IFERROR(SMALL(IF(Tabla19[Sala]=$C$2,Tabla19[ID2]),ROW()-2),""),IF(Tabla13253538[Nivel]=BD!$L$2,IFERROR(SMALL(IF(Tabla199[Sala]=$C$2,Tabla199[ID2]),ROW()-2),""),IFERROR(SMALL(IF(Tabla19912[Sala]=$C$2,Tabla19912[ID2]),ROW()-2),""))))} | H36: =IF(Tabla21263639[[#This Row],[ID]]="","",IF(Tabla13253538[Nivel]=BD!$L$1,VLOOKUP(Tabla21263639[[#This Row],[ID]],Tabla19[],4,0),IF(Tabla13253538[Nivel]=BD!$L$2,VLOOKUP(Tabla21263639[[#This Row],[ID]],Tabla199[],4,0),VLOOKUP(Tabla21263639[[#This Row],[ID]],Tabla19912[],4,0))))
F37: =IF(Tabla13253538[Cant. Alumnos]>1,IF(F36="","",IF(ISNUMBER(F36)=FALSE,1,IF(F36=Tabla13253538[Cant. Alumnos],"",F36+1))),"") -> 35 | G37: {=IF(Tabla21263639[[#This Row],[Contador]]="","",IF(Tabla13253538[Nivel]=BD!$L$1,IFERROR(SMALL(IF(Tabla19[Sala]=$C$2,Tabla19[ID2]),ROW()-2),""),IF(Tabla13253538[Nivel]=BD!$L$2,IFERROR(SMALL(IF(Tabla199[Sala]=$C$2,Tabla199[ID2]),ROW()-2),""),IFERROR(SMALL(IF(Tabla19912[Sala]=$C$2,Tabla19912[ID2]),ROW()-2),""))))} | H37: =IF(Tabla21263639[[#This Row],[ID]]="","",IF(Tabla13253538[Nivel]=BD!$L$1,VLOOKUP(Tabla21263639[[#This Row],[ID]],Tabla19[],4,0),IF(Tabla13253538[Nivel]=BD!$L$2,VLOOKUP(Tabla21263639[[#This Row],[ID]],Tabla199[],4,0),VLOOKUP(Tabla21263639[[#This Row],[ID]],Tabla19912[],4,0))))
F38: =IF(Tabla13253538[Cant. Alumnos]>1,IF(F37="","",IF(ISNUMBER(F37)=FALSE,1,IF(F37=Tabla13253538[Cant. Alumnos],"",F37+1))),"") -> 36 | G38: {=IF(Tabla21263639[[#This Row],[Contador]]="","",IF(Tabla13253538[Nivel]=BD!$L$1,IFERROR(SMALL(IF(Tabla19[Sala]=$C$2,Tabla19[ID2]),ROW()-2),""),IF(Tabla13253538[Nivel]=BD!$L$2,IFERROR(SMALL(IF(Tabla199[Sala]=$C$2,Tabla199[ID2]),ROW()-2),""),IFERROR(SMALL(IF(Tabla19912[Sala]=$C$2,Tabla19912[ID2]),ROW()-2),""))))} | H38: =IF(Tabla21263639[[#This Row],[ID]]="","",IF(Tabla13253538[Nivel]=BD!$L$1,VLOOKUP(Tabla21263639[[#This Row],[ID]],Tabla19[],4,0),IF(Tabla13253538[Nivel]=BD!$L$2,VLOOKUP(Tabla21263639[[#This Row],[ID]],Tabla199[],4,0),VLOOKUP(Tabla21263639[[#This Row],[ID]],Tabla19912[],4,0))))
F39: =IF(Tabla13253538[Cant. Alumnos]>1,IF(F38="","",IF(ISNUMBER(F38)=FALSE,1,IF(F38=Tabla13253538[Cant. Alumnos],"",F38+1))),"") -> 37 | G39: {=IF(Tabla21263639[[#This Row],[Contador]]="","",IF(Tabla13253538[Nivel]=BD!$L$1,IFERROR(SMALL(IF(Tabla19[Sala]=$C$2,Tabla19[ID2]),ROW()-2),""),IF(Tabla13253538[Nivel]=BD!$L$2,IFERROR(SMALL(IF(Tabla199[Sala]=$C$2,Tabla199[ID2]),ROW()-2),""),IFERROR(SMALL(IF(Tabla19912[Sala]=$C$2,Tabla19912[ID2]),ROW()-2),""))))} | H39: =IF(Tabla21263639[[#This Row],[ID]]="","",IF(Tabla13253538[Nivel]=BD!$L$1,VLOOKUP(Tabla21263639[[#This Row],[ID]],Tabla19[],4,0),IF(Tabla13253538[Nivel]=BD!$L$2,VLOOKUP(Tabla21263639[[#This Row],[ID]],Tabla199[],4,0),VLOOKUP(Tabla21263639[[#This Row],[ID]],Tabla19912[],4,0))))
F40: =IF(Tabla13253538[Cant. Alumnos]>1,IF(F39="","",IF(ISNUMBER(F39)=FALSE,1,IF(F39=Tabla13253538[Cant. Alumnos],"",F39+1))),"") -> 38 | G40: {=IF(Tabla21263639[[#This Row],[Contador]]="","",IF(Tabla13253538[Nivel]=BD!$L$1,IFERROR(SMALL(IF(Tabla19[Sala]=$C$2,Tabla19[ID2]),ROW()-2),""),IF(Tabla13253538[Nivel]=BD!$L$2,IFERROR(SMALL(IF(Tabla199[Sala]=$C$2,Tabla199[ID2]),ROW()-2),""),IFERROR(SMALL(IF(Tabla19912[Sala]=$C$2,Tabla19912[ID2]),ROW()-2),""))))} | H40: =IF(Tabla21263639[[#This Row],[ID]]="","",IF(Tabla13253538[Nivel]=BD!$L$1,VLOOKUP(Tabla21263639[[#This Row],[ID]],Tabla19[],4,0),IF(Tabla13253538[Nivel]=BD!$L$2,VLOOKUP(Tabla21263639[[#This Row],[ID]],Tabla199[],4,0),VLOOKUP(Tabla21263639[[#This Row],[ID]],Tabla19912[],4,0))))
F41: =IF(Tabla13253538[Cant. Alumnos]>1,IF(F40="","",IF(ISNUMBER(F40)=FALSE,1,IF(F40=Tabla13253538[Cant. Alumnos],"",F40+1))),"") -> 39 | G41: {=IF(Tabla21263639[[#This Row],[Contador]]="","",IF(Tabla13253538[Nivel]=BD!$L$1,IFERROR(SMALL(IF(Tabla19[Sala]=$C$2,Tabla19[ID2]),ROW()-2),""),IF(Tabla13253538[Nivel]=BD!$L$2,IFERROR(SMALL(IF(Tabla199[Sala]=$C$2,Tabla199[ID2]),ROW()-2),""),IFERROR(SMALL(IF(Tabla19912[Sala]=$C$2,Tabla19912[ID2]),ROW()-2),""))))} | H41: =IF(Tabla21263639[[#This Row],[ID]]="","",IF(Tabla13253538[Nivel]=BD!$L$1,VLOOKUP(Tabla21263639[[#This Row],[ID]],Tabla19[],4,0),IF(Tabla13253538[Nivel]=BD!$L$2,VLOOKUP(Tabla21263639[[#This Row],[ID]],Tabla199[],4,0),VLOOKUP(Tabla21263639[[#This Row],[ID]],Tabla19912[],4,0))))
... F61: =IF(Tabla13253538[Cant. Alumnos]>1,IF(F60="","",IF(ISNUMBER(F60)=FALSE,1,IF(F60=Tabla13253538[Cant. Alumnos],"",F60+1))),"") -> 59 | G61: {=IF(Tabla21263639[[#This Row],[Contador]]="","",IF(Tabla13253538[Nivel]=BD!$L$1,IFERROR(SMALL(IF(Tabla19[Sala]=$C$2,Tabla19[ID2]),ROW()-2),""),IF(Tabla13253538[Nivel]=BD!$L$2,IFERROR(SMALL(IF(Tabla199[Sala]=$C$2,Tabla199[ID2]),ROW()-2),""),IFERROR(SMALL(IF(Tabla19912[Sala]=$C$2,Tabla19912[ID2]),ROW()-2),""))))} | H61: =IF(Tabla21263639[[#This Row],[ID]]="","",IF(Tabla13253538[Nivel]=BD!$L$1,VLOOKUP(Tabla21263639[[#This Row],[ID]],Tabla19[],4,0),IF(Tabla13253538[Nivel]=BD!$L$2,VLOOKUP(Tabla21263639[[#This Row],[ID]],Tabla199[],4,0),VLOOKUP(Tabla21263639[[#This Row],[ID]],Tabla19912[],4,0))))

Sheet Carga 6to alumno
A1: Cant. Salas | B1: Nivel | C1: Sala | D1: Cant. Alumnos
A2: =IF(Tabla1325353841[[#This Row],[Nivel]]=BD!$L$1,'Filtrar Salas Grado Año'!$B$2,IF(Tabla1325353841[[#This Row],[Nivel]]=BD!$L$2,'Filtrar Salas Grado Año'!$D$2,IF(Tabla1325353841[[#This Row],[Nivel]]=BD!$L$3,'Filtrar Salas Grado Año'!$F$2,""))) | B2: ='Mi Pedido lista'!B8 -> 0 | C2: ='Mi Pedido lista'!C8 -> 0 | D2: =IF(Tabla1325353841[[#This Row],[Nivel]]=BD!$L$1,COUNTIFS(Tabla19[Alumno],"<>",Tabla19[Sala],Tabla1325353841[[#This Row],[Sala]]),IF(Tabla1325353841[[#This Row],[Nivel]]=BD!$L$2,COUNTIFS(Tabla199[Alumno],"<>",Tabla199[Sala],Tabla1325353841[[#This Row],[Sala]]),IF(Tabla1325353841[[#This Row],[Nivel]]=BD!$L$3,COUNTIFS(Tabla19912[Columna1],"<>",Tabla19912[Sala],Tabla1325353841[[#This Row],[Sala]]),""))) | F2: Contador | G2: ID | H2: Alumno
F3: =IF(Tabla1325353841[Cant. Alumnos]>1,IF(F2="","",IF(ISNUMBER(F2)=FALSE,1,IF(F2=Tabla1325353841[Cant. Alumnos],"",F2+1))),"") -> 1 | G3: {=IF(Tabla2126363942[[#This Row],[Contador]]="","",IF(Tabla1325353841[Nivel]=BD!$L$1,IFERROR(SMALL(IF(Tabla19[Sala]=$C$2,Tabla19[ID2]),ROW()-2),""),IF(Tabla1325353841[Nivel]=BD!$L$2,IFERROR(SMALL(IF(Tabla199[Sala]=$C$2,Tabla199[ID2]),ROW()-2),""),IFERROR(SMALL(IF(Tabla19912[Sala]=$C$2,Tabla19912[ID2]),ROW()-2),""))))} | H3: =IF(Tabla2126363942[[#This Row],[ID]]="","",IF(Tabla1325353841[Nivel]=BD!$L$1,VLOOKUP(Tabla2126363942[[#This Row],[ID]],Tabla19[],4,0),IF(Tabla1325353841[Nivel]=BD!$L$2,VLOOKUP(Tabla2126363942[[#This Row],[ID]],Tabla199[],4,0),VLOOKUP(Tabla2126363942[[#This Row],[ID]],Tabla19912[],4,0))))
F4: =IF(Tabla1325353841[Cant. Alumnos]>1,IF(F3="","",IF(ISNUMBER(F3)=FALSE,1,IF(F3=Tabla1325353841[Cant. Alumnos],"",F3+1))),"") -> 2 | G4: {=IF(Tabla2126363942[[#This Row],[Contador]]="","",IF(Tabla1325353841[Nivel]=BD!$L$1,IFERROR(SMALL(IF(Tabla19[Sala]=$C$2,Tabla19[ID2]),ROW()-2),""),IF(Tabla1325353841[Nivel]=BD!$L$2,IFERROR(SMALL(IF(Tabla199[Sala]=$C$2,Tabla199[ID2]),ROW()-2),""),IFERROR(SMALL(IF(Tabla19912[Sala]=$C$2,Tabla19912[ID2]),ROW()-2),""))))} | H4: =IF(Tabla2126363942[[#This Row],[ID]]="","",IF(Tabla1325353841[Nivel]=BD!$L$1,VLOOKUP(Tabla2126363942[[#This Row],[ID]],Tabla19[],4,0),IF(Tabla1325353841[Nivel]=BD!$L$2,VLOOKUP(Tabla2126363942[[#This Row],[ID]],Tabla199[],4,0),VLOOKUP(Tabla2126363942[[#This Row],[ID]],Tabla19912[],4,0))))
F5: =IF(Tabla1325353841[Cant. Alumnos]>1,IF(F4="","",IF(ISNUMBER(F4)=FALSE,1,IF(F4=Tabla1325353841[Cant. Alumnos],"",F4+1))),"") -> 3 | G5: {=IF(Tabla2126363942[[#This Row],[Contador]]="","",IF(Tabla1325353841[Nivel]=BD!$L$1,IFERROR(SMALL(IF(Tabla19[Sala]=$C$2,Tabla19[ID2]),ROW()-2),""),IF(Tabla1325353841[Nivel]=BD!$L$2,IFERROR(SMALL(IF(Tabla199[Sala]=$C$2,Tabla199[ID2]),ROW()-2),""),IFERROR(SMALL(IF(Tabla19912[Sala]=$C$2,Tabla19912[ID2]),ROW()-2),""))))} | H5: =IF(Tabla2126363942[[#This Row],[ID]]="","",IF(Tabla1325353841[Nivel]=BD!$L$1,VLOOKUP(Tabla2126363942[[#This Row],[ID]],Tabla19[],4,0),IF(Tabla1325353841[Nivel]=BD!$L$2,VLOOKUP(Tabla2126363942[[#This Row],[ID]],Tabla199[],4,0),VLOOKUP(Tabla2126363942[[#This Row],[ID]],Tabla19912[],4,0))))
B6: Orden | C6: Sala | F6: =IF(Tabla1325353841[Cant. Alumnos]>1,IF(F5="","",IF(ISNUMBER(F5)=FALSE,1,IF(F5=Tabla1325353841[Cant. Alumnos],"",F5+1))),"") -> 4 | G6: {=IF(Tabla2126363942[[#This Row],[Contador]]="","",IF(Tabla1325353841[Nivel]=BD!$L$1,IFERROR(SMALL(IF(Tabla19[Sala]=$C$2,Tabla19[ID2]),ROW()-2),""),IF(Tabla1325353841[Nivel]=BD!$L$2,IFERROR(SMALL(IF(Tabla199[Sala]=$C$2,Tabla199[ID2]),ROW()-2),""),IFERROR(SMALL(IF(Tabla19912[Sala]=$C$2,Tabla19912[ID2]),ROW()-2),""))))} | H6: =IF(Tabla2126363942[[#This Row],[ID]]="","",IF(Tabla1325353841[Nivel]=BD!$L$1,VLOOKUP(Tabla2126363942[[#This Row],[ID]],Tabla19[],4,0),IF(Tabla1325353841[Nivel]=BD!$L$2,VLOOKUP(Tabla2126363942[[#This Row],[ID]],Tabla199[],4,0),VLOOKUP(Tabla2126363942[[#This Row],[ID]],Tabla19912[],4,0))))
B7: =IF(Tabla1325353841[Cant. Salas]="","",IF(B6="","",IF(ISNUMBER(B6)=FALSE,1,IF(B6=Tabla1325353841[Cant. Salas],"",B6+1)))) | C7: =IF(IF(Tabla1228374043[[#This Row],[Orden]]="","",IF(Tabla1325353841[Nivel]=BD!$L$1,'Filtrar Salas Grado Año'!A3,IF(Tabla1325353841[Nivel]=BD!$L$2,'Filtrar Salas Grado Año'!C3,'Filtrar Salas Grado Año'!E3)))="(en blanco)","",IF(Tabla1228374043[[#This Row],[Orden]]="","",IF(Tabla1325353841[Nivel]=BD!$L$1,'Filtrar Salas Grado Año'!A3,IF(Tabla1325353841[Nivel]=BD!$L$2,'Filtrar Salas Grado Año'!C3,'Filtrar Salas Grado Año'!E3)))) | F7: =IF(Tabla1325353841[Cant. Alumnos]>1,IF(F6="","",IF(ISNUMBER(F6)=FALSE,1,IF(F6=Tabla1325353841[Cant. Alumnos],"",F6+1))),"") -> 5 | G7: {=IF(Tabla2126363942[[#This Row],[Contador]]="","",IF(Tabla1325353841[Nivel]=BD!$L$1,IFERROR(SMALL(IF(Tabla19[Sala]=$C$2,Tabla19[ID2]),ROW()-2),""),IF(Tabla1325353841[Nivel]=BD!$L$2,IFERROR(SMALL(IF(Tabla199[Sala]=$C$2,Tabla199[ID2]),ROW()-2),""),IFERROR(SMALL(IF(Tabla19912[Sala]=$C$2,Tabla19912[ID2]),ROW()-2),""))))} | H7: =IF(Tabla2126363942[[#This Row],[ID]]="","",IF(Tabla1325353841[Nivel]=BD!$L$1,VLOOKUP(Tabla2126363942[[#This Row],[ID]],Tabla19[],4,0),IF(Tabla1325353841[Nivel]=BD!$L$2,VLOOKUP(Tabla2126363942[[#This Row],[ID]],Tabla199[],4,0),VLOOKUP(Tabla2126363942[[#This Row],[ID]],Tabla19912[],4,0))))
B8: =IF(Tabla1325353841[Cant. Salas]="","",IF(B7="","",IF(ISNUMBER(B7)=FALSE,1,IF(B7=Tabla1325353841[Cant. Salas],"",B7+1)))) | C8: =IF(IF(Tabla1228374043[[#This Row],[Orden]]="","",IF(Tabla1325353841[Nivel]=BD!$L$1,'Filtrar Salas Grado Año'!A4,IF(Tabla1325353841[Nivel]=BD!$L$2,'Filtrar Salas Grado Año'!C4,'Filtrar Salas Grado Año'!E4)))="(en blanco)","",IF(Tabla1228374043[[#This Row],[Orden]]="","",IF(Tabla1325353841[Nivel]=BD!$L$1,'Filtrar Salas Grado Año'!A4,IF(Tabla1325353841[Nivel]=BD!$L$2,'Filtrar Salas Grado Año'!C4,'Filtrar Salas Grado Año'!E4)))) | F8: =IF(Tabla1325353841[Cant. Alumnos]>1,IF(F7="","",IF(ISNUMBER(F7)=FALSE,1,IF(F7=Tabla1325353841[Cant. Alumnos],"",F7+1))),"") -> 6 | G8: {=IF(Tabla2126363942[[#This Row],[Contador]]="","",IF(Tabla1325353841[Nivel]=BD!$L$1,IFERROR(SMALL(IF(Tabla19[Sala]=$C$2,Tabla19[ID2]),ROW()-2),""),IF(Tabla1325353841[Nivel]=BD!$L$2,IFERROR(SMALL(IF(Tabla199[Sala]=$C$2,Tabla199[ID2]),ROW()-2),""),IFERROR(SMALL(IF(Tabla19912[Sala]=$C$2,Tabla19912[ID2]),ROW()-2),""))))} | H8: =IF(Tabla2126363942[[#This Row],[ID]]="","",IF(Tabla1325353841[Nivel]=BD!$L$1,VLOOKUP(Tabla2126363942[[#This Row],[ID]],Tabla19[],4,0),IF(Tabla1325353841[Nivel]=BD!$L$2,VLOOKUP(Tabla2126363942[[#This Row],[ID]],Tabla199[],4,0),VLOOKUP(Tabla2126363942[[#This Row],[ID]],Tabla19912[],4,0))))
B9: =IF(Tabla1325353841[Cant. Salas]="","",IF(B8="","",IF(ISNUMBER(B8)=FALSE,1,IF(B8=Tabla1325353841[Cant. Salas],"",B8+1)))) | C9: =IF(IF(Tabla1228374043[[#This Row],[Orden]]="","",IF(Tabla1325353841[Nivel]=BD!$L$1,'Filtrar Salas Grado Año'!A5,IF(Tabla1325353841[Nivel]=BD!$L$2,'Filtrar Salas Grado Año'!C5,'Filtrar Salas Grado Año'!E5)))="(en blanco)","",IF(Tabla1228374043[[#This Row],[Orden]]="","",IF(Tabla1325353841[Nivel]=BD!$L$1,'Filtrar Salas Grado Año'!A5,IF(Tabla1325353841[Nivel]=BD!$L$2,'Filtrar Salas Grado Año'!C5,'Filtrar Salas Grado Año'!E5)))) | F9: =IF(Tabla1325353841[Cant. Alumnos]>1,IF(F8="","",IF(ISNUMBER(F8)=FALSE,1,IF(F8=Tabla1325353841[Cant. Alumnos],"",F8+1))),"") -> 7 | G9: {=IF(Tabla2126363942[[#This Row],[Contador]]="","",IF(Tabla1325353841[Nivel]=BD!$L$1,IFERROR(SMALL(IF(Tabla19[Sala]=$C$2,Tabla19[ID2]),ROW()-2),""),IF(Tabla1325353841[Nivel]=BD!$L$2,IFERROR(SMALL(IF(Tabla199[Sala]=$C$2,Tabla199[ID2]),ROW()-2),""),IFERROR(SMALL(IF(Tabla19912[Sala]=$C$2,Tabla19912[ID2]),ROW()-2),""))))} | H9: =IF(Tabla2126363942[[#This Row],[ID]]="","",IF(Tabla1325353841[Nivel]=BD!$L$1,VLOOKUP(Tabla2126363942[[#This Row],[ID]],Tabla19[],4,0),IF(Tabla1325353841[Nivel]=BD!$L$2,VLOOKUP(Tabla2126363942[[#This Row],[ID]],Tabla199[],4,0),VLOOKUP(Tabla2126363942[[#This Row],[ID]],Tabla19912[],4,0))))
B10: =IF(Tabla1325353841[Cant. Salas]="","",IF(B9="","",IF(ISNUMBER(B9)=FALSE,1,IF(B9=Tabla1325353841[Cant. Salas],"",B9+1)))) | C10: =IF(IF(Tabla1228374043[[#This Row],[Orden]]="","",IF(Tabla1325353841[Nivel]=BD!$L$1,'Filtrar Salas Grado Año'!A6,IF(Tabla1325353841[Nivel]=BD!$L$2,'Filtrar Salas Grado Año'!C6,'Filtrar Salas Grado Año'!E6)))="(en blanco)","",IF(Tabla1228374043[[#This Row],[Orden]]="","",IF(Tabla1325353841[Nivel]=BD!$L$1,'Filtrar Salas Grado Año'!A6,IF(Tabla1325353841[Nivel]=BD!$L$2,'Filtrar Salas Grado Año'!C6,'Filtrar Salas Grado Año'!E6)))) | F10: =IF(Tabla1325353841[Cant. Alumnos]>1,IF(F9="","",IF(ISNUMBER(F9)=FALSE,1,IF(F9=Tabla1325353841[Cant. Alumnos],"",F9+1))),"") -> 8 | G10: {=IF(Tabla2126363942[[#This Row],[Contador]]="","",IF(Tabla1325353841[Nivel]=BD!$L$1,IFERROR(SMALL(IF(Tabla19[Sala]=$C$2,Tabla19[ID2]),ROW()-2),""),IF(Tabla1325353841[Nivel]=BD!$L$2,IFERROR(SMALL(IF(Tabla199[Sala]=$C$2,Tabla199[ID2]),ROW()-2),""),IFERROR(SMALL(IF(Tabla19912[Sala]=$C$2,Tabla19912[ID2]),ROW()-2),""))))} | H10: =IF(Tabla2126363942[[#This Row],[ID]]="","",IF(Tabla1325353841[Nivel]=BD!$L$1,VLOOKUP(Tabla2126363942[[#This Row],[ID]],Tabla19[],4,0),IF(Tabla1325353841[Nivel]=BD!$L$2,VLOOKUP(Tabla2126363942[[#This Row],[ID]],Tabla199[],4,0),VLOOKUP(Tabla2126363942[[#This Row],[ID]],Tabla19912[],4,0))))
B11: =IF(Tabla1325353841[Cant. Salas]="","",IF(B10="","",IF(ISNUMBER(B10)=FALSE,1,IF(B10=Tabla1325353841[Cant. Salas],"",B10+1)))) | C11: =IF(IF(Tabla1228374043[[#This Row],[Orden]]="","",IF(Tabla1325353841[Nivel]=BD!$L$1,'Filtrar Salas Grado Año'!A7,IF(Tabla1325353841[Nivel]=BD!$L$2,'Filtrar Salas Grado Año'!C7,'Filtrar Salas Grado Año'!E7)))="(en blanco)","",IF(Tabla1228374043[[#This Row],[Orden]]="","",IF(Tabla1325353841[Nivel]=BD!$L$1,'Filtrar Salas Grado Año'!A7,IF(Tabla1325353841[Nivel]=BD!$L$2,'Filtrar Salas Grado Año'!C7,'Filtrar Salas Grado Año'!E7)))) | F11: =IF(Tabla1325353841[Cant. Alumnos]>1,IF(F10="","",IF(ISNUMBER(F10)=FALSE,1,IF(F10=Tabla1325353841[Cant. Alumnos],"",F10+1))),"") -> 9 | G11: {=IF(Tabla2126363942[[#This Row],[Contador]]="","",IF(Tabla1325353841[Nivel]=BD!$L$1,IFERROR(SMALL(IF(Tabla19[Sala]=$C$2,Tabla19[ID2]),ROW()-2),""),IF(Tabla1325353841[Nivel]=BD!$L$2,IFERROR(SMALL(IF(Tabla199[Sala]=$C$2,Tabla199[ID2]),ROW()-2),""),IFERROR(SMALL(IF(Tabla19912[Sala]=$C$2,Tabla19912[ID2]),ROW()-2),""))))} | H11: =IF(Tabla2126363942[[#This Row],[ID]]="","",IF(Tabla1325353841[Nivel]=BD!$L$1,VLOOKUP(Tabla2126363942[[#This Row],[ID]],Tabla19[],4,0),IF(Tabla1325353841[Nivel]=BD!$L$2,VLOOKUP(Tabla2126363942[[#This Row],[ID]],Tabla199[],4,0),VLOOKUP(Tabla2126363942[[#This Row],[ID]],Tabla19912[],4,0))))
B12: =IF(Tabla1325353841[Cant. Salas]="","",IF(B11="","",IF(ISNUMBER(B11)=FALSE,1,IF(B11=Tabla1325353841[Cant. Salas],"",B11+1)))) | C12: =IF(IF(Tabla1228374043[[#This Row],[Orden]]="","",IF(Tabla1325353841[Nivel]=BD!$L$1,'Filtrar Salas Grado Año'!A8,IF(Tabla1325353841[Nivel]=BD!$L$2,'Filtrar Salas Grado Año'!C8,'Filtrar Salas Grado Año'!E8)))="(en blanco)","",IF(Tabla1228374043[[#This Row],[Orden]]="","",IF(Tabla1325353841[Nivel]=BD!$L$1,'Filtrar Salas Grado Año'!A8,IF(Tabla1325353841[Nivel]=BD!$L$2,'Filtrar Salas Grado Año'!C8,'Filtrar Salas Grado Año'!E8)))) | F12: =IF(Tabla1325353841[Cant. Alumnos]>1,IF(F11="","",IF(ISNUMBER(F11)=FALSE,1,IF(F11=Tabla1325353841[Cant. Alumnos],"",F11+1))),"") -> 10 | G12: {=IF(Tabla2126363942[[#This Row],[Contador]]="","",IF(Tabla1325353841[Nivel]=BD!$L$1,IFERROR(SMALL(IF(Tabla19[Sala]=$C$2,Tabla19[ID2]),ROW()-2),""),IF(Tabla1325353841[Nivel]=BD!$L$2,IFERROR(SMALL(IF(Tabla199[Sala]=$C$2,Tabla199[ID2]),ROW()-2),""),IFERROR(SMALL(IF(Tabla19912[Sala]=$C$2,Tabla19912[ID2]),ROW()-2),""))))} | H12: =IF(Tabla2126363942[[#This Row],[ID]]="","",IF(Tabla1325353841[Nivel]=BD!$L$1,VLOOKUP(Tabla2126363942[[#This Row],[ID]],Tabla19[],4,0),IF(Tabla1325353841[Nivel]=BD!$L$2,VLOOKUP(Tabla2126363942[[#This Row],[ID]],Tabla199[],4,0),VLOOKUP(Tabla2126363942[[#This Row],[ID]],Tabla19912[],4,0))))
B13: =IF(Tabla1325353841[Cant. Salas]="","",IF(B12="","",IF(ISNUMBER(B12)=FALSE,1,IF(B12=Tabla1325353841[Cant. Salas],"",B12+1)))) | C13: =IF(IF(Tabla1228374043[[#This Row],[Orden]]="","",IF(Tabla1325353841[Nivel]=BD!$L$1,'Filtrar Salas Grado Año'!A9,IF(Tabla1325353841[Nivel]=BD!$L$2,'Filtrar Salas Grado Año'!C9,'Filtrar Salas Grado Año'!E9)))="(en blanco)","",IF(Tabla1228374043[[#This Row],[Orden]]="","",IF(Tabla1325353841[Nivel]=BD!$L$1,'Filtrar Salas Grado Año'!A9,IF(Tabla1325353841[Nivel]=BD!$L$2,'Filtrar Salas Grado Año'!C9,'Filtrar Salas Grado Año'!E9)))) | F13: =IF(Tabla1325353841[Cant. Alumnos]>1,IF(F12="","",IF(ISNUMBER(F12)=FALSE,1,IF(F12=Tabla1325353841[Cant. Alumnos],"",F12+1))),"") -> 11 | G13: {=IF(Tabla2126363942[[#This Row],[Contador]]="","",IF(Tabla1325353841[Nivel]=BD!$L$1,IFERROR(SMALL(IF(Tabla19[Sala]=$C$2,Tabla19[ID2]),ROW()-2),""),IF(Tabla1325353841[Nivel]=BD!$L$2,IFERROR(SMALL(IF(Tabla199[Sala]=$C$2,Tabla199[ID2]),ROW()-2),""),IFERROR(SMALL(IF(Tabla19912[Sala]=$C$2,Tabla19912[ID2]),ROW()-2),""))))} | H13: =IF(Tabla2126363942[[#This Row],[ID]]="","",IF(Tabla1325353841[Nivel]=BD!$L$1,VLOOKUP(Tabla2126363942[[#This Row],[ID]],Tabla19[],4,0),IF(Tabla1325353841[Nivel]=BD!$L$2,VLOOKUP(Tabla2126363942[[#This Row],[ID]],Tabla199[],4,0),VLOOKUP(Tabla2126363942[[#This Row],[ID]],Tabla19912[],4,0))))
B14: =IF(Tabla1325353841[Cant. Salas]="","",IF(B13="","",IF(ISNUMBER(B13)=FALSE,1,IF(B13=Tabla1325353841[Cant. Salas],"",B13+1)))) | C14: =IF(IF(Tabla1228374043[[#This Row],[Orden]]="","",IF(Tabla1325353841[Nivel]=BD!$L$1,'Filtrar Salas Grado Año'!A10,IF(Tabla1325353841[Nivel]=BD!$L$2,'Filtrar Salas Grado Año'!C10,'Filtrar Salas Grado Año'!E10)))="(en blanco)","",IF(Tabla1228374043[[#This Row],[Orden]]="","",IF(Tabla1325353841[Nivel]=BD!$L$1,'Filtrar Salas Grado Año'!A10,IF(Tabla1325353841[Nivel]=BD!$L$2,'Filtrar Salas Grado Año'!C10,'Filtrar Salas Grado Año'!E10)))) | F14: =IF(Tabla1325353841[Cant. Alumnos]>1,IF(F13="","",IF(ISNUMBER(F13)=FALSE,1,IF(F13=Tabla1325353841[Cant. Alumnos],"",F13+1))),"") -> 12 | G14: {=IF(Tabla2126363942[[#This Row],[Contador]]="","",IF(Tabla1325353841[Nivel]=BD!$L$1,IFERROR(SMALL(IF(Tabla19[Sala]=$C$2,Tabla19[ID2]),ROW()-2),""),IF(Tabla1325353841[Nivel]=BD!$L$2,IFERROR(SMALL(IF(Tabla199[Sala]=$C$2,Tabla199[ID2]),ROW()-2),""),IFERROR(SMALL(IF(Tabla19912[Sala]=$C$2,Tabla19912[ID2]),ROW()-2),""))))} | H14: =IF(Tabla2126363942[[#This Row],[ID]]="","",IF(Tabla1325353841[Nivel]=BD!$L$1,VLOOKUP(Tabla2126363942[[#This Row],[ID]],Tabla19[],4,0),IF(Tabla1325353841[Nivel]=BD!$L$2,VLOOKUP(Tabla2126363942[[#This Row],[ID]],Tabla199[],4,0),VLOOKUP(Tabla2126363942[[#This Row],[ID]],Tabla19912[],4,0))))
B15: =IF(Tabla1325353841[Cant. Salas]="","",IF(B14="","",IF(ISNUMBER(B14)=FALSE,1,IF(B14=Tabla1325353841[Cant. Salas],"",B14+1)))) | C15: =IF(IF(Tabla1228374043[[#This Row],[Orden]]="","",IF(Tabla1325353841[Nivel]=BD!$L$1,'Filtrar Salas Grado Año'!A11,IF(Tabla1325353841[Nivel]=BD!$L$2,'Filtrar Salas Grado Año'!C11,'Filtrar Salas Grado Año'!E11)))="(en blanco)","",IF(Tabla1228374043[[#This Row],[Orden]]="","",IF(Tabla1325353841[Nivel]=BD!$L$1,'Filtrar Salas Grado Año'!A11,IF(Tabla1325353841[Nivel]=BD!$L$2,'Filtrar Salas Grado Año'!C11,'Filtrar Salas Grado Año'!E11)))) | F15: =IF(Tabla1325353841[Cant. Alumnos]>1,IF(F14="","",IF(ISNUMBER(F14)=FALSE,1,IF(F14=Tabla1325353841[Cant. Alumnos],"",F14+1))),"") -> 13 | G15: {=IF(Tabla2126363942[[#This Row],[Contador]]="","",IF(Tabla1325353841[Nivel]=BD!$L$1,IFERROR(SMALL(IF(Tabla19[Sala]=$C$2,Tabla19[ID2]),ROW()-2),""),IF(Tabla1325353841[Nivel]=BD!$L$2,IFERROR(SMALL(IF(Tabla199[Sala]=$C$2,Tabla199[ID2]),ROW()-2),""),IFERROR(SMALL(IF(Tabla19912[Sala]=$C$2,Tabla19912[ID2]),ROW()-2),""))))} | H15: =IF(Tabla2126363942[[#This Row],[ID]]="","",IF(Tabla1325353841[Nivel]=BD!$L$1,VLOOKUP(Tabla2126363942[[#This Row],[ID]],Tabla19[],4,0),IF(Tabla1325353841[Nivel]=BD!$L$2,VLOOKUP(Tabla2126363942[[#This Row],[ID]],Tabla199[],4,0),VLOOKUP(Tabla2126363942[[#This Row],[ID]],Tabla19912[],4,0))))
B16: =IF(Tabla1325353841[Cant. Salas]="","",IF(B15="","",IF(ISNUMBER(B15)=FALSE,1,IF(B15=Tabla1325353841[Cant. Salas],"",B15+1)))) | C16: =IF(IF(Tabla1228374043[[#This Row],[Orden]]="","",IF(Tabla1325353841[Nivel]=BD!$L$1,'Filtrar Salas Grado Año'!A12,IF(Tabla1325353841[Nivel]=BD!$L$2,'Filtrar Salas Grado Año'!C12,'Filtrar Salas Grado Año'!E12)))="(en blanco)","",IF(Tabla1228374043[[#This Row],[Orden]]="","",IF(Tabla1325353841[Nivel]=BD!$L$1,'Filtrar Salas Grado Año'!A12,IF(Tabla1325353841[Nivel]=BD!$L$2,'Filtrar Salas Grado Año'!C12,'Filtrar Salas Grado Año'!E12)))) | F16: =IF(Tabla1325353841[Cant. Alumnos]>1,IF(F15="","",IF(ISNUMBER(F15)=FALSE,1,IF(F15=Tabla1325353841[Cant. Alumnos],"",F15+1))),"") -> 14 | G16: {=IF(Tabla2126363942[[#This Row],[Contador]]="","",IF(Tabla1325353841[Nivel]=BD!$L$1,IFERROR(SMALL(IF(Tabla19[Sala]=$C$2,Tabla19[ID2]),ROW()-2),""),IF(Tabla1325353841[Nivel]=BD!$L$2,IFERROR(SMALL(IF(Tabla199[Sala]=$C$2,Tabla199[ID2]),ROW()-2),""),IFERROR(SMALL(IF(Tabla19912[Sala]=$C$2,Tabla19912[ID2]),ROW()-2),""))))} | H16: =IF(Tabla2126363942[[#This Row],[ID]]="","",IF(Tabla1325353841[Nivel]=BD!$L$1,VLOOKUP(Tabla2126363942[[#This Row],[ID]],Tabla19[],4,0),IF(Tabla1325353841[Nivel]=BD!$L$2,VLOOKUP(Tabla2126363942[[#This Row],[ID]],Tabla199[],4,0),VLOOKUP(Tabla2126363942[[#This Row],[ID]],Tabla19912[],4,0))))
B17: =IF(Tabla1325353841[Cant. Salas]="","",IF(B16="","",IF(ISNUMBER(B16)=FALSE,1,IF(B16=Tabla1325353841[Cant. Salas],"",B16+1)))) | C17: =IF(IF(Tabla1228374043[[#This Row],[Orden]]="","",IF(Tabla1325353841[Nivel]=BD!$L$1,'Filtrar Salas Grado Año'!A13,IF(Tabla1325353841[Nivel]=BD!$L$2,'Filtrar Salas Grado Año'!C13,'Filtrar Salas Grado Año'!E13)))="(en blanco)","",IF(Tabla1228374043[[#This Row],[Orden]]="","",IF(Tabla1325353841[Nivel]=BD!$L$1,'Filtrar Salas Grado Año'!A13,IF(Tabla1325353841[Nivel]=BD!$L$2,'Filtrar Salas Grado Año'!C13,'Filtrar Salas Grado Año'!E13)))) | F17: =IF(Tabla1325353841[Cant. Alumnos]>1,IF(F16="","",IF(ISNUMBER(F16)=FALSE,1,IF(F16=Tabla1325353841[Cant. Alumnos],"",F16+1))),"") -> 15 | G17: {=IF(Tabla2126363942[[#This Row],[Contador]]="","",IF(Tabla1325353841[Nivel]=BD!$L$1,IFERROR(SMALL(IF(Tabla19[Sala]=$C$2,Tabla19[ID2]),ROW()-2),""),IF(Tabla1325353841[Nivel]=BD!$L$2,IFERROR(SMALL(IF(Tabla199[Sala]=$C$2,Tabla199[ID2]),ROW()-2),""),IFERROR(SMALL(IF(Tabla19912[Sala]=$C$2,Tabla19912[ID2]),ROW()-2),""))))} | H17: =IF(Tabla2126363942[[#This Row],[ID]]="","",IF(Tabla1325353841[Nivel]=BD!$L$1,VLOOKUP(Tabla2126363942[[#This Row],[ID]],Tabla19[],4,0),IF(Tabla1325353841[Nivel]=BD!$L$2,VLOOKUP(Tabla2126363942[[#This Row],[ID]],Tabla199[],4,0),VLOOKUP(Tabla2126363942[[#This Row],[ID]],Tabla19912[],4,0))))
B18: =IF(Tabla1325353841[Cant. Salas]="","",IF(B17="","",IF(ISNUMBER(B17)=FALSE,1,IF(B17=Tabla1325353841[Cant. Salas],"",B17+1)))) | C18: =IF(IF(Tabla1228374043[[#This Row],[Orden]]="","",IF(Tabla1325353841[Nivel]=BD!$L$1,'Filtrar Salas Grado Año'!A14,IF(Tabla1325353841[Nivel]=BD!$L$2,'Filtrar Salas Grado Año'!C14,'Filtrar Salas Grado Año'!E14)))="(en blanco)","",IF(Tabla1228374043[[#This Row],[Orden]]="","",IF(Tabla1325353841[Nivel]=BD!$L$1,'Filtrar Salas Grado Año'!A14,IF(Tabla1325353841[Nivel]=BD!$L$2,'Filtrar Salas Grado Año'!C14,'Filtrar Salas Grado Año'!E14)))) | F18: =IF(Tabla1325353841[Cant. Alumnos]>1,IF(F17="","",IF(ISNUMBER(F17)=FALSE,1,IF(F17=Tabla1325353841[Cant. Alumnos],"",F17+1))),"") -> 16 | G18: {=IF(Tabla2126363942[[#This Row],[Contador]]="","",IF(Tabla1325353841[Nivel]=BD!$L$1,IFERROR(SMALL(IF(Tabla19[Sala]=$C$2,Tabla19[ID2]),ROW()-2),""),IF(Tabla1325353841[Nivel]=BD!$L$2,IFERROR(SMALL(IF(Tabla199[Sala]=$C$2,Tabla199[ID2]),ROW()-2),""),IFERROR(SMALL(IF(Tabla19912[Sala]=$C$2,Tabla19912[ID2]),ROW()-2),""))))} | H18: =IF(Tabla2126363942[[#This Row],[ID]]="","",IF(Tabla1325353841[Nivel]=BD!$L$1,VLOOKUP(Tabla2126363942[[#This Row],[ID]],Tabla19[],4,0),IF(Tabla1325353841[Nivel]=BD!$L$2,VLOOKUP(Tabla2126363942[[#This Row],[ID]],Tabla199[],4,0),VLOOKUP(Tabla2126363942[[#This Row],[ID]],Tabla19912[],4,0))))
... B29: =IF(Tabla1325353841[Cant. Salas]="","",IF(B28="","",IF(ISNUMBER(B28)=FALSE,1,IF(B28=Tabla1325353841[Cant. Salas],"",B28+1)))) | C29: =IF(IF(Tabla1228374043[[#This Row],[Orden]]="","",IF(Tabla1325353841[Nivel]=BD!$L$1,'Filtrar Salas Grado Año'!A25,IF(Tabla1325353841[Nivel]=BD!$L$2,'Filtrar Salas Grado Año'!C25,'Filtrar Salas Grado Año'!E25)))="(en blanco)","",IF(Tabla1228374043[[#This Row],[Orden]]="","",IF(Tabla1325353841[Nivel]=BD!$L$1,'Filtrar Salas Grado Año'!A25,IF(Tabla1325353841[Nivel]=BD!$L$2,'Filtrar Salas Grado Año'!C25,'Filtrar Salas Grado Año'!E25)))) | F29: =IF(Tabla1325353841[Cant. Alumnos]>1,IF(F28="","",IF(ISNUMBER(F28)=FALSE,1,IF(F28=Tabla1325353841[Cant. Alumnos],"",F28+1))),"") -> 27 | G29: {=IF(Tabla2126363942[[#This Row],[Contador]]="","",IF(Tabla1325353841[Nivel]=BD!$L$1,IFERROR(SMALL(IF(Tabla19[Sala]=$C$2,Tabla19[ID2]),ROW()-2),""),IF(Tabla1325353841[Nivel]=BD!$L$2,IFERROR(SMALL(IF(Tabla199[Sala]=$C$2,Tabla199[ID2]),ROW()-2),""),IFERROR(SMALL(IF(Tabla19912[Sala]=$C$2,Tabla19912[ID2]),ROW()-2),""))))} | H29: =IF(Tabla2126363942[[#This Row],[ID]]="","",IF(Tabla1325353841[Nivel]=BD!$L$1,VLOOKUP(Tabla2126363942[[#This Row],[ID]],Tabla19[],4,0),IF(Tabla1325353841[Nivel]=BD!$L$2,VLOOKUP(Tabla2126363942[[#This Row],[ID]],Tabla199[],4,0),VLOOKUP(Tabla2126363942[[#This Row],[ID]],Tabla19912[],4,0))))
F30: =IF(Tabla1325353841[Cant. Alumnos]>1,IF(F29="","",IF(ISNUMBER(F29)=FALSE,1,IF(F29=Tabla1325353841[Cant. Alumnos],"",F29+1))),"") -> 28 | G30: {=IF(Tabla2126363942[[#This Row],[Contador]]="","",IF(Tabla1325353841[Nivel]=BD!$L$1,IFERROR(SMALL(IF(Tabla19[Sala]=$C$2,Tabla19[ID2]),ROW()-2),""),IF(Tabla1325353841[Nivel]=BD!$L$2,IFERROR(SMALL(IF(Tabla199[Sala]=$C$2,Tabla199[ID2]),ROW()-2),""),IFERROR(SMALL(IF(Tabla19912[Sala]=$C$2,Tabla19912[ID2]),ROW()-2),""))))} | H30: =IF(Tabla2126363942[[#This Row],[ID]]="","",IF(Tabla1325353841[Nivel]=BD!$L$1,VLOOKUP(Tabla2126363942[[#This Row],[ID]],Tabla19[],4,0),IF(Tabla1325353841[Nivel]=BD!$L$2,VLOOKUP(Tabla2126363942[[#This Row],[ID]],Tabla199[],4,0),VLOOKUP(Tabla2126363942[[#This Row],[ID]],Tabla19912[],4,0))))
F31: =IF(Tabla1325353841[Cant. Alumnos]>1,IF(F30="","",IF(ISNUMBER(F30)=FALSE,1,IF(F30=Tabla1325353841[Cant. Alumnos],"",F30+1))),"") -> 29 | G31: {=IF(Tabla2126363942[[#This Row],[Contador]]="","",IF(Tabla1325353841[Nivel]=BD!$L$1,IFERROR(SMALL(IF(Tabla19[Sala]=$C$2,Tabla19[ID2]),ROW()-2),""),IF(Tabla1325353841[Nivel]=BD!$L$2,IFERROR(SMALL(IF(Tabla199[Sala]=$C$2,Tabla199[ID2]),ROW()-2),""),IFERROR(SMALL(IF(Tabla19912[Sala]=$C$2,Tabla19912[ID2]),ROW()-2),""))))} | H31: =IF(Tabla2126363942[[#This Row],[ID]]="","",IF(Tabla1325353841[Nivel]=BD!$L$1,VLOOKUP(Tabla2126363942[[#This Row],[ID]],Tabla19[],4,0),IF(Tabla1325353841[Nivel]=BD!$L$2,VLOOKUP(Tabla2126363942[[#This Row],[ID]],Tabla199[],4,0),VLOOKUP(Tabla2126363942[[#This Row],[ID]],Tabla19912[],4,0))))
F32: =IF(Tabla1325353841[Cant. Alumnos]>1,IF(F31="","",IF(ISNUMBER(F31)=FALSE,1,IF(F31=Tabla1325353841[Cant. Alumnos],"",F31+1))),"") -> 30 | G32: {=IF(Tabla2126363942[[#This Row],[Contador]]="","",IF(Tabla1325353841[Nivel]=BD!$L$1,IFERROR(SMALL(IF(Tabla19[Sala]=$C$2,Tabla19[ID2]),ROW()-2),""),IF(Tabla1325353841[Nivel]=BD!$L$2,IFERROR(SMALL(IF(Tabla199[Sala]=$C$2,Tabla199[ID2]),ROW()-2),""),IFERROR(SMALL(IF(Tabla19912[Sala]=$C$2,Tabla19912[ID2]),ROW()-2),""))))} | H32: =IF(Tabla2126363942[[#This Row],[ID]]="","",IF(Tabla1325353841[Nivel]=BD!$L$1,VLOOKUP(Tabla2126363942[[#This Row],[ID]],Tabla19[],4,0),IF(Tabla1325353841[Nivel]=BD!$L$2,VLOOKUP(Tabla2126363942[[#This Row],[ID]],Tabla199[],4,0),VLOOKUP(Tabla2126363942[[#This Row],[ID]],Tabla19912[],4,0))))
F33: =IF(Tabla1325353841[Cant. Alumnos]>1,IF(F32="","",IF(ISNUMBER(F32)=FALSE,1,IF(F32=Tabla1325353841[Cant. Alumnos],"",F32+1))),"") -> 31 | G33: {=IF(Tabla2126363942[[#This Row],[Contador]]="","",IF(Tabla1325353841[Nivel]=BD!$L$1,IFERROR(SMALL(IF(Tabla19[Sala]=$C$2,Tabla19[ID2]),ROW()-2),""),IF(Tabla1325353841[Nivel]=BD!$L$2,IFERROR(SMALL(IF(Tabla199[Sala]=$C$2,Tabla199[ID2]),ROW()-2),""),IFERROR(SMALL(IF(Tabla19912[Sala]=$C$2,Tabla19912[ID2]),ROW()-2),""))))} | H33: =IF(Tabla2126363942[[#This Row],[ID]]="","",IF(Tabla1325353841[Nivel]=BD!$L$1,VLOOKUP(Tabla2126363942[[#This Row],[ID]],Tabla19[],4,0),IF(Tabla1325353841[Nivel]=BD!$L$2,VLOOKUP(Tabla2126363942[[#This Row],[ID]],Tabla199[],4,0),VLOOKUP(Tabla2126363942[[#This Row],[ID]],Tabla19912[],4,0))))
F34: =IF(Tabla1325353841[Cant. Alumnos]>1,IF(F33="","",IF(ISNUMBER(F33)=FALSE,1,IF(F33=Tabla1325353841[Cant. Alumnos],"",F33+1))),"") -> 32 | G34: {=IF(Tabla2126363942[[#This Row],[Contador]]="","",IF(Tabla1325353841[Nivel]=BD!$L$1,IFERROR(SMALL(IF(Tabla19[Sala]=$C$2,Tabla19[ID2]),ROW()-2),""),IF(Tabla1325353841[Nivel]=BD!$L$2,IFERROR(SMALL(IF(Tabla199[Sala]=$C$2,Tabla199[ID2]),ROW()-2),""),IFERROR(SMALL(IF(Tabla19912[Sala]=$C$2,Tabla19912[ID2]),ROW()-2),""))))} | H34: =IF(Tabla2126363942[[#This Row],[ID]]="","",IF(Tabla1325353841[Nivel]=BD!$L$1,VLOOKUP(Tabla2126363942[[#This Row],[ID]],Tabla19[],4,0),IF(Tabla1325353841[Nivel]=BD!$L$2,VLOOKUP(Tabla2126363942[[#This Row],[ID]],Tabla199[],4,0),VLOOKUP(Tabla2126363942[[#This Row],[ID]],Tabla19912[],4,0))))
F35: =IF(Tabla1325353841[Cant. Alumnos]>1,IF(F34="","",IF(ISNUMBER(F34)=FALSE,1,IF(F34=Tabla1325353841[Cant. Alumnos],"",F34+1))),"") -> 33 | G35: {=IF(Tabla2126363942[[#This Row],[Contador]]="","",IF(Tabla1325353841[Nivel]=BD!$L$1,IFERROR(SMALL(IF(Tabla19[Sala]=$C$2,Tabla19[ID2]),ROW()-2),""),IF(Tabla1325353841[Nivel]=BD!$L$2,IFERROR(SMALL(IF(Tabla199[Sala]=$C$2,Tabla199[ID2]),ROW()-2),""),IFERROR(SMALL(IF(Tabla19912[Sala]=$C$2,Tabla19912[ID2]),ROW()-2),""))))} | H35: =IF(Tabla2126363942[[#This Row],[ID]]="","",IF(Tabla1325353841[Nivel]=BD!$L$1,VLOOKUP(Tabla2126363942[[#This Row],[ID]],Tabla19[],4,0),IF(Tabla1325353841[Nivel]=BD!$L$2,VLOOKUP(Tabla2126363942[[#This Row],[ID]],Tabla199[],4,0),VLOOKUP(Tabla2126363942[[#This Row],[ID]],Tabla19912[],4,0))))
F36: =IF(Tabla1325353841[Cant. Alumnos]>1,IF(F35="","",IF(ISNUMBER(F35)=FALSE,1,IF(F35=Tabla1325353841[Cant. Alumnos],"",F35+1))),"") -> 34 | G36: {=IF(Tabla2126363942[[#This Row],[Contador]]="","",IF(Tabla1325353841[Nivel]=BD!$L$1,IFERROR(SMALL(IF(Tabla19[Sala]=$C$2,Tabla19[ID2]),ROW()-2),""),IF(Tabla1325353841[Nivel]=BD!$L$2,IFERROR(SMALL(IF(Tabla199[Sala]=$C$2,Tabla199[ID2]),ROW()-2),""),IFERROR(SMALL(IF(Tabla19912[Sala]=$C$2,Tabla19912[ID2]),ROW()-2),""))))} | H36: =IF(Tabla2126363942[[#This Row],[ID]]="","",IF(Tabla1325353841[Nivel]=BD!$L$1,VLOOKUP(Tabla2126363942[[#This Row],[ID]],Tabla19[],4,0),IF(Tabla1325353841[Nivel]=BD!$L$2,VLOOKUP(Tabla2126363942[[#This Row],[ID]],Tabla199[],4,0),VLOOKUP(Tabla2126363942[[#This Row],[ID]],Tabla19912[],4,0))))
F37: =IF(Tabla1325353841[Cant. Alumnos]>1,IF(F36="","",IF(ISNUMBER(F36)=FALSE,1,IF(F36=Tabla1325353841[Cant. Alumnos],"",F36+1))),"") -> 35 | G37: {=IF(Tabla2126363942[[#This Row],[Contador]]="","",IF(Tabla1325353841[Nivel]=BD!$L$1,IFERROR(SMALL(IF(Tabla19[Sala]=$C$2,Tabla19[ID2]),ROW()-2),""),IF(Tabla1325353841[Nivel]=BD!$L$2,IFERROR(SMALL(IF(Tabla199[Sala]=$C$2,Tabla199[ID2]),ROW()-2),""),IFERROR(SMALL(IF(Tabla19912[Sala]=$C$2,Tabla19912[ID2]),ROW()-2),""))))} | H37: =IF(Tabla2126363942[[#This Row],[ID]]="","",IF(Tabla1325353841[Nivel]=BD!$L$1,VLOOKUP(Tabla2126363942[[#This Row],[ID]],Tabla19[],4,0),IF(Tabla1325353841[Nivel]=BD!$L$2,VLOOKUP(Tabla2126363942[[#This Row],[ID]],Tabla199[],4,0),VLOOKUP(Tabla2126363942[[#This Row],[ID]],Tabla19912[],4,0))))
F38: =IF(Tabla1325353841[Cant. Alumnos]>1,IF(F37="","",IF(ISNUMBER(F37)=FALSE,1,IF(F37=Tabla1325353841[Cant. Alumnos],"",F37+1))),"") -> 36 | G38: {=IF(Tabla2126363942[[#This Row],[Contador]]="","",IF(Tabla1325353841[Nivel]=BD!$L$1,IFERROR(SMALL(IF(Tabla19[Sala]=$C$2,Tabla19[ID2]),ROW()-2),""),IF(Tabla1325353841[Nivel]=BD!$L$2,IFERROR(SMALL(IF(Tabla199[Sala]=$C$2,Tabla199[ID2]),ROW()-2),""),IFERROR(SMALL(IF(Tabla19912[Sala]=$C$2,Tabla19912[ID2]),ROW()-2),""))))} | H38: =IF(Tabla2126363942[[#This Row],[ID]]="","",IF(Tabla1325353841[Nivel]=BD!$L$1,VLOOKUP(Tabla2126363942[[#This Row],[ID]],Tabla19[],4,0),IF(Tabla1325353841[Nivel]=BD!$L$2,VLOOKUP(Tabla2126363942[[#This Row],[ID]],Tabla199[],4,0),VLOOKUP(Tabla2126363942[[#This Row],[ID]],Tabla19912[],4,0))))
F39: =IF(Tabla1325353841[Cant. Alumnos]>1,IF(F38="","",IF(ISNUMBER(F38)=FALSE,1,IF(F38=Tabla1325353841[Cant. Alumnos],"",F38+1))),"") -> 37 | G39: {=IF(Tabla2126363942[[#This Row],[Contador]]="","",IF(Tabla1325353841[Nivel]=BD!$L$1,IFERROR(SMALL(IF(Tabla19[Sala]=$C$2,Tabla19[ID2]),ROW()-2),""),IF(Tabla1325353841[Nivel]=BD!$L$2,IFERROR(SMALL(IF(Tabla199[Sala]=$C$2,Tabla199[ID2]),ROW()-2),""),IFERROR(SMALL(IF(Tabla19912[Sala]=$C$2,Tabla19912[ID2]),ROW()-2),""))))} | H39: =IF(Tabla2126363942[[#This Row],[ID]]="","",IF(Tabla1325353841[Nivel]=BD!$L$1,VLOOKUP(Tabla2126363942[[#This Row],[ID]],Tabla19[],4,0),IF(Tabla1325353841[Nivel]=BD!$L$2,VLOOKUP(Tabla2126363942[[#This Row],[ID]],Tabla199[],4,0),VLOOKUP(Tabla2126363942[[#This Row],[ID]],Tabla19912[],4,0))))
F40: =IF(Tabla1325353841[Cant. Alumnos]>1,IF(F39="","",IF(ISNUMBER(F39)=FALSE,1,IF(F39=Tabla1325353841[Cant. Alumnos],"",F39+1))),"") -> 38 | G40: {=IF(Tabla2126363942[[#This Row],[Contador]]="","",IF(Tabla1325353841[Nivel]=BD!$L$1,IFERROR(SMALL(IF(Tabla19[Sala]=$C$2,Tabla19[ID2]),ROW()-2),""),IF(Tabla1325353841[Nivel]=BD!$L$2,IFERROR(SMALL(IF(Tabla199[Sala]=$C$2,Tabla199[ID2]),ROW()-2),""),IFERROR(SMALL(IF(Tabla19912[Sala]=$C$2,Tabla19912[ID2]),ROW()-2),""))))} | H40: =IF(Tabla2126363942[[#This Row],[ID]]="","",IF(Tabla1325353841[Nivel]=BD!$L$1,VLOOKUP(Tabla2126363942[[#This Row],[ID]],Tabla19[],4,0),IF(Tabla1325353841[Nivel]=BD!$L$2,VLOOKUP(Tabla2126363942[[#This Row],[ID]],Tabla199[],4,0),VLOOKUP(Tabla2126363942[[#This Row],[ID]],Tabla19912[],4,0))))
F41: =IF(Tabla1325353841[Cant. Alumnos]>1,IF(F40="","",IF(ISNUMBER(F40)=FALSE,1,IF(F40=Tabla1325353841[Cant. Alumnos],"",F40+1))),"") -> 39 | G41: {=IF(Tabla2126363942[[#This Row],[Contador]]="","",IF(Tabla1325353841[Nivel]=BD!$L$1,IFERROR(SMALL(IF(Tabla19[Sala]=$C$2,Tabla19[ID2]),ROW()-2),""),IF(Tabla1325353841[Nivel]=BD!$L$2,IFERROR(SMALL(IF(Tabla199[Sala]=$C$2,Tabla199[ID2]),ROW()-2),""),IFERROR(SMALL(IF(Tabla19912[Sala]=$C$2,Tabla19912[ID2]),ROW()-2),""))))} | H41: =IF(Tabla2126363942[[#This Row],[ID]]="","",IF(Tabla1325353841[Nivel]=BD!$L$1,VLOOKUP(Tabla2126363942[[#This Row],[ID]],Tabla19[],4,0),IF(Tabla1325353841[Nivel]=BD!$L$2,VLOOKUP(Tabla2126363942[[#This Row],[ID]],Tabla199[],4,0),VLOOKUP(Tabla2126363942[[#This Row],[ID]],Tabla19912[],4,0))))
... F61: =IF(Tabla1325353841[Cant. Alumnos]>1,IF(F60="","",IF(ISNUMBER(F60)=FALSE,1,IF(F60=Tabla1325353841[Cant. Alumnos],"",F60+1))),"") -> 59 | G61: {=IF(Tabla2126363942[[#This Row],[Contador]]="","",IF(Tabla1325353841[Nivel]=BD!$L$1,IFERROR(SMALL(IF(Tabla19[Sala]=$C$2,Tabla19[ID2]),ROW()-2),""),IF(Tabla1325353841[Nivel]=BD!$L$2,IFERROR(SMALL(IF(Tabla199[Sala]=$C$2,Tabla199[ID2]),ROW()-2),""),IFERROR(SMALL(IF(Tabla19912[Sala]=$C$2,Tabla19912[ID2]),ROW()-2),""))))} | H61: =IF(Tabla2126363942[[#This Row],[ID]]="","",IF(Tabla1325353841[Nivel]=BD!$L$1,VLOOKUP(Tabla2126363942[[#This Row],[ID]],Tabla19[],4,0),IF(Tabla1325353841[Nivel]=BD!$L$2,VLOOKUP(Tabla2126363942[[#This Row],[ID]],Tabla199[],4,0),VLOOKUP(Tabla2126363942[[#This Row],[ID]],Tabla19912[],4,0))))

Sheet Filtrar Salas Grado Año
B1: Cant. Salas | D1: Cant. Salas | F1: Cant. Salas
B2: =COUNTA(A:A) -> 8 | D2: =COUNTA(C:C) -> 12 | F2: =COUNTA(E:E) -> 15
A3: K2A | C3: 6 | E3: 1SA
A4: K2B | C4: 1A | E4: 1SB
A5: K3A | C5: 1B | E5: 2S
A6: K3B | C6: 2A | E6: 3SA
A7: K4A | C7: 2B | E7: 3SB
A8: K4B | C8: 2C | E8: 4 CHINO
A9: K5A | C9: 3A | E9: 4 INDUMENTARIA
A10: K5B | C10: 3B | E10: 4 INDUSTRIAL
C11: 4A | E11: 4 PORT
C12: 4B | E12: 4E
C13: 5A | E13: 4S
C14: 5B | E14: 5S
E15: 5SE
E16: 6S
E17: 6SE
